BEGIN:VCALENDAR
VERSION:2.0
PRODID:-//At God&#039;s Door Ministries - ECPv6.15.13//NONSGML v1.0//EN
CALSCALE:GREGORIAN
METHOD:PUBLISH
X-WR-CALNAME:At God&#039;s Door Ministries
X-ORIGINAL-URL:https://yourvisionwriters.com
X-WR-CALDESC:Events for At God&#039;s Door Ministries
REFRESH-INTERVAL;VALUE=DURATION:PT1H
X-Robots-Tag:noindex
X-PUBLISHED-TTL:PT1H
BEGIN:VTIMEZONE
TZID:America/Chicago
BEGIN:DAYLIGHT
TZOFFSETFROM:-0600
TZOFFSETTO:-0500
TZNAME:CDT
DTSTART:20250309T080000
END:DAYLIGHT
BEGIN:STANDARD
TZOFFSETFROM:-0500
TZOFFSETTO:-0600
TZNAME:CST
DTSTART:20251102T070000
END:STANDARD
BEGIN:DAYLIGHT
TZOFFSETFROM:-0600
TZOFFSETTO:-0500
TZNAME:CDT
DTSTART:20260308T080000
END:DAYLIGHT
BEGIN:STANDARD
TZOFFSETFROM:-0500
TZOFFSETTO:-0600
TZNAME:CST
DTSTART:20261101T070000
END:STANDARD
BEGIN:DAYLIGHT
TZOFFSETFROM:-0600
TZOFFSETTO:-0500
TZNAME:CDT
DTSTART:20270314T080000
END:DAYLIGHT
BEGIN:STANDARD
TZOFFSETFROM:-0500
TZOFFSETTO:-0600
TZNAME:CST
DTSTART:20271107T070000
END:STANDARD
END:VTIMEZONE
BEGIN:VEVENT
DTSTART;VALUE=DATE:20260101
DTEND;VALUE=DATE:20260102
DTSTAMP:20260423T202708
CREATED:20251216T115804Z
LAST-MODIFIED:20260113T115422Z
UID:10000001-1767225600-1767311999@yourvisionwriters.com
SUMMARY:Hebrews 12:1
DESCRIPTION:Hebrews 12:1 So now the stage is set for us: all these faith-heroes cheer us on\, as it were\, like a great multitude of spectators in the amphitheater. This is our moment. As with an athlete who is determined to win\, it would be silly to carry any baggage of the old law-system that would weigh one down. Make sure you do not get your feet clogged up with sin-consciousness. Become absolutely streamlined in faith. Run the race of your spiritual life with total persuasion. (TMB) \nAre you asking the Father to teach your hands to war? \nDo you ever stop to think about your life and make sense of all you have experienced? Did you realize you are in a war? However difficult it may be to grasp\, it is still true. Whether or not you are asking God\, He is still teaching you to war effectively. He spells it out in scripture. \n\nHe is teaching you who you are at war with\, not people.\n\nEphesians 6:12 For we wrestle not against flesh and blood\, but against principalities\, against powers\, against the rulers of the darkness of this world\, against spiritual wickedness in high places. (KJV) \n\nHe is teaching you what the enemy uses against you\, your own desires.\n\n1 John 2:16 Practically everything that goes on in the world—wanting your own way\, wanting everything for yourself\, wanting to appear important—has nothing to do with the Father. It just isolates you from him. (MSG) \n\nHe is teaching you when you should be ready. Not after being attacked\, you should be ready always.\n\n1 Peter 5:8 Be well balanced (temperate\, sober of mind)\, be vigilant and cautious at all times; for that enemy of yours\, the devil\, roams around like a lion roaring [in fierce hunger]\, seeking someone to seize upon and devour. (AMPC) \n\nHe is teaching you where the battle is. It is in your understanding of who God is and what He says.\n\nGenesis 3:1\, 4-5 Now the serpent was more crafty (subtle\, skilled in deceit) than any living creature of the field which the Lord God had made. And the serpent (Satan) said to the woman\, “Can it really be that God has said\, ‘You shall not eat from any tree of the garden’?” 4 But the serpent said to the woman\, “You certainly will not die! 5 For God knows that on the day you eat from it your eyes will be opened [that is\, you will have greater awareness]\, and you will be like God\, knowing [the difference between] good and evil.” (AMP) \n\nHe is teaching you how.\n\nEphesians 6:13-18 Wherefore take unto you the whole armour of God\, that ye may be able to withstand in the evil day\, and having done all\, to stand.14 Stand therefore\, having your loins girt about with truth\, and having on the breastplate of righteousness; 15 And your feet shod with the preparation of the gospel of peace; 16 Above all\, taking the shield of faith\, wherewith ye shall be able to quench all the fiery darts of the wicked. 17 And take the helmet of salvation\, and the sword of the Spirit\, which is the word of God: 18 Praying always with all prayer and supplication in the Spirit\, and watching thereunto with all perseverance and supplication for all saints. (KJV) \nThe enemy’s job is to steal what God has for you; kill your faith; and destroy all your hopes to receive God’s promises for your life. Your job is to understand where the battle is\, and fight with the weapons God has provided. Engage! Live a life that sets someone else free. \nPlease agree with me as I pray. Then ask the Lord what your prayer should be and wait for His response: \n\nFather\, in the name of Jesus\, I come before You\, thanking You for making me aware of my responsibilities. I repent for the days when I shirked them to do what I wanted. I ask You to reorder my life\, my thoughts\, and my actions\, as I can engage in the war for my soul and the souls of others. My desire is for You to get the glory out of my life and You would use me to save a dying world… \n\nAsk the lord what he wants to say to you about today’s devotional and journal it here:  
URL:https://yourvisionwriters.com/devotional/hebrews-121/
CATEGORIES:January
END:VEVENT
END:VCALENDAR