BEGIN:VCALENDAR
VERSION:2.0
PRODID:-//At God&#039;s Door Ministries - ECPv6.15.13//NONSGML v1.0//EN
CALSCALE:GREGORIAN
METHOD:PUBLISH
X-ORIGINAL-URL:https://yourvisionwriters.com
X-WR-CALDESC:Events for At God&#039;s Door Ministries
REFRESH-INTERVAL;VALUE=DURATION:PT1H
X-Robots-Tag:noindex
X-PUBLISHED-TTL:PT1H
BEGIN:VTIMEZONE
TZID:America/Chicago
BEGIN:DAYLIGHT
TZOFFSETFROM:-0600
TZOFFSETTO:-0500
TZNAME:CDT
DTSTART:20250309T080000
END:DAYLIGHT
BEGIN:STANDARD
TZOFFSETFROM:-0500
TZOFFSETTO:-0600
TZNAME:CST
DTSTART:20251102T070000
END:STANDARD
BEGIN:DAYLIGHT
TZOFFSETFROM:-0600
TZOFFSETTO:-0500
TZNAME:CDT
DTSTART:20260308T080000
END:DAYLIGHT
BEGIN:STANDARD
TZOFFSETFROM:-0500
TZOFFSETTO:-0600
TZNAME:CST
DTSTART:20261101T070000
END:STANDARD
BEGIN:DAYLIGHT
TZOFFSETFROM:-0600
TZOFFSETTO:-0500
TZNAME:CDT
DTSTART:20270314T080000
END:DAYLIGHT
BEGIN:STANDARD
TZOFFSETFROM:-0500
TZOFFSETTO:-0600
TZNAME:CST
DTSTART:20271107T070000
END:STANDARD
END:VTIMEZONE
BEGIN:VEVENT
DTSTART;VALUE=DATE:20260104
DTEND;VALUE=DATE:20260105
DTSTAMP:20260423T202808
CREATED:20251219T041801Z
LAST-MODIFIED:20260113T115422Z
UID:10000004-1767484800-1767571199@yourvisionwriters.com
SUMMARY:Matthew 16:17
DESCRIPTION:Matthew 16:17 And Jesus answered and said unto him\, Blessed art thou\, Simon Barjona: for flesh and blood hath not revealed it unto thee\, but my Father which is in heaven. (KJV) \nAre you available for revelation? \nAs you continue to seek the Lord\, asking Him to show you your thoughts and govern your actions\, you will continue to be more and more aware of the spiritual warfare you are part of. Because you are seeking Him\, He will reveal things you didn’t see before. These things were always there. Now you will see them through renewed and transformed eyes.  \nMatthew 16:17 Simon\, son of Jonah\, your knowledge is a mark of blessing. For you didn’t learn this truth from your friends or from teachers or from sages you’ve met on the way. You learned it from My Father in heaven. (TVT) \nYou will know it is not “somebody” who showed it to you. God the Father showed you. Before\, you were not willing or able to see. Now\, your love of God and for God shows you. You have become one who is searching for Him with all of your heart.  \nHebrews 11:6 But without faith it is impossible to please Him\, for he who comes to God must believe that He is\, and that He is a rewarder of those who diligently seek Him. (NKJV) \nThere is a reward for diligently seeking the Lord. You will find Him. \nJohn 15:15 I do not call you servants any longer\, for the servant does not know what his master is doing; but I have called you [My] friends\, because I have revealed to you everything that I have heard from My Father. (AMP) \nPlease agree with me as I pray. Then ask the Lord what your prayer should be and wait for His response: \nFather God\, I repent for not diligently seeking You for more understanding. Thank You for giving me deeper revelation\, despite who I am. You are endowing me with the ability to understand things I didn’t understand before. Continue to call me and draw me as I seek You. Continue to reveal Yourself and I will respond as You would. Thank You for trusting me with the truth… \nASK THE LORD WHAT HE WANTS TO SAY TO YOU ABOUT TODAY’S DEVOTIONAL AND JOURNAL IT HERE:
URL:https://yourvisionwriters.com/devotional/matthew-1617/
CATEGORIES:January
END:VEVENT
END:VCALENDAR