BEGIN:VCALENDAR
VERSION:2.0
PRODID:-//At God&#039;s Door Ministries - ECPv6.15.13//NONSGML v1.0//EN
CALSCALE:GREGORIAN
METHOD:PUBLISH
X-ORIGINAL-URL:https://yourvisionwriters.com
X-WR-CALDESC:Events for At God&#039;s Door Ministries
REFRESH-INTERVAL;VALUE=DURATION:PT1H
X-Robots-Tag:noindex
X-PUBLISHED-TTL:PT1H
BEGIN:VTIMEZONE
TZID:America/Chicago
BEGIN:DAYLIGHT
TZOFFSETFROM:-0600
TZOFFSETTO:-0500
TZNAME:CDT
DTSTART:20250309T080000
END:DAYLIGHT
BEGIN:STANDARD
TZOFFSETFROM:-0500
TZOFFSETTO:-0600
TZNAME:CST
DTSTART:20251102T070000
END:STANDARD
BEGIN:DAYLIGHT
TZOFFSETFROM:-0600
TZOFFSETTO:-0500
TZNAME:CDT
DTSTART:20260308T080000
END:DAYLIGHT
BEGIN:STANDARD
TZOFFSETFROM:-0500
TZOFFSETTO:-0600
TZNAME:CST
DTSTART:20261101T070000
END:STANDARD
BEGIN:DAYLIGHT
TZOFFSETFROM:-0600
TZOFFSETTO:-0500
TZNAME:CDT
DTSTART:20270314T080000
END:DAYLIGHT
BEGIN:STANDARD
TZOFFSETFROM:-0500
TZOFFSETTO:-0600
TZNAME:CST
DTSTART:20271107T070000
END:STANDARD
END:VTIMEZONE
BEGIN:VEVENT
DTSTART;VALUE=DATE:20260106
DTEND;VALUE=DATE:20260107
DTSTAMP:20260423T202810
CREATED:20251219T042846Z
LAST-MODIFIED:20260113T115422Z
UID:10000006-1767657600-1767743999@yourvisionwriters.com
SUMMARY:Ephesians 3:10
DESCRIPTION:Ephesians 3:10 Every invisible authority and government in the arena of the heavenlies now witnesses the display of the wisdom of God. The church acts like a prism that disperses the varied magnitude of God in human form. (TMB) \nAre you allowing the wisdom of God to shine through? \nIt is God’s desire for you to understand where the warfare is. He wants you to recognize the war is with principalities and powers in heavenly places. The battle goes on there. He wants you to access His wisdom in this fight. What you think\, when you speak\, and how you act\, should reflect the love of God.  \nMatthew 5:16 Let your light so shine before men that they may see your moral excellence and your praiseworthy\, noble\, and good deeds and recognize and honor and praise and glorify your Father Who is in heaven. (AMPC) \nNo matter how intelligent you may be or how much experience you may have\, the only way you can show God’s love and be victorious is in\, with\, and through the wisdom of God. God’s wisdom shines through your lifestyle and choices you make. The world sees God and not you when: \n\nYou stop deciding on your own and ask for God’s wisdom. \n\nJames 1:5 If any of you lacks wisdom\, let him ask of God\, who gives to all liberally and without reproach\, and it will be given to him. (NKJV) \n\nYou profess your salvation as representative of who God is and not who you are.\n\n1 Corinthians 1:30 But it is from Him that you are in Christ Jesus\, who became to us wisdom from God [revealing His plan of salvation]\, and righteousness [making us acceptable to God]\, and sanctification [making us holy and setting us apart for God]\, and redemption [providing our ransom from the penalty for sin]. (AMP) \n\nYou trust in Christ and yield to the Holy Spirit. \n\nProverbs 3:5 Trust in the Lord completely\, and do not rely on your own opinions. With all your heart rely on him to guide you\, and he will lead you in every decision you make. (TPT) \nWhen the love of God transforms your life\, the wisdom of God will shine through. \nPlease agree with me as I pray. Then ask the Lord what your prayer should be and wait for His response: \nFather\, in the name of Jesus\, I recognize I can live the life You have called me to because of Your wisdom and Your power. My trusting and living in You causes principalities and powers to see You manifested in me. I am sorry and I ask You to forgive me for relying on my wisdom. When the world sees You moving in my speech and my actions\, I am glorifying You by how I live. It is not because of me; it is because of Your majesty; I have victory. In Your infinite provision\, I don’t stand alone; You stand up in me along with every other Christian in the kingdom. Thank You!…  \nAsk the lord what he wants to say to you about today’s devotional and journal it here:   
URL:https://yourvisionwriters.com/devotional/ephesians-310/
CATEGORIES:January
END:VEVENT
END:VCALENDAR