BEGIN:VCALENDAR
VERSION:2.0
PRODID:-//At God&#039;s Door Ministries - ECPv6.15.13//NONSGML v1.0//EN
CALSCALE:GREGORIAN
METHOD:PUBLISH
X-ORIGINAL-URL:https://yourvisionwriters.com
X-WR-CALDESC:Events for At God&#039;s Door Ministries
REFRESH-INTERVAL;VALUE=DURATION:PT1H
X-Robots-Tag:noindex
X-PUBLISHED-TTL:PT1H
BEGIN:VTIMEZONE
TZID:America/Chicago
BEGIN:DAYLIGHT
TZOFFSETFROM:-0600
TZOFFSETTO:-0500
TZNAME:CDT
DTSTART:20250309T080000
END:DAYLIGHT
BEGIN:STANDARD
TZOFFSETFROM:-0500
TZOFFSETTO:-0600
TZNAME:CST
DTSTART:20251102T070000
END:STANDARD
BEGIN:DAYLIGHT
TZOFFSETFROM:-0600
TZOFFSETTO:-0500
TZNAME:CDT
DTSTART:20260308T080000
END:DAYLIGHT
BEGIN:STANDARD
TZOFFSETFROM:-0500
TZOFFSETTO:-0600
TZNAME:CST
DTSTART:20261101T070000
END:STANDARD
BEGIN:DAYLIGHT
TZOFFSETFROM:-0600
TZOFFSETTO:-0500
TZNAME:CDT
DTSTART:20270314T080000
END:DAYLIGHT
BEGIN:STANDARD
TZOFFSETFROM:-0500
TZOFFSETTO:-0600
TZNAME:CST
DTSTART:20271107T070000
END:STANDARD
END:VTIMEZONE
BEGIN:VEVENT
DTSTART;VALUE=DATE:20260108
DTEND;VALUE=DATE:20260109
DTSTAMP:20260423T202809
CREATED:20251219T043602Z
LAST-MODIFIED:20260113T115422Z
UID:10000008-1767830400-1767916799@yourvisionwriters.com
SUMMARY:Revelation 1:18
DESCRIPTION:Revelation 1:18 I am he that liveth\, and was dead; and\, behold\, I am alive for evermore\, Amen; and have the keys of hell and of death. (KJV) \nAre you living a defeated life? \nIs it possible to know Christ\, believe in your heart God saved you\, but also be a long way from living as God intended? Is it enough to know that you are free from sin and death? Here are a few questions to ask yourself: \n\nDo you believe bad luck is the reason terrible things happen to you?\n\nPsalm 37:23-25 The steps of a good man are ordered by the Lord: and he delighteth in his way. 24 Though he fall\, he shall not be utterly cast down: for the Lord upholdeth him with his hand. 25 I have been young\, and now am old; yet have I not seen the righteous forsaken\, nor his seed begging bread. (KJV) \n\nDo you get angry and blame others for things you can’t control?\n\n1 Corinthians 10:13 No temptation [regardless of its source] has overtaken or enticed you that is not common to human experience [nor is any temptation unusual or beyond human resistance]; but God is faithful [to His word—He is compassionate and trustworthy]\, and He will not let you be tempted beyond your ability [to resist]\, but along with the temptation He [has in the past and is now and] will [always] provide the way out as well\, so that you will be able to endure it [without yielding\, and will overcome temptation with joy]. (AMP) \n\nIs your glass half full or half empty?\n\nJeremiah 29:11-13 For I know the thoughts that I think toward you\, says the Lord\, thoughts of peace and not of evil\, to give you a future and a hope. 12 Then you will call upon Me and go and pray to Me\, and I will listen to you. 13 And you will seek Me and find Me\, when you search for Me with all your heart. (NKJV) \n\nAre you still looking for God’s blessings in your life?\n\nPsalm 103: 1- 6 O my soul\, come\, praise the Eternal with all that is in me—body\, emotions\, mind\, and will—every part of who I am — praise His holy name. 2 O my soul\, come\, praise the Eternal; sing a song from a grateful heart; sing and never forget all the good He has done. 3 Despite all your many offenses\, He forgives and releases you. More than any doctor\, He heals your diseases. 4 He reaches deep into the pit to deliver you from death. He crowns you with unfailing love and compassion like a king. 5 When your soul is famished and withering\, He fills you with good and beautiful things\, satisfying you as long as you live. He makes you strong like an eagle\, restoring your youth. 6 When people are crushed\, wronged\, enslaved\, raped\, murdered\, the Eternal is just; He makes the wrongs right. (TVT) \nThough you are in this warfare\, understand the victory is already yours. The Lord God has defeated the principalities and powers that come against you daily. Stand on this truth because the enemy wants you to believe he is victorious. If you don’t understand God already has the victory\, you will struggle and always feel overwhelmed by life. Your words will betray your heart and speak of a God who is not omnipotent\, omniscient\, omnipresent\, and sovereign. God has already won the battle. Know it\, think about it\, and speak about it. \nPlease agree with me as I pray. Then ask the Lord what your prayer should be and wait for His response: \nFather\, in the name of Jesus\, I thank You for reminding me You already have the victory. Please forgive me for acting like You don’t. As I go through each day\, help me remember I am victorious through You. Help me not to be moved by what I see\, no matter how terrible and no matter how devastating. Help me hide who You are in my heart and I speak the right words about You. There is no being or force in existence anywhere that can compare in power to You. All wisdom and knowledge belong to You. You are present everywhere and at all times. The world\, heaven\, and earth are in Your hands. You created everything\, not time nor space limits You. Help me change my focus. When I see You at work in every situation; I will trust You more… \nAsk the lord what he wants to say to you about today’s devotional and journal it here:   
URL:https://yourvisionwriters.com/devotional/revelation-118/
CATEGORIES:January
END:VEVENT
END:VCALENDAR