BEGIN:VCALENDAR
VERSION:2.0
PRODID:-//At God&#039;s Door Ministries - ECPv6.15.13//NONSGML v1.0//EN
CALSCALE:GREGORIAN
METHOD:PUBLISH
X-ORIGINAL-URL:https://yourvisionwriters.com
X-WR-CALDESC:Events for At God&#039;s Door Ministries
REFRESH-INTERVAL;VALUE=DURATION:PT1H
X-Robots-Tag:noindex
X-PUBLISHED-TTL:PT1H
BEGIN:VTIMEZONE
TZID:America/Chicago
BEGIN:DAYLIGHT
TZOFFSETFROM:-0600
TZOFFSETTO:-0500
TZNAME:CDT
DTSTART:20250309T080000
END:DAYLIGHT
BEGIN:STANDARD
TZOFFSETFROM:-0500
TZOFFSETTO:-0600
TZNAME:CST
DTSTART:20251102T070000
END:STANDARD
BEGIN:DAYLIGHT
TZOFFSETFROM:-0600
TZOFFSETTO:-0500
TZNAME:CDT
DTSTART:20260308T080000
END:DAYLIGHT
BEGIN:STANDARD
TZOFFSETFROM:-0500
TZOFFSETTO:-0600
TZNAME:CST
DTSTART:20261101T070000
END:STANDARD
BEGIN:DAYLIGHT
TZOFFSETFROM:-0600
TZOFFSETTO:-0500
TZNAME:CDT
DTSTART:20270314T080000
END:DAYLIGHT
BEGIN:STANDARD
TZOFFSETFROM:-0500
TZOFFSETTO:-0600
TZNAME:CST
DTSTART:20271107T070000
END:STANDARD
END:VTIMEZONE
BEGIN:VEVENT
DTSTART;VALUE=DATE:20260110
DTEND;VALUE=DATE:20260111
DTSTAMP:20260423T191951
CREATED:20251219T052404Z
LAST-MODIFIED:20260113T115422Z
UID:10000010-1768003200-1768089599@yourvisionwriters.com
SUMMARY:Job 2:2
DESCRIPTION:Job 2:2 And the LORD said unto Satan\, whence comest thou? And Satan answered the LORD\, and said\, From going to and fro in the earth\, and from walking up and down in it. (KJV) \nDo you realize the enemy is stalking you? \nMake no mistake about it\, the enemy knows who you are. He understands\, as he watches you\, how you normally respond to stress and difficult situations. He takes note of the things you usually do to manage your life\, handle situations\, deal with problems\, etc. Because his job is to steal\, kill and destroy\, he is looking for the opportunity to catch you unaware.  \n1 Peter 5:8 Be well balanced (temperate\, sober of mind)\, be vigilant and cautious at all times; for that enemy of yours\, the devil\, roams around like a lion roaring [in fierce hunger]\, seeking someone to seize upon and devour. (AMPC) \nThere is a reason Peter compared the devil to a lion. Not only is the devil the great deceiver; he is also a skilled\, confident\, and experienced hunter. Like the lion\, he patiently stalks his prey\, invisible to them. He works best “at night”. By night\, I mean when you are doing things you think no one sees. The devil possesses other lion-like attributes\, he: \n\nTries to pick you off when you are weak and/or sick.\n\nMatthew 4:2-3 And when He had fasted forty days and forty nights\, afterward He was hungry. 3 Now when the tempter came to Him\, he said\, “If You are the Son of God\, command that these stones become bread.” (NKJV) \n\nSets traps to catch you when you have grown weary. \n\nIsaiah 40:30 Even the youths shall faint and be weary\, and the young men shall utterly fall. (NKJV) \n\nIs aware when you have isolated yourself because of circumstances in your life.\n\nEcclesiastes 4:9-10 Two people are better off than one\, for they can help each other succeed. 10 If one person falls\, the other can reach out and help. But someone who falls alone is in real trouble. (NLT) \n\nPlays with you\, instead of immediately going in for the kill. \n\nLuke 4:13 And when the devil had ended every [the complete cycle of] temptation\, he [temporarily] left Him [that is\, stood off from Him] until another more opportune and favorable time. (AMPC) \n\nWants to trick you into responding in a way you thought God delivered you from. \n\nRomans 7:15 For I do not understand my own actions [I am baffled and bewildered by them]. I do not practice what I want to do\, but I am doing the very thing I hate [and yielding to my human nature\, my worldliness—my sinful capacity]. (AMP) \nLike the lion\, he is constantly watching\, looking for some opening into your life where he can try to wreak havoc and devour you. Your responsibility is to be on your guard. However\, if he catches you from time to time\, while in his grasp\, you  can call out for help.  \nPsalm 91:15 I will answer your cry for help every time you pray\, and you will feel my presence in your time of trouble. I will deliver you and bring you honor. (TPT) \nPlease agree with me as I pray. Then ask the Lord what your prayer should be and wait for His response: \nFather\, in the name of Jesus\, I come thanking You for helping me recognize the enemy for who he is. He is unrelenting in his pursuit of me and is continually devising ways to destroy me. I also know I have to be just as unrelenting in my pursuit of You. I repent and ask You to please forgive me when I am not. Help me see the doors I have opened for the enemy to walk in and out of at will. Do in me what is necessary to be done and those doors will be closed permanently. Help me recognize my part. When he tries to get the upper hand\, help me see how far You have brought me. Help me use his tactics against him and in Your favor. I commit to be more diligent in my walk and I thank You in advance for victory… \nAsk the lord what he wants to say to you about today’s devotional and journal it here:   
URL:https://yourvisionwriters.com/devotional/job-22/
CATEGORIES:January
END:VEVENT
END:VCALENDAR