BEGIN:VCALENDAR
VERSION:2.0
PRODID:-//At God&#039;s Door Ministries - ECPv6.15.13//NONSGML v1.0//EN
CALSCALE:GREGORIAN
METHOD:PUBLISH
X-WR-CALNAME:At God&#039;s Door Ministries
X-ORIGINAL-URL:https://yourvisionwriters.com
X-WR-CALDESC:Events for At God&#039;s Door Ministries
REFRESH-INTERVAL;VALUE=DURATION:PT1H
X-Robots-Tag:noindex
X-PUBLISHED-TTL:PT1H
BEGIN:VTIMEZONE
TZID:America/Chicago
BEGIN:DAYLIGHT
TZOFFSETFROM:-0600
TZOFFSETTO:-0500
TZNAME:CDT
DTSTART:20250309T080000
END:DAYLIGHT
BEGIN:STANDARD
TZOFFSETFROM:-0500
TZOFFSETTO:-0600
TZNAME:CST
DTSTART:20251102T070000
END:STANDARD
BEGIN:DAYLIGHT
TZOFFSETFROM:-0600
TZOFFSETTO:-0500
TZNAME:CDT
DTSTART:20260308T080000
END:DAYLIGHT
BEGIN:STANDARD
TZOFFSETFROM:-0500
TZOFFSETTO:-0600
TZNAME:CST
DTSTART:20261101T070000
END:STANDARD
BEGIN:DAYLIGHT
TZOFFSETFROM:-0600
TZOFFSETTO:-0500
TZNAME:CDT
DTSTART:20270314T080000
END:DAYLIGHT
BEGIN:STANDARD
TZOFFSETFROM:-0500
TZOFFSETTO:-0600
TZNAME:CST
DTSTART:20271107T070000
END:STANDARD
END:VTIMEZONE
BEGIN:VEVENT
DTSTART;VALUE=DATE:20260116
DTEND;VALUE=DATE:20260117
DTSTAMP:20260423T191626
CREATED:20251219T055544Z
LAST-MODIFIED:20260113T115422Z
UID:10000016-1768521600-1768607999@yourvisionwriters.com
SUMMARY:Corinthians 10:13
DESCRIPTION:1 Corinthians 10:13 Your situation is not unique! Every human life faces contradictions! Here’s the good news: God believes in your freedom! He has made it possible for you to triumph in every situation that you will ever encounter! (TMB) \nDo you realize you have the victory? \nAre there times when you feel as if you are alone in your situation? Do you tell yourself\, “No one else is going through what I’m going through”? You may actually believe it; however\, it isn’t true. The enemy uses the same tactics on everyone. \n1 Corinthians 10:13 No test or temptation that comes your way is beyond the course of what others have had to face. All you need to remember is that God will never let you down; he’ll never let you be pushed past your limit; he’ll always be there to help you come through it. (MSG) \nWith every attack\, he customizes his approach to be more destructive in your life. He has learned what to do to make you feel overwhelmed. It is simply a part of the war. Learn what God has already done for you to have victory. Then you will lessen and even counteract his attacks. You can also get to the place where you wills stop them.  \n\nGod delivered you from the devil.\n\nColossians 1:13 He has delivered us from the power of darkness and conveyed us into the kingdom of the Son of His love. (NKJV) \n\nGod gave you authority over every evil spirit and demon.\n\nLuke 10:19 Behold! I have given you authority and power to trample upon serpents and scorpions\, and [physical and mental strength and ability] over all the power that the enemy [possesses]; and nothing shall in any way harm you. (AMPC) \n\nJesus destroyed the works of the devil.\n\n1 John 3:8 He who sins is of the devil\, for the devil has sinned from the beginning. For this purpose the Son of God was manifested\, that He might destroy the works of the devil. (NKJV) \n\nGod has released you from fear\n\n2 Timothy 1:7 For God has not given us a spirit of fear\, but of power and of love and of a sound mind. (NKJV) \nTake comfort and walk in confidence because you know the Lord God has made a way for you to be victorious in every situation you will ever encounter.  \n2 Corinthians 2:14 Now thanks be to God who always leads us in triumph in Christ\, and through us diffuses the fragrance of His knowledge in every place. (NKJV) \nPlease agree with me as I pray. Then ask the Lord what your prayer should be and wait for His response: \nI thank You\, Father\, for victory in my life. At various times in my life\, I don’t feel victorious\, and I repent because I know Your word says I am. Continue to remind me that my walk with You is not about what I feel; it is about who You are and what You have done. I am not experiencing anything new. Others have gone through the same and You have brought them out. You have also given me a way of escape. Help me stand and walk triumphantly. Show me I can take it. I can bear my trials because of the blood of Jesus. You have made me an overcomer. Right now\, I stand in the victory You bought for me\, and I thank You… \nAsk the lord what he wants to say to you about today’s devotional and journal it here:   
URL:https://yourvisionwriters.com/devotional/corinthians-1013/
CATEGORIES:January
END:VEVENT
END:VCALENDAR