BEGIN:VCALENDAR
VERSION:2.0
PRODID:-//At God&#039;s Door Ministries - ECPv6.15.13//NONSGML v1.0//EN
CALSCALE:GREGORIAN
METHOD:PUBLISH
X-WR-CALNAME:At God&#039;s Door Ministries
X-ORIGINAL-URL:https://yourvisionwriters.com
X-WR-CALDESC:Events for At God&#039;s Door Ministries
REFRESH-INTERVAL;VALUE=DURATION:PT1H
X-Robots-Tag:noindex
X-PUBLISHED-TTL:PT1H
BEGIN:VTIMEZONE
TZID:America/Chicago
BEGIN:DAYLIGHT
TZOFFSETFROM:-0600
TZOFFSETTO:-0500
TZNAME:CDT
DTSTART:20250309T080000
END:DAYLIGHT
BEGIN:STANDARD
TZOFFSETFROM:-0500
TZOFFSETTO:-0600
TZNAME:CST
DTSTART:20251102T070000
END:STANDARD
BEGIN:DAYLIGHT
TZOFFSETFROM:-0600
TZOFFSETTO:-0500
TZNAME:CDT
DTSTART:20260308T080000
END:DAYLIGHT
BEGIN:STANDARD
TZOFFSETFROM:-0500
TZOFFSETTO:-0600
TZNAME:CST
DTSTART:20261101T070000
END:STANDARD
BEGIN:DAYLIGHT
TZOFFSETFROM:-0600
TZOFFSETTO:-0500
TZNAME:CDT
DTSTART:20270314T080000
END:DAYLIGHT
BEGIN:STANDARD
TZOFFSETFROM:-0500
TZOFFSETTO:-0600
TZNAME:CST
DTSTART:20271107T070000
END:STANDARD
END:VTIMEZONE
BEGIN:VEVENT
DTSTART;VALUE=DATE:20260319
DTEND;VALUE=DATE:20260320
DTSTAMP:20260423T103455
CREATED:20251224T084912Z
LAST-MODIFIED:20260113T115737Z
UID:10000105-1773878400-1773964799@yourvisionwriters.com
SUMMARY:James 2:22
DESCRIPTION:James 2:22 You see that [his] faith was working together with his works\, and as a result of the works\, his faith was completed [reaching its maturity when he expressed his faith through obedience]. (AMP) \nAre your responses to life building your faith? \nDo you say you are a Christian? Do you believe God has a plan for your life? Do you believe His plan is for good and not for evil? Do you believe\, if the Lord began the plan\, He will perform it? If you said yes to all those questions\, then you should act like it. Rudyard Kipling wrote a poem that gives an excellent example of the life a believer should live. \nYou should be able to stay calm when everyone else is coming apart. \nYou should stand on what you know the Lord has spoken to you\, when everyone around you doubts you. \nYou should be able to wait on the Lord and not get tired of waiting. \nIf you are being lied about\, you should not deal in lies. \nIf you are being treated with hatred\, you should not give place to hating. \nYou should be able to speak to crowds and not become arrogant. \nYou should be able to walk with Kings and remain humble. \nNeither your enemies nor loving friends should be able to hurt you. \nIf you can live the life described in the edited poem\, every blessing God has promised\, in this life will be yours. What’s more\, you can truly call yourself a Christian! \nPlease agree with me as I pray. Then ask the Lord what your prayer should be and wait for His response: \nFather\, I thank You for faith. You gave me the faith I needed to trust You for my salvation. You gave me instruction on how to increase my faith. As I spend time with You\, as I pray and wait for Your answer to my prayers\, as I watch to see You at work\, my faith is increased. I know it is not enough for me to have faith; I have to demonstrate my faith by allowing You to work through me. I repent for those times when I did not take what I knew about faith in You and act upon it. Thank You for teaching me the way to show I have faith in You. I will not lie to get ahead. I will not mistreat those who mistreat me. I know faith without works is dead. My desire is to live a life that says\, “I believe God”. If I can live that life\, then I will have done my part to help You be lifted\, then You will draw all men unto You… \nAsk the lord what he wants to say to you about today’s devotional and journal it here:
URL:https://yourvisionwriters.com/devotional/james-222/
CATEGORIES:March
END:VEVENT
END:VCALENDAR