BEGIN:VCALENDAR
VERSION:2.0
PRODID:-//At God&#039;s Door Ministries - ECPv6.15.13//NONSGML v1.0//EN
CALSCALE:GREGORIAN
METHOD:PUBLISH
X-ORIGINAL-URL:https://yourvisionwriters.com
X-WR-CALDESC:Events for At God&#039;s Door Ministries
REFRESH-INTERVAL;VALUE=DURATION:PT1H
X-Robots-Tag:noindex
X-PUBLISHED-TTL:PT1H
BEGIN:VTIMEZONE
TZID:America/Chicago
BEGIN:DAYLIGHT
TZOFFSETFROM:-0600
TZOFFSETTO:-0500
TZNAME:CDT
DTSTART:20250309T080000
END:DAYLIGHT
BEGIN:STANDARD
TZOFFSETFROM:-0500
TZOFFSETTO:-0600
TZNAME:CST
DTSTART:20251102T070000
END:STANDARD
BEGIN:DAYLIGHT
TZOFFSETFROM:-0600
TZOFFSETTO:-0500
TZNAME:CDT
DTSTART:20260308T080000
END:DAYLIGHT
BEGIN:STANDARD
TZOFFSETFROM:-0500
TZOFFSETTO:-0600
TZNAME:CST
DTSTART:20261101T070000
END:STANDARD
BEGIN:DAYLIGHT
TZOFFSETFROM:-0600
TZOFFSETTO:-0500
TZNAME:CDT
DTSTART:20270314T080000
END:DAYLIGHT
BEGIN:STANDARD
TZOFFSETFROM:-0500
TZOFFSETTO:-0600
TZNAME:CST
DTSTART:20271107T070000
END:STANDARD
END:VTIMEZONE
BEGIN:VEVENT
DTSTART;VALUE=DATE:20260418
DTEND;VALUE=DATE:20260419
DTSTAMP:20260423T044208
CREATED:20251224T085813Z
LAST-MODIFIED:20260113T133657Z
UID:10000111-1776470400-1776556799@yourvisionwriters.com
SUMMARY:Psalms 27:14
DESCRIPTION:Psalms 27:14 Wait for the LORD; Be strong and let your heart take courage; Yes\, wait for the LORD. (NLT) \nWhat is your waiting life like? \nWhen you go to God in prayer\, and you ask Him for whatever it is you ask Him for\, you then have to wait. Sometimes it’s a brief wait. Sometimes it is a long wait which makes it a heavy weight. Sometimes it’s an eternal wait for your “desired answer” because His answer is no. While you’re waiting\, you have to be strong. You wait\, knowing there is an answer to your prayer\, because you know God heard you. You can’t allow the enemy to cause you to doubt.  \nIsaiah 40:30-31 Even the youths shall faint and be weary\, and the young men shall utterly fall: 31 But they that wait upon the Lord shall renew their strength; they shall mount up with wings as eagles; they shall run\, and not be weary; and they shall walk\, and not faint. (KJV) \nIt is very important to look for “God’s answer”. His answer may not be the answer you are hoping for. However\, you don’t want to miss God’s answer because it isn’t what you wanted. You don’t have the big picture\, you only have the few details that you see within your finite limitations. As a result\, unless He reveals it to you\, you can’t really know the solution that fits into God’s infinite plan. \nIsaiah 55:8-9 My intentions are not always yours\, and I do not go about things as you do. 9 My thoughts and My ways are above and beyond you\, just as heaven is far from your reach here on earth. (TVT) \nAs your situation unfolds\, you will continue to communicate with Him through prayer. You will come to know God better as you wait. Waiting brings you closer\, and more importantly\, His answer does as well. Whatever the outcome\, your relationship with the Father enables you to celebrate as you wait and also recognize and celebrate when the answer comes.  \nPlease agree with me as I pray. Then ask the Lord what your prayer should be and wait for His response: \nFather\, I thank You for giving me the strength to wait and the understanding of how to live while I wait. I repent for acting like I should sit and rock in a chair until You do what I want. You have taught me to wait actively. I will not miss Your response because I think I know what it should be. I will continue to put one foot in front of the other. I will continue to do what I know You have already purposed for me to do. I will continue to study\, pray\, worship and bless You with my life. Father\, I thank You because I am Your sheep and I hear You clearly. If the answer is yes\, soon or no\, I will celebrate. Not just for the answer to my prayers\, I will celebrate because I know You hear me. Thank You for a voice to cry out to You\, ears to hear to You\, a heart to love You\, and the will to wait for You…  \n \nAsk the lord what he wants to say to you about today’s devotional and journal it here:   
URL:https://yourvisionwriters.com/devotional/psalms-2714/
CATEGORIES:April
END:VEVENT
END:VCALENDAR