BEGIN:VCALENDAR
VERSION:2.0
PRODID:-//At God&#039;s Door Ministries - ECPv6.15.13//NONSGML v1.0//EN
CALSCALE:GREGORIAN
METHOD:PUBLISH
X-ORIGINAL-URL:https://yourvisionwriters.com
X-WR-CALDESC:Events for At God&#039;s Door Ministries
REFRESH-INTERVAL;VALUE=DURATION:PT1H
X-Robots-Tag:noindex
X-PUBLISHED-TTL:PT1H
BEGIN:VTIMEZONE
TZID:America/Chicago
BEGIN:DAYLIGHT
TZOFFSETFROM:-0600
TZOFFSETTO:-0500
TZNAME:CDT
DTSTART:20250309T080000
END:DAYLIGHT
BEGIN:STANDARD
TZOFFSETFROM:-0500
TZOFFSETTO:-0600
TZNAME:CST
DTSTART:20251102T070000
END:STANDARD
BEGIN:DAYLIGHT
TZOFFSETFROM:-0600
TZOFFSETTO:-0500
TZNAME:CDT
DTSTART:20260308T080000
END:DAYLIGHT
BEGIN:STANDARD
TZOFFSETFROM:-0500
TZOFFSETTO:-0600
TZNAME:CST
DTSTART:20261101T070000
END:STANDARD
BEGIN:DAYLIGHT
TZOFFSETFROM:-0600
TZOFFSETTO:-0500
TZNAME:CDT
DTSTART:20270314T080000
END:DAYLIGHT
BEGIN:STANDARD
TZOFFSETFROM:-0500
TZOFFSETTO:-0600
TZNAME:CST
DTSTART:20271107T070000
END:STANDARD
END:VTIMEZONE
BEGIN:VEVENT
DTSTART;VALUE=DATE:20260501
DTEND;VALUE=DATE:20260502
DTSTAMP:20260421T134255
CREATED:20251224T074806Z
LAST-MODIFIED:20260113T133758Z
UID:10000079-1777593600-1777679999@yourvisionwriters.com
SUMMARY:John 15:10
DESCRIPTION:John 15:10 If ye keep my commandments\, ye shall abide in my love; even as I have kept my Father’s commandments\, and abide in his love. (KJV) \nAre you abiding? \nTo be successful in this training\, using the gifts God has given you for His glory\, you must remain stable and fixed in a relationship of love that endures with God all your days; you must abide. Abiding gives you victory over the attacks of the enemy. When you think about abiding; what definition comes to mind? If one does not readily come to you\, here are a few:  \n\nTo act or accept under a rule or decision. \nTo comply with\, to obey\, to stick to\, to standby. \n\nThere is another definition that clearly identifies what God requires “to endure without yielding”.  \nHebrews 10:36 For you have need of patient endurance [to bear up under difficult circumstances without compromising]\, so that when you have carried out the will of God\, you may receive and enjoy to the full what is promised. (AMP) \nGod’s instruction to you for your success in Him is to abide. No matter what you are going through\, no matter how you feel\, you abide in Him\, without yielding. You should not deviate from the assigned path\, not looking to the left or to the right. You are to keep His commandments even when it’s not comfortable\, even when you would rather do what you want to do.  \nProverbs 4:26-27 Take care you don’t stray from the straight path\, the way of truth\, and you will safely reach the end of your road. 27 Do not veer off course to the right or the left; step away from evil\, and leave it behind. (TVT) \nBy enduring\, without yielding and keeping His commandments\, you abide in His love. \nPlease agree with me as I pray. Then ask the Lord what your prayer should be and wait for His response: \nFather\, I thank You for the opportunity to evaluate whether or not I am abiding in Your love. You have shown me I must be faithful to Your will and commands if I am to use the gifts You gave me effectively. If I don’t\, I cannot be victorious against the enemy. I know sometimes my flesh wants to win\, and I want to do what I want to do. I even try to give myself excuses for what I do. Please forgive me. Father\, knowing I must endure without yielding\, has brought me to my knees. It rings in my heart. It ignites in my spirit. It lets me know there is nothing else I can do. I will cling to You. I must allow Your love to strengthen me and keep me on the straight path. Father\, continue to guide my feet. I thank You for doing it…  \nAsk the lord what he wants to say to you about today’s devotional and journal it here:   
URL:https://yourvisionwriters.com/devotional/john-1510/
CATEGORIES:May
END:VEVENT
END:VCALENDAR