BEGIN:VCALENDAR
VERSION:2.0
PRODID:-//At God&#039;s Door Ministries - ECPv6.15.13//NONSGML v1.0//EN
CALSCALE:GREGORIAN
METHOD:PUBLISH
X-WR-CALNAME:At God&#039;s Door Ministries
X-ORIGINAL-URL:https://yourvisionwriters.com
X-WR-CALDESC:Events for At God&#039;s Door Ministries
REFRESH-INTERVAL;VALUE=DURATION:PT1H
X-Robots-Tag:noindex
X-PUBLISHED-TTL:PT1H
BEGIN:VTIMEZONE
TZID:America/Chicago
BEGIN:DAYLIGHT
TZOFFSETFROM:-0600
TZOFFSETTO:-0500
TZNAME:CDT
DTSTART:20250309T080000
END:DAYLIGHT
BEGIN:STANDARD
TZOFFSETFROM:-0500
TZOFFSETTO:-0600
TZNAME:CST
DTSTART:20251102T070000
END:STANDARD
BEGIN:DAYLIGHT
TZOFFSETFROM:-0600
TZOFFSETTO:-0500
TZNAME:CDT
DTSTART:20260308T080000
END:DAYLIGHT
BEGIN:STANDARD
TZOFFSETFROM:-0500
TZOFFSETTO:-0600
TZNAME:CST
DTSTART:20261101T070000
END:STANDARD
BEGIN:DAYLIGHT
TZOFFSETFROM:-0600
TZOFFSETTO:-0500
TZNAME:CDT
DTSTART:20270314T080000
END:DAYLIGHT
BEGIN:STANDARD
TZOFFSETFROM:-0500
TZOFFSETTO:-0600
TZNAME:CST
DTSTART:20271107T070000
END:STANDARD
END:VTIMEZONE
BEGIN:VEVENT
DTSTART;VALUE=DATE:20260502
DTEND;VALUE=DATE:20260503
DTSTAMP:20260421T134105
CREATED:20251224T074933Z
LAST-MODIFIED:20260113T133758Z
UID:10000082-1777680000-1777766399@yourvisionwriters.com
SUMMARY:Matthew 24:46
DESCRIPTION:Matthew 24:46 Blessed is that servant\, whom his lord when he cometh shall find so doing. (KJV) \nAre you working as if Jesus is coming today? \nHave you ever had the responsibility of doing something and you thought you had a lot of time? Did you get right on it or did you lose track of time? Were you ready when the assignment was due\, or were you scrambling? Do you tell yourself and others you work better under pressure? Wouldn’t it be a blessing if you are not scrambling when Jesus returns? Are there choices you make because you think you’ll have time to get it right; you know God will forgive you; you can make a better choice the next time\, etc. The truth is\, you don’t know when Jesus is returning. \nMatthew 24:36 But of that day and hour knoweth no man\, no\, not the angels of heaven\, but my Father only. (KJV) \nIf you give it some thought\, is that how you want to handle the assignment God has given you? Isn’t what you really want is\, whenever He returns\, He finds you being the servant He called you to be; doing the work He created you to do. You don’t want to be found waiting for another opportunity\, or busy doing something that doesn’t give God glory. \nJohn 9:4 I must work the works of Him who sent Me while it is day; the night is coming when no one can work. (NKJV) \nGod does not run on our system of day and night\, nor of time on a 24-hour or work hours clock. As long as Jesus has not returned\, it is day and you should be at work.    \nPlease agree with me as I pray. Then ask the Lord what your prayer should be and wait for His response: \nFather\, I thank You for calling me to a place where I understand my need to be diligent in the work You have assigned to me. Because of Your grace and mercy\, I got another chance and I no longer live as if I control time. Your word says I do not know what will happen tomorrow. Which means I will not put off for tomorrow what You have purposed for me to do today. Thank You for holding me accountable and not letting me get away with the excuses I have made in the past. I ask You to forgive me again\, even as I think about the explanations I made to myself and others. Father\, I want to do the work You assigned to me on Your agenda. I am Your servant and I want to be found faithful. I thank You for the call to serve You and the ability You gave me to work efficiently and effectively. Father\, please continue to get my attention when I am busy doing other things; keep me from being distracted by what I want; and help me stay on task until Jesus’ return. Thank You for training me… \nAsk the lord what he wants to say to you about today’s devotional and journal it here:   
URL:https://yourvisionwriters.com/devotional/matthew-2446/
CATEGORIES:May
END:VEVENT
END:VCALENDAR