BEGIN:VCALENDAR
VERSION:2.0
PRODID:-//At God&#039;s Door Ministries - ECPv6.15.13//NONSGML v1.0//EN
CALSCALE:GREGORIAN
METHOD:PUBLISH
X-ORIGINAL-URL:https://yourvisionwriters.com
X-WR-CALDESC:Events for At God&#039;s Door Ministries
REFRESH-INTERVAL;VALUE=DURATION:PT1H
X-Robots-Tag:noindex
X-PUBLISHED-TTL:PT1H
BEGIN:VTIMEZONE
TZID:America/Chicago
BEGIN:DAYLIGHT
TZOFFSETFROM:-0600
TZOFFSETTO:-0500
TZNAME:CDT
DTSTART:20250309T080000
END:DAYLIGHT
BEGIN:STANDARD
TZOFFSETFROM:-0500
TZOFFSETTO:-0600
TZNAME:CST
DTSTART:20251102T070000
END:STANDARD
BEGIN:DAYLIGHT
TZOFFSETFROM:-0600
TZOFFSETTO:-0500
TZNAME:CDT
DTSTART:20260308T080000
END:DAYLIGHT
BEGIN:STANDARD
TZOFFSETFROM:-0500
TZOFFSETTO:-0600
TZNAME:CST
DTSTART:20261101T070000
END:STANDARD
BEGIN:DAYLIGHT
TZOFFSETFROM:-0600
TZOFFSETTO:-0500
TZNAME:CDT
DTSTART:20270314T080000
END:DAYLIGHT
BEGIN:STANDARD
TZOFFSETFROM:-0500
TZOFFSETTO:-0600
TZNAME:CST
DTSTART:20271107T070000
END:STANDARD
END:VTIMEZONE
BEGIN:VEVENT
DTSTART;VALUE=DATE:20260504
DTEND;VALUE=DATE:20260505
DTSTAMP:20260421T151115
CREATED:20251224T075335Z
LAST-MODIFIED:20260113T133758Z
UID:10000087-1777852800-1777939199@yourvisionwriters.com
SUMMARY:Jude 24
DESCRIPTION:Jude 24 Now unto him that is able to keep you from falling\, and to present you faultless before the presence of his glory with exceeding joy\, (KJV) \nAre you using your liberty as an excuse to sin? \nTake a moment and rejoice. The Lord can keep you from falling. The Lord can present you without fault; and He is excited to do it. When you think about the fact that He can keep you from falling\, do you wish He would keep you from sinning as well? The thing is\, whether or not you sin\, is your choice. You have to decide whether you will please God with your choice\, before you make it.  \nJoshua 24:15a If you decide that you’re not willing to serve Him\, then today is the day for you to choose whom you will serve\, (TVT) \nEven though you have accepted salvation\, you can choose to do something that is not pleasing to the Lord. Do you make that choice because you believe He is going to keep you from falling into the pits of hell? Do you rest on the promise that in the end\, He is going to present you faultless? Salvation means all the sins you have committed or ever will commit are washed in the blood; it also means God is does not look at your sin or anyone else’s because He only sees the blood of Jesus. Does that give you the freedom to do whatever you want to do? Is that really the Christian life you want to live? Should you evaluate your heart and make sure Jesus is truly lord over your life?   \nRomans 6:1-2 So what do we do\, then? Do we persist in sin so that God’s kindness and grace will increase? 2 What a terrible thought! We have died to sin once and for all\, as a dead man passes away from this life. So how could we live under sin’s rule a moment longer? (TPT) \nBecause grace abounds\, do you sin because you know Jesus covered you under His blood? Absolutely not. Take the responsibility for your choices and your actions\, value what Jesus did for you\, and choose to live a life that glorifies God. \nDeuteronomy 30:19-20 I am now giving you the choice between life and death\, between God’s blessing and God’s curse\, and I call heaven and earth to witness the choice you make. Choose life. (GNT) \nPlease agree with me as I pray. Then ask the Lord what your prayer should be and wait for His response: \nFather\, I thank You for sending Jesus. I thank You for washing me in His blood. I know when You look at me; You don’t see the sin I committed; You see the blood that was shed for me. I thank You Father\, because of Jesus\, I won’t end up in the pit of hell. I thank You because You will present me faultless\, no matter what I’ve done. The blood of Jesus covers me. I repent\, for every time I used my freedom\, bought by Jesus’ Blood\, to live an unholy and ungodly life. I purpose to use my forgiveness as the foundation for a life that honors and glorifies You. I owe You my life for what Jesus did\, and I choose You every day. I am thankful for His death. I appreciate being washed. I live with absolute and continual gratitude and I give You praise…  \nAsk the lord what he wants to say to you about today’s devotional and journal it here:   
URL:https://yourvisionwriters.com/devotional/jude-24/
CATEGORIES:May
END:VEVENT
END:VCALENDAR