BEGIN:VCALENDAR
VERSION:2.0
PRODID:-//At God&#039;s Door Ministries - ECPv6.15.13//NONSGML v1.0//EN
CALSCALE:GREGORIAN
METHOD:PUBLISH
X-ORIGINAL-URL:https://yourvisionwriters.com
X-WR-CALDESC:Events for At God&#039;s Door Ministries
REFRESH-INTERVAL;VALUE=DURATION:PT1H
X-Robots-Tag:noindex
X-PUBLISHED-TTL:PT1H
BEGIN:VTIMEZONE
TZID:America/Chicago
BEGIN:DAYLIGHT
TZOFFSETFROM:-0600
TZOFFSETTO:-0500
TZNAME:CDT
DTSTART:20250309T080000
END:DAYLIGHT
BEGIN:STANDARD
TZOFFSETFROM:-0500
TZOFFSETTO:-0600
TZNAME:CST
DTSTART:20251102T070000
END:STANDARD
BEGIN:DAYLIGHT
TZOFFSETFROM:-0600
TZOFFSETTO:-0500
TZNAME:CDT
DTSTART:20260308T080000
END:DAYLIGHT
BEGIN:STANDARD
TZOFFSETFROM:-0500
TZOFFSETTO:-0600
TZNAME:CST
DTSTART:20261101T070000
END:STANDARD
BEGIN:DAYLIGHT
TZOFFSETFROM:-0600
TZOFFSETTO:-0500
TZNAME:CDT
DTSTART:20270314T080000
END:DAYLIGHT
BEGIN:STANDARD
TZOFFSETFROM:-0500
TZOFFSETTO:-0600
TZNAME:CST
DTSTART:20271107T070000
END:STANDARD
END:VTIMEZONE
BEGIN:VEVENT
DTSTART;VALUE=DATE:20260507
DTEND;VALUE=DATE:20260508
DTSTAMP:20260421T151111
CREATED:20251224T080019Z
LAST-MODIFIED:20260113T133758Z
UID:10000095-1778112000-1778198399@yourvisionwriters.com
SUMMARY:Corinthians 14:5
DESCRIPTION:1 Corinthians 14:5 I am happy for all of you to speak in tongues\, but I desire even more that each one of you will also speak revelation knowledge for the benefit of the whole church. So please do not speak in tongues in the church unless you can also interpret what you have just said. (TMB) \nWhich is your choice: to be edified or to edify others?  \nThere are those who place a great deal of spiritual weight on speaking in tongues. I recommend you seek the Lord for yourself on this matter. Paul teaches it would be better to prophesy.  \n1 Corinthians 14:12-14 So it is with you\, since you are so very eager to have spiritual gifts and manifestations of the Spirit\, strive to excel in ways that will build up the church [spiritually]. 13 Therefore let one who speaks in a tongue pray that he may [be gifted to] translate or explain [what he says]. 14 For if I pray in a tongue\, my spirit prays\, but my mind is unproductive [because it does not understand what my spirit is praying]. (AMP) \nWhen a person gives a prophecy\, they “speak forth” or declare the divine will of God. The purpose is to make known the desires God has for the person\, the place\, or the situation in any way they can. As they speak the heart of God\, the sole purpose is obedience. God sends the prophet to bring people clarity\, where they understand what God wants them to do and they do it. I will use the plight of Nineveh and the prophet Jonah to explain. \n    *  Prophecy shows God’s justice – Because we understand God is a just God\, we should repent. It is why God sent Jonah to Nineveh.  \nNahum 1:9 – Futile are the plots you devise against the Eternal One\, Nineveh\, because He will put a stop to them. Evil will not have a second chance to rise up. (TVT) \n    *  Prophecy shows God’s power – Because we understand God is almighty\, we know He always wins. This should create awe and also be encouraging.  \nJonah 3:4  Jonah started through the city\, and after walking a whole day\, he proclaimed\, “In forty days Nineveh will be destroyed!” (Good News Translation) \n    *  Prophecy shows God’s love – Because God loves us\, He gives us warning. If we obey\, we avoid destruction.  \nJonah 3:10 When God saw their deeds\, that they turned from their wicked way\, then God [had compassion and] relented concerning the disaster which He had declared that He would bring upon them. And He did not do it. (AMP) \nWhat an honor it would be to be used by God in this manner! It is wonderful to spend time in the presence of God\, being washed over by His Spirit\, speaking in tongues\, and having your spirit man edified. You feel strong and close to the Father\, and that is a good thing. What about your service to others? The enemy will try to stop you from submitting yourself to be used by God. Don’t allow him to. You have to decide what is more important to you. \nPlease agree with me as I pray. Then ask the Lord what your prayer should be and wait for His response: \nFather\, I don’t need a title or a position to be used by You to speak into someone’s life\, and I am grateful. I only need to be willing and available. I will continue to sit at Your feet\, studying and learning more about You. Being in Your presence to be edified by You is the greatest joy I have ever experienced. It is all I want. I repent for those days when I need to give\, and I just wanted to get. I want You to trust me with the lives of Your beloved. I know Your desire is for all to come to the knowledge of the truth. I also know You will send a word of prophecy to reveal the truth. I want to be used by You for the edification of the body and for Your glory…  \nAsk the lord what he wants to say to you about today’s devotional and journal it here:   
URL:https://yourvisionwriters.com/devotional/corinthians-145/
CATEGORIES:May
END:VEVENT
END:VCALENDAR