BEGIN:VCALENDAR
VERSION:2.0
PRODID:-//At God&#039;s Door Ministries - ECPv6.15.13//NONSGML v1.0//EN
CALSCALE:GREGORIAN
METHOD:PUBLISH
X-WR-CALNAME:At God&#039;s Door Ministries
X-ORIGINAL-URL:https://yourvisionwriters.com
X-WR-CALDESC:Events for At God&#039;s Door Ministries
REFRESH-INTERVAL;VALUE=DURATION:PT1H
X-Robots-Tag:noindex
X-PUBLISHED-TTL:PT1H
BEGIN:VTIMEZONE
TZID:America/Chicago
BEGIN:DAYLIGHT
TZOFFSETFROM:-0600
TZOFFSETTO:-0500
TZNAME:CDT
DTSTART:20250309T080000
END:DAYLIGHT
BEGIN:STANDARD
TZOFFSETFROM:-0500
TZOFFSETTO:-0600
TZNAME:CST
DTSTART:20251102T070000
END:STANDARD
BEGIN:DAYLIGHT
TZOFFSETFROM:-0600
TZOFFSETTO:-0500
TZNAME:CDT
DTSTART:20260308T080000
END:DAYLIGHT
BEGIN:STANDARD
TZOFFSETFROM:-0500
TZOFFSETTO:-0600
TZNAME:CST
DTSTART:20261101T070000
END:STANDARD
BEGIN:DAYLIGHT
TZOFFSETFROM:-0600
TZOFFSETTO:-0500
TZNAME:CDT
DTSTART:20270314T080000
END:DAYLIGHT
BEGIN:STANDARD
TZOFFSETFROM:-0500
TZOFFSETTO:-0600
TZNAME:CST
DTSTART:20271107T070000
END:STANDARD
END:VTIMEZONE
BEGIN:VEVENT
DTSTART;VALUE=DATE:20260508
DTEND;VALUE=DATE:20260509
DTSTAMP:20260421T150633
CREATED:20251224T084030Z
LAST-MODIFIED:20260113T133758Z
UID:10000099-1778198400-1778284799@yourvisionwriters.com
SUMMARY:John 1:17
DESCRIPTION:John 1:17 For the law was given by Moses\, but grace and truth came by Jesus Christ. (KJV) \nAre you being condemned by religion? \nThere is a quote by Michael Douglas in the movie\, The American President\, where he talks about the person who is running against him.  \n“And whatever your particular problem is\, I promise you\, Bob Rumson is not the least bit interested in solving it. He is interested in two things and two things only\, making you afraid of it and telling you who is to blame for it”.  \nPeople bound by religion are not interested in helping you. They also have two things they do:  \n\nIdentify what is wrong with you (judgement) \nTreat you as if there is no hope for you (condemnation). \n\nIf judgement and condemnation are not enough\, they also don’t tell you or show you the way to a better life. They hold on to your deliverance as if it’s a reward you have to earn. They make salvation some closed group or secret society you have to pledge to get in to. They make sure you feel you are doomed. Thank God\, He does not work that way.  \nEphesians 2:8 For by grace you have been saved by faith. Nothing you did could ever earn this salvation\, for it was the love gift from God that brought us to Christ! 9 So no one will ever be able to boast\, for salvation is never a reward for good works or human striving. (TPT) \nAlso\, He won’t leave you broken\, ashamed\, and feeling as if all is lost.  \nRomans 8:1-2 Therefore there is now no condemnation [no guilty verdict\, no punishment] for those who are in Christ Jesus [who believe in Him as personal Lord and Savior]. 2 For the law of the Spirit of life [which is] in Christ Jesus [the law of our new being] has set you free from the law of sin and of death. (AMP) \nYour Lord and Father positioned you\, through salvation\, to accept the transforming work of the cross and become the image He designed. \nEphesians 2:10 For we are His workmanship [His own master work\, a work of art]\, created in Christ Jesus [reborn from above—spiritually transformed\, renewed\, ready to be used] for good works\, which God prepared [for us] beforehand [taking paths which He set]\, so that we would walk in them [living the good life which He prearranged and made ready for us]. (AMP) \nYou want to always remember salvation shines a light on your need for the Father\, and allows Him to create a new you with His love and compassion. God will tell you what you need to do to move to a closer place in Him. That’s a glorious thing for you and for every believer. \nPlease agree with me as I pray. Then ask the Lord what your prayer should be and wait for His response: \nFather\, I thank You for the access I have to You. Because of Your grace\, I am no longer held in bondage by the law. I am covered by the blood of Jesus. I thank You! I am no longer interested in listing the wrongs I have done and what they mean. I will not allow others to list my wrongs without helping me do what is right. I repent for walking in condemnation. It is my responsibility to stand\, not someone else to make me stand. I thank You for moving me from the place of sin-consciousness to a place where I am heavenly minded in my choices. I will not continue to waste my time thinking about and talking about what the devil has done. I will concentrate on what Jesus did and what that means for my life. I want to access the power available to me as a believer to be transformed into Your image. I thank You for the blood of Christ…  \nAsk the lord what he wants to say to you about today’s devotional and journal it here:   
URL:https://yourvisionwriters.com/devotional/john-117/
CATEGORIES:May
END:VEVENT
END:VCALENDAR