BEGIN:VCALENDAR
VERSION:2.0
PRODID:-//At God&#039;s Door Ministries - ECPv6.15.13//NONSGML v1.0//EN
CALSCALE:GREGORIAN
METHOD:PUBLISH
X-WR-CALNAME:At God&#039;s Door Ministries
X-ORIGINAL-URL:https://yourvisionwriters.com
X-WR-CALDESC:Events for At God&#039;s Door Ministries
REFRESH-INTERVAL;VALUE=DURATION:PT1H
X-Robots-Tag:noindex
X-PUBLISHED-TTL:PT1H
BEGIN:VTIMEZONE
TZID:America/Chicago
BEGIN:DAYLIGHT
TZOFFSETFROM:-0600
TZOFFSETTO:-0500
TZNAME:CDT
DTSTART:20250309T080000
END:DAYLIGHT
BEGIN:STANDARD
TZOFFSETFROM:-0500
TZOFFSETTO:-0600
TZNAME:CST
DTSTART:20251102T070000
END:STANDARD
BEGIN:DAYLIGHT
TZOFFSETFROM:-0600
TZOFFSETTO:-0500
TZNAME:CDT
DTSTART:20260308T080000
END:DAYLIGHT
BEGIN:STANDARD
TZOFFSETFROM:-0500
TZOFFSETTO:-0600
TZNAME:CST
DTSTART:20261101T070000
END:STANDARD
BEGIN:DAYLIGHT
TZOFFSETFROM:-0600
TZOFFSETTO:-0500
TZNAME:CDT
DTSTART:20270314T080000
END:DAYLIGHT
BEGIN:STANDARD
TZOFFSETFROM:-0500
TZOFFSETTO:-0600
TZNAME:CST
DTSTART:20271107T070000
END:STANDARD
END:VTIMEZONE
BEGIN:VEVENT
DTSTART;VALUE=DATE:20260510
DTEND;VALUE=DATE:20260511
DTSTAMP:20260421T150724
CREATED:20251224T084812Z
LAST-MODIFIED:20260113T133758Z
UID:10000104-1778371200-1778457599@yourvisionwriters.com
SUMMARY:Joshua 23:11
DESCRIPTION:Joshua 23:11 Take good heed therefore unto yourselves\, that ye love the Lord your God. (KJV) \nAre you being mindful of your choices? \nBeing a part of a group can be fun. If you’re not careful\, the group could influence your activity more than your stance as a Christian does.  \n1 Corinthians 15:33 33 So stop fooling yourselves! Evil companions will corrupt good morals and character. (TPT) \nProverbs 13:20 If you want to grow in wisdom\, spend time with the wise. Walk with the wicked and you’ll eventually become just like them. (TPT) \nIn your workplace\, social group\, club\, etc. do you choose to conform to the culture of the environment you are in? Do you go with the flow and blend in with everyone because of your job? Are there times when you do things because it is what everyone else is doing\, even though it is not a requirement or policy of the company you work for or club you are a member of? Do you make compromising decisions because you want to be in the running for the next promotion\, get picked by the popular people\, be the boss’s favorite\, etc.  \nGalatians 5:13a Brothers and sisters\, God has called you to freedom! Hear the call\, and do not spoil this gift by using your liberty to engage in what your flesh desires; (TVT) \nWeakening and/or reducing your principles and standards for personal reasons will damage to you spiritually. There is a checklist for what is OK and what is not. It’s called the Bible. Along with reading and studying the word\, go to God for clarity in application as you make your choices every day.  \n1 Corinthians 10:23 All things are legitimate [permissible—and we are free to do anything we please]\, but not all things are helpful (expedient\, profitable\, and wholesome). All things are legitimate\, but not all things are constructive [to character] and edifying [to spiritual life]. (AMPC) \nWalk in the liberty Christ made for you. Don’t fall prey to the traps the enemy will set for you. \nPlease agree with me as I pray. Then ask the Lord what your prayer should be and wait for His response: \nFather\, I thank You for providing a way for me to interact with different people\, at all times\, in my life\, everywhere I go. The people I meet are not just members of a church. I interact at the grocery store\, at the movie theater\, at social and networking venues\, and at my job. I want every decision I make and every choice and offer I take to be godly. I know that is not always the case. Sometimes I make decisions because I am thinking strategically for my self-preservation or my stance in whatever environment I am in. I repent for doing that. I want to rest in You for all I am and in everything I will ever accomplish. I don’t want to compromise my standard with You to meet some standard with people who have absolutely no control over my life or my destiny. Thank You for the revelation\, for the instruction and the rebuke… \nAsk the lord what he wants to say to you about today’s devotional and journal it here:   
URL:https://yourvisionwriters.com/devotional/joshua-2311/
CATEGORIES:May
END:VEVENT
END:VCALENDAR