BEGIN:VCALENDAR
VERSION:2.0
PRODID:-//At God&#039;s Door Ministries - ECPv6.15.13//NONSGML v1.0//EN
CALSCALE:GREGORIAN
METHOD:PUBLISH
X-ORIGINAL-URL:https://yourvisionwriters.com
X-WR-CALDESC:Events for At God&#039;s Door Ministries
REFRESH-INTERVAL;VALUE=DURATION:PT1H
X-Robots-Tag:noindex
X-PUBLISHED-TTL:PT1H
BEGIN:VTIMEZONE
TZID:America/Chicago
BEGIN:DAYLIGHT
TZOFFSETFROM:-0600
TZOFFSETTO:-0500
TZNAME:CDT
DTSTART:20250309T080000
END:DAYLIGHT
BEGIN:STANDARD
TZOFFSETFROM:-0500
TZOFFSETTO:-0600
TZNAME:CST
DTSTART:20251102T070000
END:STANDARD
BEGIN:DAYLIGHT
TZOFFSETFROM:-0600
TZOFFSETTO:-0500
TZNAME:CDT
DTSTART:20260308T080000
END:DAYLIGHT
BEGIN:STANDARD
TZOFFSETFROM:-0500
TZOFFSETTO:-0600
TZNAME:CST
DTSTART:20261101T070000
END:STANDARD
BEGIN:DAYLIGHT
TZOFFSETFROM:-0600
TZOFFSETTO:-0500
TZNAME:CDT
DTSTART:20270314T080000
END:DAYLIGHT
BEGIN:STANDARD
TZOFFSETFROM:-0500
TZOFFSETTO:-0600
TZNAME:CST
DTSTART:20271107T070000
END:STANDARD
END:VTIMEZONE
BEGIN:VEVENT
DTSTART;VALUE=DATE:20260511
DTEND;VALUE=DATE:20260512
DTSTAMP:20260421T163519
CREATED:20251224T085604Z
LAST-MODIFIED:20260113T133758Z
UID:10000109-1778457600-1778543999@yourvisionwriters.com
SUMMARY:Psalms 13:5
DESCRIPTION:Psalms 13:5 But I have trusted in thy mercy; my heart shall rejoice in thy salvation. (KJV) \nWho are you trusting? \nIsn’t it a good thing that going to heaven has nothing to do with how you respond to situations in your life? You have thoughts about what you should do\, and you also have guidance from The One who knows all.  \nProverbs 3:5-7 Trust in the Lord completely\, and do not rely on your own opinions. With all your heart rely on him to guide you\, and he will lead you in every decision you make. 6 Become intimate with him in whatever you do\, and he will lead you wherever you go. 7 Don’t think for a moment that you know it all\, for wisdom comes when you adore him with undivided devotion and avoid everything that’s wrong. (TPT) \nYour faith\, hope\, and attitude towards God has to grow from whining and complaining to gratitude and thankfulness. You cast your cares on the Lord\, knowing and believing He is working things out for “the” good. How can you speak of the power of God one day and cry about what is going on in your life the next? When your words and your actions don’t match\, you are showing your lack of trust in Him. It also makes it hard for you to witness effectively.  \nPhilippians 2:14 Do everything without murmuring or questioning [the providence of God]\, 15 so that you may prove yourselves to be blameless and guileless\, innocent and uncontaminated\, children of God without blemish in the midst of a [morally] crooked and [spiritually] perverted generation\, among whom you are seen as bright lights [beacons shining out clearly] in the world [of darkness]\, 16 holding out and offering to everyone the word of life\, so that in the day of Christ I will have reason to rejoice greatly because I did not run [my race] in vain nor labor without result. (AMP) \nStop trusting in yourself and what you know about your situation; and what you think about your faithfulness\, righteousness\, and merits. Put all of your trust in the Lord\, who has a plan for your life. He is the gave you life and purchased your salvation. You have a countless list of reasons to rejoice and trust.  \nNumbers 23:19 “God is not a man\, that He should lie\, Nor a son of man\, that He should repent. Has He said\, and will He not do? Or has He spoken\, and will He not make it good”? (NKJV) \nPlease agree with me as I pray. Then ask the Lord what your prayer should be and wait for His response: \nFather\, I thank You for my salvation. I would not have a chance if I had to work in order to be with You in heaven. When I stop to think about my life\, I know I am sustained by Your grace\, Your mercy\, and the fact that You love me enough to look beyond my faults and see my needs. I should stay in a continual state of celebration. I repent for the times instead of celebrating; I was complaining. I know it meant I did not trust You to work everything out. For those times\, I am sorry. I need to spend more time on my knees. I have access to You and entrance into Your kingdom because Jesus died for me\, even when I wasn’t thinking about Him. If I had 10\,000 tongues\, I couldn’t thank You enough. I want to live my life in constant gratitude for what You’ve done for me… \nAsk the lord what he wants to say to you about today’s devotional and journal it here:   
URL:https://yourvisionwriters.com/devotional/psalms-135/
CATEGORIES:May
END:VEVENT
END:VCALENDAR