BEGIN:VCALENDAR
VERSION:2.0
PRODID:-//At God&#039;s Door Ministries - ECPv6.15.13//NONSGML v1.0//EN
CALSCALE:GREGORIAN
METHOD:PUBLISH
X-WR-CALNAME:At God&#039;s Door Ministries
X-ORIGINAL-URL:https://yourvisionwriters.com
X-WR-CALDESC:Events for At God&#039;s Door Ministries
REFRESH-INTERVAL;VALUE=DURATION:PT1H
X-Robots-Tag:noindex
X-PUBLISHED-TTL:PT1H
BEGIN:VTIMEZONE
TZID:America/Chicago
BEGIN:DAYLIGHT
TZOFFSETFROM:-0600
TZOFFSETTO:-0500
TZNAME:CDT
DTSTART:20250309T080000
END:DAYLIGHT
BEGIN:STANDARD
TZOFFSETFROM:-0500
TZOFFSETTO:-0600
TZNAME:CST
DTSTART:20251102T070000
END:STANDARD
BEGIN:DAYLIGHT
TZOFFSETFROM:-0600
TZOFFSETTO:-0500
TZNAME:CDT
DTSTART:20260308T080000
END:DAYLIGHT
BEGIN:STANDARD
TZOFFSETFROM:-0500
TZOFFSETTO:-0600
TZNAME:CST
DTSTART:20261101T070000
END:STANDARD
BEGIN:DAYLIGHT
TZOFFSETFROM:-0600
TZOFFSETTO:-0500
TZNAME:CDT
DTSTART:20270314T080000
END:DAYLIGHT
BEGIN:STANDARD
TZOFFSETFROM:-0500
TZOFFSETTO:-0600
TZNAME:CST
DTSTART:20271107T070000
END:STANDARD
END:VTIMEZONE
BEGIN:VEVENT
DTSTART;VALUE=DATE:20260513
DTEND;VALUE=DATE:20260514
DTSTAMP:20260421T172212
CREATED:20251224T090205Z
LAST-MODIFIED:20260113T133758Z
UID:10000116-1778630400-1778716799@yourvisionwriters.com
SUMMARY:Psalms 37:23
DESCRIPTION:Psalms 37:23   The steps of a man are established by the LORD\, when he delights in his way (KJV)\n \nDo you have your new walking shoes on? \nHave you seen a child when they get new shoes? He/she looks down at their feet and takes off. Happy to be walking\, excited about the new shoes. Not really looking where they are going. Not even considering the idea that they may fall. That is how the Lord wants you to walk with Him\, knowing He will be there. \nPsalm 119:133 Establish my footsteps in [the way of] Your word; Do not let any human weakness have power over me [causing me to be separated from You]. (AMP) \nYou know God has picked the right task\, the right path\, and the right time for you. The correct size and fit.  \nRomans 8:28-30 And we know that all things work together for good to those who love God\, to those who are the called according to His purpose. 29 For whom He foreknew\, He also predestined to be conformed to the image of His Son\, that He might be the firstborn among many brethren. 30 Moreover whom He predestined\, these He also called; whom He called\, these He also justified; and whom He justified\, these He also glorified. (NKJV) \nYou only need to be happy to be used by Him. You’ve got your marching orders. Make disciples (Matthew 28:1-20). You got your head down and moving. Having faith\, though you might wobble\, and possibly fall\, you will not be stopped.  \nProverbs 24:16a For the lovers of God may suffer adversity and stumble seven times\, but they will continue to rise over and over again. (TPT) \nPlease agree with me as I pray. Then ask the Lord what your prayer should be and wait for His response: \nFather\, with each day\, I feel like the child with new shoes on. I don’t have to watch where I’m going because I know You order my footsteps. I know I can trust You. How wonderful! The excitement is welling up within me even if I as I think about it. You are such an awesome God! You set my path\, called and anointed me\, and I love it. I repent for thinking I should have a say in the places You want to take me. I am sorry if I act opposed because I may not want to go\, or I think I should go. Please forgive me. You have designed a way for me to give You glory with my life. I accept Your way. I know if I just keep my eyes on You and keep putting one foot in front of the other; I’ll end up in the place You have ordained for me to be. I bless Your Holy Name!…  \nAsk the lord what he wants to say to you about today’s devotional and journal it here:   
URL:https://yourvisionwriters.com/devotional/psalms-3723/
CATEGORIES:May
END:VEVENT
END:VCALENDAR