BEGIN:VCALENDAR
VERSION:2.0
PRODID:-//At God&#039;s Door Ministries - ECPv6.15.13//NONSGML v1.0//EN
CALSCALE:GREGORIAN
METHOD:PUBLISH
X-ORIGINAL-URL:https://yourvisionwriters.com
X-WR-CALDESC:Events for At God&#039;s Door Ministries
REFRESH-INTERVAL;VALUE=DURATION:PT1H
X-Robots-Tag:noindex
X-PUBLISHED-TTL:PT1H
BEGIN:VTIMEZONE
TZID:America/Chicago
BEGIN:DAYLIGHT
TZOFFSETFROM:-0600
TZOFFSETTO:-0500
TZNAME:CDT
DTSTART:20250309T080000
END:DAYLIGHT
BEGIN:STANDARD
TZOFFSETFROM:-0500
TZOFFSETTO:-0600
TZNAME:CST
DTSTART:20251102T070000
END:STANDARD
BEGIN:DAYLIGHT
TZOFFSETFROM:-0600
TZOFFSETTO:-0500
TZNAME:CDT
DTSTART:20260308T080000
END:DAYLIGHT
BEGIN:STANDARD
TZOFFSETFROM:-0500
TZOFFSETTO:-0600
TZNAME:CST
DTSTART:20261101T070000
END:STANDARD
BEGIN:DAYLIGHT
TZOFFSETFROM:-0600
TZOFFSETTO:-0500
TZNAME:CDT
DTSTART:20270314T080000
END:DAYLIGHT
BEGIN:STANDARD
TZOFFSETFROM:-0500
TZOFFSETTO:-0600
TZNAME:CST
DTSTART:20271107T070000
END:STANDARD
END:VTIMEZONE
BEGIN:VEVENT
DTSTART;VALUE=DATE:20260515
DTEND;VALUE=DATE:20260516
DTSTAMP:20260421T172043
CREATED:20251224T090627Z
LAST-MODIFIED:20260113T133758Z
UID:10000122-1778803200-1778889599@yourvisionwriters.com
SUMMARY:John 6:40
DESCRIPTION:John 6:40 And this is the will of him that sent me\, that everyone which seeth the Son\, and believeth on him\, may have everlasting life: and I will raise him up at the last day. (KJV) \nAre living like you believe? \nAs a Christian\, your task never changes. Even though you may change jobs\, churches\, or locations in the world; you are to believe in the finished work of Jesus. That is what God requires for your salvation.  \nRomans 10:9-10 because if you acknowledge and confess with your mouth that Jesus is Lord [recognizing His power\, authority\, and majesty as God]\, and believe in your heart that God raised Him from the dead\, you will be saved. 10 For with the heart a person believes [in Christ as Savior] resulting in his justification [that is\, being made righteous—being freed of the guilt of sin and made acceptable to God]; and with the mouth he acknowledges and confesses [his faith openly]\, resulting in and confirming [his] salvation. (AMP) \nYou must believe when things are not going your way. You must believe when you don’t understand the direction you are being taken in. You must believe when things look the worst. You must believe when the enemy tries to make you walk in fear instead of faith. You must believe when you are uncertain. You must believe when you are emotional. You must believe when things are changing more rapidly than you can keep up with. You must believe when your old habits are trying to resurface. You must believe\, though everything in you is telling you not to believe.  \nRomans 8:35-39 Who shall ever separate us from the love of Christ? Will tribulation\, or distress\, or persecution\, or famine\, or nakedness\, or danger\, or sword? 36 Just as it is written and forever remains written\,“FOR YOUR SAKE WE ARE PUT TO DEATH ALL DAY LONG; WE ARE REGARDED AS SHEEP FOR THE SLAUGHTER.” 37 Yet in all these things we are more than conquerors and gain an overwhelming victory through Him who loved us [so much that He died for us]. 38 For I am convinced [and continue to be convinced—beyond any doubt] that neither death\, nor life\, nor angels\, nor principalities\, nor things present and threatening\, nor things to come\, nor powers\, 39 nor height\, nor depth\, nor any other created thing\, will be able to separate us from the [unlimited] love of God\, which is in Christ Jesus our Lord. (AMP) \nYou must show you believe by standing\, despite what you see\, and praising the Lord with a humble and trusting heart.  \nPlease agree with me as I pray. Then ask the Lord what your prayer should be and wait for His response: \nFather\, thank You for this reminder. I repent for thinking there is a time when I can relax my stance. My job does not change. It doesn’t matter where I am or who I am interacting with. You have ordained and sanctified the place You called me to. I am not a chameleon\, and I don’t have to fit in everywhere I go. I simply have to live the life ordered and directed by You; showing\, through my actions\, I believe You in everything. I need to humble myself and trust You. I’ve often heard people say\, “I trust You even when I can’t trace You.” I understand the statement. Father\, I want to get to the place in You where I can trace You in every situation in my life. I want to be able to see Your hand moving. I am looking forward to it and I thank You in advance… \nAsk the lord what he wants to say to you about today’s devotional and journal it here:   
URL:https://yourvisionwriters.com/devotional/john-640/
CATEGORIES:May
END:VEVENT
END:VCALENDAR