BEGIN:VCALENDAR
VERSION:2.0
PRODID:-//At God&#039;s Door Ministries - ECPv6.15.13//NONSGML v1.0//EN
CALSCALE:GREGORIAN
METHOD:PUBLISH
X-ORIGINAL-URL:https://yourvisionwriters.com
X-WR-CALDESC:Events for At God&#039;s Door Ministries
REFRESH-INTERVAL;VALUE=DURATION:PT1H
X-Robots-Tag:noindex
X-PUBLISHED-TTL:PT1H
BEGIN:VTIMEZONE
TZID:America/Chicago
BEGIN:DAYLIGHT
TZOFFSETFROM:-0600
TZOFFSETTO:-0500
TZNAME:CDT
DTSTART:20250309T080000
END:DAYLIGHT
BEGIN:STANDARD
TZOFFSETFROM:-0500
TZOFFSETTO:-0600
TZNAME:CST
DTSTART:20251102T070000
END:STANDARD
BEGIN:DAYLIGHT
TZOFFSETFROM:-0600
TZOFFSETTO:-0500
TZNAME:CDT
DTSTART:20260308T080000
END:DAYLIGHT
BEGIN:STANDARD
TZOFFSETFROM:-0500
TZOFFSETTO:-0600
TZNAME:CST
DTSTART:20261101T070000
END:STANDARD
BEGIN:DAYLIGHT
TZOFFSETFROM:-0600
TZOFFSETTO:-0500
TZNAME:CDT
DTSTART:20270314T080000
END:DAYLIGHT
BEGIN:STANDARD
TZOFFSETFROM:-0500
TZOFFSETTO:-0600
TZNAME:CST
DTSTART:20271107T070000
END:STANDARD
END:VTIMEZONE
BEGIN:VEVENT
DTSTART;VALUE=DATE:20260521
DTEND;VALUE=DATE:20260522
DTSTAMP:20260421T184925
CREATED:20251224T092554Z
LAST-MODIFIED:20260113T133758Z
UID:10000151-1779321600-1779407999@yourvisionwriters.com
SUMMARY:Titus 2:14
DESCRIPTION:Titus 2:14 Who gave himself for us\, that he might redeem us from all iniquity\, and purify unto himself a peculiar people\, zealous of good works. (KJV) \nAre you peculiar? \nJesus died for your salvation\, and much more than that. His death opened the way for you to be who God designed you to be. You needed only to accept His amazing gift. Jesus died and got up from the grave. As a believer\, you can and should be zealous of good works. What does that mean? It means you have great energy and enthusiasm in pursuit of the cause of Christ. It means you live like you love being a Christian and your passion for Christ is evident!  \nPhilippians 3:7-11 I once thought these things were valuable\, but now I consider them worthless because of what Christ has done. 8 Yes\, everything else is worthless when compared with the infinite value of knowing Christ Jesus my Lord. For his sake I have discarded everything else\, counting it all as garbage\, so that I could gain Christ 9 and become one with him. I no longer count on my own righteousness through obeying the law; rather\, I become righteous through faith in Christ. For God’s way of making us right with himself depends on faith. 10 I want to know Christ and experience the mighty power that raised him from the dead. I want to suffer with him\, sharing in his death\, 11 so that one way or another I will experience the resurrection from the dead! (NLT) \nNormally\, the first thought that comes to mind when you hear the word peculiar is strange or bizarre. However\, that is not the right thinking. Jesus died\, giving you the opportunity to be God’s own possession. That’s what makes you distinctive and special\, set aside exclusively for Him.  \nJohn 15:16 You have not chosen Me\, but I have chosen you and I have appointed and placed and purposefully planted you\, so that you would go and bear fruit and keep on bearing\, and that your fruit will remain and be lasting\, so that whatever you ask of the Father in My name [as My representative] He may give to you. (AMP) \nSalvation made you peculiar. It may seem strange to the rest of the world if you live like you belong to God. However\, it is not strange to you. Your excitement about your place in the Lord causes you to do things that please Him\, amazing things\, extraordinary things\, peculiar things!  \nMark 16:17-18 And these signs shall follow them that believe; In my name shall they cast out devils; they shall speak with new tongues; 18 They shall take up serpents; and if they drink any deadly thing\, it shall not hurt them; they shall lay hands on the sick\, and they shall recover. (KJV) \nYour passion for His work in and through you is what sustains your life. Be peculiar! \nPlease agree with me as I pray. Then ask the Lord what your prayer should be and wait for His response: \nFather\, I am peculiar\, and I thank You. Thank You for choosing me and setting me aside as Your own. I have sung “I belong to You”\, “I surrender all” and many others. I have said\, “You are my Lord and master.” As I seek You and study Your word\, I’m getting a new understanding of what those statements really mean. I repent for making my relationship with You mostly about what I need You to do for me and the problems I need You to solve. Thank You for the revelation. Your definition of our relationship means I truly belong to You. Your definition means my life is not mine to control and I repent for acting like it is. Your definition means I am available for You to do with me whatever You choose to do. I am to be salt and light\, to speak a word\, to provide encouragement\, and whatever else You may require. There is nothing I have gained\, no title or accolade that is higher than being Your servant. I want to be set aside for Your use. I thank You in advance for the times when You will have to remind me. Also\, thank You now and in advance for bringing me back to center whenever I try to live independently of You\, going the way I want to and making the choices I want… \nAsk the lord what he wants to say to you about today’s devotional and journal it here:   
URL:https://yourvisionwriters.com/devotional/titus-214/
CATEGORIES:May
END:VEVENT
END:VCALENDAR