BEGIN:VCALENDAR
VERSION:2.0
PRODID:-//At God&#039;s Door Ministries - ECPv6.15.13//NONSGML v1.0//EN
CALSCALE:GREGORIAN
METHOD:PUBLISH
X-WR-CALNAME:At God&#039;s Door Ministries
X-ORIGINAL-URL:https://yourvisionwriters.com
X-WR-CALDESC:Events for At God&#039;s Door Ministries
REFRESH-INTERVAL;VALUE=DURATION:PT1H
X-Robots-Tag:noindex
X-PUBLISHED-TTL:PT1H
BEGIN:VTIMEZONE
TZID:America/Chicago
BEGIN:DAYLIGHT
TZOFFSETFROM:-0600
TZOFFSETTO:-0500
TZNAME:CDT
DTSTART:20250309T080000
END:DAYLIGHT
BEGIN:STANDARD
TZOFFSETFROM:-0500
TZOFFSETTO:-0600
TZNAME:CST
DTSTART:20251102T070000
END:STANDARD
BEGIN:DAYLIGHT
TZOFFSETFROM:-0600
TZOFFSETTO:-0500
TZNAME:CDT
DTSTART:20260308T080000
END:DAYLIGHT
BEGIN:STANDARD
TZOFFSETFROM:-0500
TZOFFSETTO:-0600
TZNAME:CST
DTSTART:20261101T070000
END:STANDARD
BEGIN:DAYLIGHT
TZOFFSETFROM:-0600
TZOFFSETTO:-0500
TZNAME:CDT
DTSTART:20270314T080000
END:DAYLIGHT
BEGIN:STANDARD
TZOFFSETFROM:-0500
TZOFFSETTO:-0600
TZNAME:CST
DTSTART:20271107T070000
END:STANDARD
END:VTIMEZONE
BEGIN:VEVENT
DTSTART;VALUE=DATE:20260708
DTEND;VALUE=DATE:20260709
DTSTAMP:20260423T082707
CREATED:20251224T110018Z
LAST-MODIFIED:20260113T134026Z
UID:10000230-1783468800-1783555199@yourvisionwriters.com
SUMMARY:Ephesians 6:15
DESCRIPTION:Ephesians 6:15 You wear your eagerness and passion to communicate the good news like soldier’s shoes. Announce peace; the battle has already been fought and won! (TMB) \nDo you have on your “gospel shoes”? \nDon’t you just love shoes? I certainly do! You can’t count all the many kinds and styles\, work shoes\, play shoes\, casual shoes\, dress shoes\, etc. There are shoes for every activity\, every sport and even different shoes to play the same sport. As a soldier in the army of God\, you have on “gospel shoes” and they make your feet beautiful. \nHabakkuk 3:19 The Lord God is my strength [my source of courage\, my invincible army]; He has made my feet [steady and sure] like hinds’ feet And makes me walk [forward with spiritual confidence] on my high places [of challenge and responsibility] (AMP) \nRomans 10:15 And how can men [be expected to] preach unless they are sent? As it is written\, How beautiful are the feet of those who bring glad tidings! [How welcome is the coming of those who preach the good news of His good things!]  \nThese shoes compel you to bring the good news. These shoes part the way for peace.  \nIsaiah 52:7 How beautiful upon the mountains are the feet of him who brings good tidings\, who publishes peace\, who brings good tidings of good\, who publishes salvation\, who says to Zion\, Your God reigns! (AMPC) \nThe shoes never wear out\, and they always fit. In these shoes\, the answer to every problem is always Jesus.  \nPlease agree with me as I pray. Then ask the Lord what your prayer should be and wait for His response: \nFather\, I thank You for my “gospel shoes”. You know I love shoes. There is no pair of shoes I love more than these. They make my feet beautiful. They allow me to bring You into everyplace I go. I repent for the days and the times when I felt like they didn’t fit\, or didn’t go with my outfit. To be honest with You\, they probably didn’t go with my outfit. I have learned that I needed to change my clothes\, not Your shoes. I can tell everyone You are the answer\, no matter where I am or what the situation is. These shoes can be whatever color I need them to be. They can be whatever style I need them to be. They always match my outfit. I thank You. It’s good to be reminded my job is to tell the world they can have peace because Jesus is the answer…  \n \nAsk the lord what he wants to say to you about today’s devotional and journal it here:    \n 
URL:https://yourvisionwriters.com/devotional/ephesians-615/
CATEGORIES:July
END:VEVENT
END:VCALENDAR