BEGIN:VCALENDAR
VERSION:2.0
PRODID:-//At God&#039;s Door Ministries - ECPv6.15.13//NONSGML v1.0//EN
CALSCALE:GREGORIAN
METHOD:PUBLISH
X-WR-CALNAME:At God&#039;s Door Ministries
X-ORIGINAL-URL:https://yourvisionwriters.com
X-WR-CALDESC:Events for At God&#039;s Door Ministries
REFRESH-INTERVAL;VALUE=DURATION:PT1H
X-Robots-Tag:noindex
X-PUBLISHED-TTL:PT1H
BEGIN:VTIMEZONE
TZID:America/Chicago
BEGIN:DAYLIGHT
TZOFFSETFROM:-0600
TZOFFSETTO:-0500
TZNAME:CDT
DTSTART:20250309T080000
END:DAYLIGHT
BEGIN:STANDARD
TZOFFSETFROM:-0500
TZOFFSETTO:-0600
TZNAME:CST
DTSTART:20251102T070000
END:STANDARD
BEGIN:DAYLIGHT
TZOFFSETFROM:-0600
TZOFFSETTO:-0500
TZNAME:CDT
DTSTART:20260308T080000
END:DAYLIGHT
BEGIN:STANDARD
TZOFFSETFROM:-0500
TZOFFSETTO:-0600
TZNAME:CST
DTSTART:20261101T070000
END:STANDARD
BEGIN:DAYLIGHT
TZOFFSETFROM:-0600
TZOFFSETTO:-0500
TZNAME:CDT
DTSTART:20270314T080000
END:DAYLIGHT
BEGIN:STANDARD
TZOFFSETFROM:-0500
TZOFFSETTO:-0600
TZNAME:CST
DTSTART:20271107T070000
END:STANDARD
END:VTIMEZONE
BEGIN:VEVENT
DTSTART;VALUE=DATE:20260725
DTEND;VALUE=DATE:20260726
DTSTAMP:20260423T082653
CREATED:20251224T114140Z
LAST-MODIFIED:20260113T134026Z
UID:10000278-1784937600-1785023999@yourvisionwriters.com
SUMMARY:Matthew 6:5
DESCRIPTION:Matthew 6:5 And when thou prayest\, thou shalt not be as the hypocrites are: for they love to pray standing in the synagogues and in the corners of the streets\, that they may be seen of men. Verily I say unto you\, they have their reward. (KJV) \nWhat type of prayers are you praying? \nArmor with holes\, kinks\, rust spots\, etc. does not work well. Prayer is the oil\, the mender\, the forge and blacksmith keeping the armor working. Because of prayer\, which is your communication with God\, you can miss the pitfalls\, the stumbling blocks\, and any other things that can damage your armor.  \nPsalms 107:6-7 Then they cried out to the Lord in their trouble\, And He delivered them out of their distresses. 7 And He led them forth by the right way\, That they might go to a city for a dwelling place. (NKJV) \nYou want your prayers to build a relationship between you and God. When you spend time worshiping\, praying\, and sitting in the presence of Lord\, you transition from servant to friend.  \n2 Corinthians 13:9b We also pray for this\, that you be made complete [fully restored\, growing and maturing in godly character and spirit—pleasing your heavenly Father by the life you live]. (AMP) \nGod is always trying to show you the pitfalls and cause you to learn from what you have already experienced. However\, when you are far from Him\, you don’t listen\, and you don’t see.  \nMark 8:17b-18 Do you not yet discern or understand? Are your hearts in [a settled state of] hardness? 18 Having eyes\, do you not see [with them]\, and having ears\, do you not hear and perceive and understand the sense of what is said? And do you not remember? (AMPC) \nGod is always speaking. If you don’t talk to Him regularly\, His sound becomes white noise.  \nIsaiah 28:23 Listen and hear my voice; pay attention and hear what I say. (NIV) \nIsaiah 30:21 Your own ears will hear him. Right behind you a voice will say\, “This is the way you should go\, whether to the right or to the left.” (NLT) \nEffectual and fervent prayer\, coming from a pure heart\, brings you close and opens your ears. \nPlease agree with me as I pray. Then ask the Lord what your prayer should be and wait for His response: \nFather\, I want my armor to be in full working condition. I repent for allowing it to get in disrepair. I know it has to be in mint condition if I am going to be effective for You. Thank You for showing me how to clean off the rust\, patch the holes\, and smooth out the kinks. It brings me joy to spend time in Your presence. You open my ears of understanding. You point out to me what I need to do and where I need to go. You show me the obstacles I wouldn’t see without You. I thank You for loving me and caring about me. I want You to call me friend. It means You can trust me with information\, knowing I will do the God-like thing with it. I believe You want to call me friend as well. I am submitting myself to You. Please do in me what needs to be done. Teach me how to pray character building and life transforming prayers that will cause You to call me friend…  \n  \nAsk the lord what he wants to say to you about today’s devotional and journal it here:   
URL:https://yourvisionwriters.com/devotional/matthew-65/
CATEGORIES:July
END:VEVENT
END:VCALENDAR