BEGIN:VCALENDAR
VERSION:2.0
PRODID:-//At God&#039;s Door Ministries - ECPv6.15.13//NONSGML v1.0//EN
CALSCALE:GREGORIAN
METHOD:PUBLISH
X-ORIGINAL-URL:https://yourvisionwriters.com
X-WR-CALDESC:Events for At God&#039;s Door Ministries
REFRESH-INTERVAL;VALUE=DURATION:PT1H
X-Robots-Tag:noindex
X-PUBLISHED-TTL:PT1H
BEGIN:VTIMEZONE
TZID:America/Chicago
BEGIN:DAYLIGHT
TZOFFSETFROM:-0600
TZOFFSETTO:-0500
TZNAME:CDT
DTSTART:20250309T080000
END:DAYLIGHT
BEGIN:STANDARD
TZOFFSETFROM:-0500
TZOFFSETTO:-0600
TZNAME:CST
DTSTART:20251102T070000
END:STANDARD
BEGIN:DAYLIGHT
TZOFFSETFROM:-0600
TZOFFSETTO:-0500
TZNAME:CDT
DTSTART:20260308T080000
END:DAYLIGHT
BEGIN:STANDARD
TZOFFSETFROM:-0500
TZOFFSETTO:-0600
TZNAME:CST
DTSTART:20261101T070000
END:STANDARD
BEGIN:DAYLIGHT
TZOFFSETFROM:-0600
TZOFFSETTO:-0500
TZNAME:CDT
DTSTART:20270314T080000
END:DAYLIGHT
BEGIN:STANDARD
TZOFFSETFROM:-0500
TZOFFSETTO:-0600
TZNAME:CST
DTSTART:20271107T070000
END:STANDARD
END:VTIMEZONE
BEGIN:VEVENT
DTSTART;VALUE=DATE:20260831
DTEND;VALUE=DATE:20260901
DTSTAMP:20260423T021355
CREATED:20251224T112547Z
LAST-MODIFIED:20260114T052833Z
UID:10000262-1788134400-1788220799@yourvisionwriters.com
SUMMARY:Proverbs 2:3
DESCRIPTION:Proverbs 2:3 Yea\, if thou criest after knowledge\, and liftest up thy voice for understanding; (KJV) \nWho is dictating your actions? \nHave you ever been in a situation and the person knew something you didn’t tell them? Did you ask them how they knew and they said\, “I just knew it”? In its simplest definition\, discernment is nothing more than the ability to decide between truth and error\, right and wrong. There are those who say this ability comes with experience. Police detectives have it\, psychologists and psychiatrists use it. Then there is the discernment that comes from God.  \nThe word describes being able to distinguish\, discern\, judge\, or appraise a person\, statement\, situation\, or environment. The Holy Spirit gives the gift of discernment to enable certain Christians to clearly recognize and distinguish between the influence of God\, Satan\, the world\, and the flesh in a given situation. \nDiscernment is a sign of your maturity in Christ and is also critical if you are to be successful on your assignment.   \nHebrews 5:14 But solid food is for full-grown men\, for those whose senses and mental faculties are trained by practice to discriminate and distinguish between what is morally good and noble and what is evil and contrary either to divine or human law. (AMPC) \nYou have to distinguish if the “Spirit of God” or some other spirit influenced what you saw and/or heard. Often\, believers use their discernment when trying to decide about what to do or who to believe.  \nHosea 14:9 Whoever is [spiritually] wise\, let him understand these things; Whoever is [spiritually] discerning and understanding\, let him know them. For the ways of the Lord are right\, And the righteous will walk in them\, \nBut transgressors will stumble and fall in them. (AMP) \nWhen you are dealing with the people of God\, you can miss it\, and cause damage that lasts for years. Don’t run on your spiritual instincts. Always remain teachable. Seek the Lord before you act or speak.  \n1 Kings 3:9 “So give your servant a discerning heart to govern your people and to distinguish between right and wrong. For who is able to govern this great people of yours?” (NIV) \nYou may find that your instinct was correct. You may also find you would have missed it. Either way\, in every situation\, you must seek the Lord\, listen to His voice\, and follow His instruction. Then you will act in a way that pleases Him. \nPlease agree with me as I pray. Then ask the Lord what your prayer should be and wait for His response: \nFather\, I am coming to You\, asking You to strengthen my discernment. Teach me. I know I think a lot. Sometimes I look at the signs\, indications and implications and think I have it all figured out. Then I use my evaluation and experience to decide my next step because I think I know what happened and what I need to do. I repent for every time I followed my way without consulting You first. You and I both know\, it does not matter how many times I was right; it was the times I was wrong\, that cost me and others. The discernment\, You give to me\, allows me to see father and clearer. It helps me understand the spirit behind the actions and the attitudes that are not readily and naturally evident. It is Your discernment that allows me to respond to any situation by showing Your love with a godly attitude and in the right frame of mind. When I walk\, using the supernatural discernment You provide\, I see how\, when\, and where the devil stepped in. I need the discernment that comes from You. Please continue to teach me. I am ineffective without it… \n\nAsk the lord what he wants to say to you about today’s devotional and journal it here:   
URL:https://yourvisionwriters.com/devotional/proverbs-23/
CATEGORIES:August
END:VEVENT
END:VCALENDAR