BEGIN:VCALENDAR
VERSION:2.0
PRODID:-//At God&#039;s Door Ministries - ECPv6.15.13//NONSGML v1.0//EN
CALSCALE:GREGORIAN
METHOD:PUBLISH
X-ORIGINAL-URL:https://yourvisionwriters.com
X-WR-CALDESC:Events for At God&#039;s Door Ministries
REFRESH-INTERVAL;VALUE=DURATION:PT1H
X-Robots-Tag:noindex
X-PUBLISHED-TTL:PT1H
BEGIN:VTIMEZONE
TZID:America/Chicago
BEGIN:DAYLIGHT
TZOFFSETFROM:-0600
TZOFFSETTO:-0500
TZNAME:CDT
DTSTART:20250309T080000
END:DAYLIGHT
BEGIN:STANDARD
TZOFFSETFROM:-0500
TZOFFSETTO:-0600
TZNAME:CST
DTSTART:20251102T070000
END:STANDARD
BEGIN:DAYLIGHT
TZOFFSETFROM:-0600
TZOFFSETTO:-0500
TZNAME:CDT
DTSTART:20260308T080000
END:DAYLIGHT
BEGIN:STANDARD
TZOFFSETFROM:-0500
TZOFFSETTO:-0600
TZNAME:CST
DTSTART:20261101T070000
END:STANDARD
BEGIN:DAYLIGHT
TZOFFSETFROM:-0600
TZOFFSETTO:-0500
TZNAME:CDT
DTSTART:20270314T080000
END:DAYLIGHT
BEGIN:STANDARD
TZOFFSETFROM:-0500
TZOFFSETTO:-0600
TZNAME:CST
DTSTART:20271107T070000
END:STANDARD
END:VTIMEZONE
BEGIN:VEVENT
DTSTART;VALUE=DATE:20260910
DTEND;VALUE=DATE:20260911
DTSTAMP:20260423T020521
CREATED:20251224T102942Z
LAST-MODIFIED:20260113T134617Z
UID:10000213-1788998400-1789084799@yourvisionwriters.com
SUMMARY:1 Thessalonians 5:7
DESCRIPTION:1 Thessalonians 5:7 Sleeping and drunkenness are typical things people do at night\, but now the day of the Lord has dawned within us and has put an end to the slumbering effect and intoxication of the practices of darkness. (TMB) \nWhat are you doing in the night? \nWhat is it about the night that is incredibly inviting and exciting? Certain thoughts and behaviors comes to mind when you think about the night. It is when scary things are the scariest\, where mischief and mayhem abound. It is a time when you think no one is watching and you can get away with almost anything. Probably because you tell yourself everyone is doing something and enjoying the night. \nLuke 21:34-35 “But take heed to yourselves\, lest your hearts be weighed down with carousing\, drunkenness\, and cares of this life\, and that Day come on you unexpectedly.  35 For it will come as a snare on all those who dwell on the face of the whole earth”. (NKJV) \nYou are a child of the light. \nEphesians 5:8 For once you were darkness\, but now you are light in the Lord; walk as children of Light [live as those who are native-born to the Light] (AMP) \nYou can use the word “night” metaphorically to mean the draw of the darkness of the world and the time when you know the enemy is working against you. You can also use the natural meaning of the word\, which is the end of the day. If you do\, you can use night for rest and meditation. Take time to ponder the questions of the day and the things that happened. Was God glorified? Did you take the opportunity to share Christ? Spend some moments reflecting on your life and purpose; spend some of your time in prayer and study. Seek the Lord for a clearer understanding of all you have encountered that day. Pray for His grace and mercy to complete what He has planned for your life. \nPsalm 63:6-7 I lie awake each night thinking of you and reflecting on how you help me like a father. I sing through the night under your splendor-shadow\, offering up to you my songs of delight and joy! (TPT) \nIt is time to put away the things you do when you think no one is watching\, and live a life that can be watched. \nTitus 2:7 And show your own self in all respects to be a pattern and a model of good deeds and works\, teaching what is unadulterated\, showing gravity [having the strictest regard for truth and purity of motive]\, with dignity and seriousness. (AMPC) \nPlease agree with me as I pray. Then ask the Lord what your prayer should be and wait for His response: \nFather\, I thank You for calling me out of the darkness into Your marvelous light. I repent for making choices without regard to those who might be watching me. You require me to live a life that can be watched. I will not dip and dodge\, slip and slide\, peep and hide. I will not live the spy life; trying to keep someone from seeing my undercover activity. I thank You for delivering me. Thank You for creating in me the desire to be a light before men. Whether I want it to be or not\, my life is being watched. I want whoever is watching to see You. Thank You for the Holy Spirit\, who helps me govern my actions and my speech. I will submit to instruction. I don’t want to lead anyone astray…\n \nAsk the lord what he wants to say to you about today’s devotional and journal it here:
URL:https://yourvisionwriters.com/devotional/1-thessalonians-57/
CATEGORIES:September
END:VEVENT
END:VCALENDAR