BEGIN:VCALENDAR
VERSION:2.0
PRODID:-//At God&#039;s Door Ministries - ECPv6.15.13//NONSGML v1.0//EN
CALSCALE:GREGORIAN
METHOD:PUBLISH
X-WR-CALNAME:At God&#039;s Door Ministries
X-ORIGINAL-URL:https://yourvisionwriters.com
X-WR-CALDESC:Events for At God&#039;s Door Ministries
REFRESH-INTERVAL;VALUE=DURATION:PT1H
X-Robots-Tag:noindex
X-PUBLISHED-TTL:PT1H
BEGIN:VTIMEZONE
TZID:America/Chicago
BEGIN:DAYLIGHT
TZOFFSETFROM:-0600
TZOFFSETTO:-0500
TZNAME:CDT
DTSTART:20250309T080000
END:DAYLIGHT
BEGIN:STANDARD
TZOFFSETFROM:-0500
TZOFFSETTO:-0600
TZNAME:CST
DTSTART:20251102T070000
END:STANDARD
BEGIN:DAYLIGHT
TZOFFSETFROM:-0600
TZOFFSETTO:-0500
TZNAME:CDT
DTSTART:20260308T080000
END:DAYLIGHT
BEGIN:STANDARD
TZOFFSETFROM:-0500
TZOFFSETTO:-0600
TZNAME:CST
DTSTART:20261101T070000
END:STANDARD
BEGIN:DAYLIGHT
TZOFFSETFROM:-0600
TZOFFSETTO:-0500
TZNAME:CDT
DTSTART:20270314T080000
END:DAYLIGHT
BEGIN:STANDARD
TZOFFSETFROM:-0500
TZOFFSETTO:-0600
TZNAME:CST
DTSTART:20271107T070000
END:STANDARD
END:VTIMEZONE
BEGIN:VEVENT
DTSTART;VALUE=DATE:20260913
DTEND;VALUE=DATE:20260914
DTSTAMP:20260423T021422
CREATED:20251224T103747Z
LAST-MODIFIED:20260113T134617Z
UID:10000219-1789257600-1789343999@yourvisionwriters.com
SUMMARY:Ephesians 4:27
DESCRIPTION:Ephesians 4:27 Any sin that you tolerate is an open invitation to the devil. Do not give him a platform to operate from. (TMB) \nDo you have a virus? \nThere are signs when you have a virus on your computer: it runs slower; programs don’t function properly; the actions that are routinely performed don’t run as expected\, etc. Most computers have anti-virus software on them. They designed those applications to search for\, detect\, remove\, and even prevent computer viruses\, other malicious attacks\, and more. These tools are critical because a computer without anti-virus software can be infected within minutes of connecting to the internet. The bombardment is constant. To keep your computer running smoothly\, you need to use the antivirus software. It is best to use it on a preventative or maintenance program that runs all the time and according to the schedule you set. It will clean the entire system continuously and completely. \nYou have an anti-virus program for your life. It is the Bible. If you allow it to\, it will: \n\nPrevent the devil from making you run slower than you should.\n\nIsaiah 54:17 “No weapon that is formed against you will succeed; And every tongue that rises against you in judgment you will condemn. This [peace\, righteousness\, security\, and triumph over opposition] is the heritage of the servants of the Lord\, And this is their vindication from Me\,” says the Lord. (AMP) \n\nSearch for those things would cause you not to function properly.\n\nPsalm 26:2 Examine me\, O Lord\, and try me; test my heart and my mind. (AMP) \n\nDetect what is causing you to no longer do what you know to do the right way.\n\nPsalm 139:23-24a Search me [thoroughly]\, O God\, and know my heart; Test me and know my anxious thoughts; 24 And see if there is any wicked or hurtful way in me. (AMP) \n\nRemove all traces of the devil and his destructive forces from your life.\n\nPsalm 51:2\, 7 Wash me thoroughly from my wickedness and guilt And cleanse me from my sin. 7 Purify me with hyssop\, and I will be clean; Wash me\, and I will be whiter than snow. (AMP) \nThe Bible is critical because the enemy began his attack before you were born. \nGenesis 3:15 “I will make you and the woman hate each other; her offspring and yours will always be enemies. Her offspring will crush your head\, and you will bite her offspring’s heel.” (GNT) \nPsalm 51:5 Behold\, I was shapen in iniquity; and in sin did my mother conceive me. (KJV) \nThe devil works to infect your life and damage your witness by influencing how you respond to your trials\, temptations\, hurts\, cares of life\, desire for worldly gain\, and more. Without the Bible\, you are slower to obey; you don’t live a life that brings light wherever you go; you respond out of your flesh instead of being led by the Spirit; and ultimately\, you move away from the things of God. You have a maintenance program set up for your life that can run constantly and routinely. It will make sure it washes you from head to toe. \n2 Corinthians 13:5 Test yourselves to make sure you are solid in the faith. Don’t drift along taking everything for granted. Give yourselves regular checkups. You need firsthand evidence\, not mere hearsay\, that Jesus Christ is in you. Test it out. If you fail the test\, do something about it. (MSG) \nIt is not enough for you to have the maintenance program available to you. Make sure you are using it. \nPlease agree with me as I pray. Then ask the Lord what your prayer should be and wait for His response: \nFather\, I thank You for Your Word. Thank You for this revelation today. I repent for those times I would go along\, knowing something was not right and giving myself credit for soldiering on. Though I prayed about it\, I did not stop long enough for You to do something about it. I never thought I was walking around with a virus that was affecting my witness. Thank You for reminding me I have the Bible in my life. It runs continuously in the background. It is my foundation and my instruction. I have the Holy Spirit in my life\, Who brings the Bible to the foreground when needed. He gives me notifications and an unction that pops up when my thoughts don’t honor You and my actions don’t bring You glory. Help me do a virus scan\, daily\, for infections that have creeped in without me knowing it. I thank You for Your power; it’s able to wipe me clean and keep me protected. What a marvelous God You are. I don’t want to do things that draw me from You. I want to do things that bring me closer to You; I need You and I love You. Thank You for always being there and keeping me virus free…\n \nAsk the lord what he wants to say to you about today’s devotional and journal it here:
URL:https://yourvisionwriters.com/devotional/ephesians-427/
CATEGORIES:September
END:VEVENT
END:VCALENDAR