BEGIN:VCALENDAR
VERSION:2.0
PRODID:-//At God&#039;s Door Ministries - ECPv6.15.13//NONSGML v1.0//EN
CALSCALE:GREGORIAN
METHOD:PUBLISH
X-WR-CALNAME:At God&#039;s Door Ministries
X-ORIGINAL-URL:https://yourvisionwriters.com
X-WR-CALDESC:Events for At God&#039;s Door Ministries
REFRESH-INTERVAL;VALUE=DURATION:PT1H
X-Robots-Tag:noindex
X-PUBLISHED-TTL:PT1H
BEGIN:VTIMEZONE
TZID:America/Chicago
BEGIN:DAYLIGHT
TZOFFSETFROM:-0600
TZOFFSETTO:-0500
TZNAME:CDT
DTSTART:20250309T080000
END:DAYLIGHT
BEGIN:STANDARD
TZOFFSETFROM:-0500
TZOFFSETTO:-0600
TZNAME:CST
DTSTART:20251102T070000
END:STANDARD
BEGIN:DAYLIGHT
TZOFFSETFROM:-0600
TZOFFSETTO:-0500
TZNAME:CDT
DTSTART:20260308T080000
END:DAYLIGHT
BEGIN:STANDARD
TZOFFSETFROM:-0500
TZOFFSETTO:-0600
TZNAME:CST
DTSTART:20261101T070000
END:STANDARD
BEGIN:DAYLIGHT
TZOFFSETFROM:-0600
TZOFFSETTO:-0500
TZNAME:CDT
DTSTART:20270314T080000
END:DAYLIGHT
BEGIN:STANDARD
TZOFFSETFROM:-0500
TZOFFSETTO:-0600
TZNAME:CST
DTSTART:20271107T070000
END:STANDARD
END:VTIMEZONE
BEGIN:VEVENT
DTSTART;VALUE=DATE:20260922
DTEND;VALUE=DATE:20260923
DTSTAMP:20260423T015225
CREATED:20251224T110604Z
LAST-MODIFIED:20260113T134617Z
UID:10000238-1790035200-1790121599@yourvisionwriters.com
SUMMARY:Luke 12:37
DESCRIPTION:Luke 12:37 Blessed are those servants\, whom the lord when he cometh shall find watching: verily I say unto you\, that he shall gird himself\, and make them to sit down to meat\, and will come forth and serve them. (KJV) \nIs your lamp lit? \nThere is a parable in the Bible of the ten virgins in Matthew 25:1-13. In it\, the virgins waited for the bridegroom to come. This parable emphasizes the importance of preparing for the second coming of Christ and being ready. The ten virgins represent all of those who profess faith in Jesus and who believe He is soon to return. The lamps they are holding represent the Word of God. And the oil in their lambs symbolizes the Holy Spirit. \nMatthew 25:1-2 “Then the kingdom of heaven will be like ten virgins\, who took their lamps and went to meet the bridegroom. 2 Five of them were foolish [thoughtless\, silly\, and careless]\, and five were wise [far-sighted\, practical\, and sensible]”. (AMP) \nAs you evaluate your life\, what group do you fit into? Are you in the foolish group? \nMatthew 25:3\,8 For when the foolish took their lamps\, they did not take any [extra] oil with them. 8 But the foolish virgins said to the wise\, ‘Give us some of your oil\, because our lamps are going out.’ (AMP) \nCould it be that you are in the wise group? \nMatthew 25:4\,9 But the wise took flasks of oil along with their lamps. 9 But the wise replied\, ‘No\, otherwise there will not be enough for us and for you\, too; go instead to the dealers and buy oil for yourselves.’ (AMP) \nJesus is going to return. \nMatthew 25:5 Now while the bridegroom was delayed\, they all began to nod off\, and they fell asleep. 6 But at midnight there was a shout\, ‘Look! The bridegroom [is coming]! Go out to meet him.’ (AMP) \nWhat are the lessons here? \n\nYou need to be ready\, not getting ready.\n\nMatthew 25:7\, 10 Then all those virgins got up and put their own lamps in order [trimmed the wicks and added oil and lit them]. 10 But while they were going away to buy oil\, the bridegroom came\, and those who were ready went in with him to the wedding feast; and the door was shut and locked. (AMP) \n\nBeing ready gets you in. When you are unprepared\, you get left out.\n\nMatthew 25:11 Later the others also came\, and said\, ‘Lord\, Lord\, open [the door] for us.’ (AMP) \n\nDon’t wait until you stand before God and have Him evaluate your relationship.\n\nMatthew 25:12 But He replied\, ‘I assure you and most solemnly say to you\, I do not know you [we have no relationship].’ (AMP) \n\nThere is an appointed time.\n\nMatthew 25:13 Therefore\, be on the alert [be prepared and ready]\, for you do not know the day nor the hour [when the Son of Man will come]. (AMP) \nYou are the bride Jesus is coming for. Will you be trying to tie up loose ends or will you be ready? \nPlease agree with me as I pray. Then ask the Lord what your prayer should be and wait for His response: \nFather\, I thank You for always prompting me to evaluate my life. I want to be ready when You return. I don’t want to live as if I’ve got time to get it together. I want to be watching\, waiting\, and anticipating Your return. I want plenty of oil in my lamp and extra oil to keep my lamp from going out. Fill me and fill me again and again. I recognize the oil I need is not the kind I can buy from the store. The Holy Spirit presses this oil from my life as He teaches me and guides me. Every situation that knocked me to my knees produced oil\, temptations\, oil\, trials\, more oil. Friends who are untrue\, family challenges\, anything sent by the enemy to pull me away from my covenant path\, even more oil. My relationship with You and my love for You produces the sweetest smelling savor there is\, as I burn my oil in worship. Continue to work in me and I will have oil to keep my lamp lit until Your return…\n \nAsk the lord what he wants to say to you about today’s devotional and journal it here:
URL:https://yourvisionwriters.com/devotional/luke-1237/
CATEGORIES:September
END:VEVENT
END:VCALENDAR