BEGIN:VCALENDAR
VERSION:2.0
PRODID:-//At God&#039;s Door Ministries - ECPv6.15.13//NONSGML v1.0//EN
CALSCALE:GREGORIAN
METHOD:PUBLISH
X-WR-CALNAME:At God&#039;s Door Ministries
X-ORIGINAL-URL:https://yourvisionwriters.com
X-WR-CALDESC:Events for At God&#039;s Door Ministries
REFRESH-INTERVAL;VALUE=DURATION:PT1H
X-Robots-Tag:noindex
X-PUBLISHED-TTL:PT1H
BEGIN:VTIMEZONE
TZID:America/Chicago
BEGIN:DAYLIGHT
TZOFFSETFROM:-0600
TZOFFSETTO:-0500
TZNAME:CDT
DTSTART:20250309T080000
END:DAYLIGHT
BEGIN:STANDARD
TZOFFSETFROM:-0500
TZOFFSETTO:-0600
TZNAME:CST
DTSTART:20251102T070000
END:STANDARD
BEGIN:DAYLIGHT
TZOFFSETFROM:-0600
TZOFFSETTO:-0500
TZNAME:CDT
DTSTART:20260308T080000
END:DAYLIGHT
BEGIN:STANDARD
TZOFFSETFROM:-0500
TZOFFSETTO:-0600
TZNAME:CST
DTSTART:20261101T070000
END:STANDARD
BEGIN:DAYLIGHT
TZOFFSETFROM:-0600
TZOFFSETTO:-0500
TZNAME:CDT
DTSTART:20270314T080000
END:DAYLIGHT
BEGIN:STANDARD
TZOFFSETFROM:-0500
TZOFFSETTO:-0600
TZNAME:CST
DTSTART:20271107T070000
END:STANDARD
END:VTIMEZONE
BEGIN:VEVENT
DTSTART;VALUE=DATE:20260923
DTEND;VALUE=DATE:20260924
DTSTAMP:20260423T015250
CREATED:20251224T110752Z
LAST-MODIFIED:20260113T134617Z
UID:10000239-1790121600-1790207999@yourvisionwriters.com
SUMMARY:Hebrews 11:33
DESCRIPTION:Hebrews 11:33 These are they who conquered kingdoms by faith. They accomplished righteousness by that same faith and thus secured the promise [by faith and not by performance]. (TMB) \nDoes your story include Jesus? \nIf the Bible was still being written\, would it include your life? \n1 Corinthians 10:11 Now these things happened to them as an example and warning [to us]; they were written for our instruction [to admonish and equip us]\, upon whom the ends of the ages have come. (AMP) \nIf so\, what would your chapter say? Would it speak of your relationship with Jesus and what you accomplished because of it? Take the time to read Hebrews 11 in its entirety. Would you overthrow kingdoms because of your faith? Would you be the one who laps water like a dog\, to keep your eyes on the enemy. Will your faith cause you to stand even if you are standing alone? Could someone consider you to be a hero of the faith? Though the grand gestures are in Hebrews 11\, there are so many more stories of faith that are recorded in other chapters and in other books all together. Your life may be the only bible some will read. At whatever point you accepted the Father’s invitation to make Jesus your lord\, His story became your story. \n1 Timothy 4:16 Give careful attention to your spiritual life and every cherished truth you teach\, for living what you preach will release salvation inside you and to all those who listen to you. (TPT) \nAll the wrinkles in your brow\, the lines in your face\, the gray in your hair\, etc.\, tell the story of who you are. They tell what you’ve been through and how you got to the place you are in now. Maybe your story would survive canonization and maybe it would not. If you are walking with God\, you can rejoice. \nEphesians 3:15-19 And I ask him that with both feet planted firmly on love\, you’ll be able to take in with all followers of Jesus the extravagant dimensions of Christ’s love. Reach out and experience the breadth! Test its length! Plumb the depths! Rise to the heights! Live full lives\, full in the fullness of God. (MSG) \nMake sure when you tell your story\, it includes Jesus and His part in it. \nPlease agree with me as I pray. Then ask the Lord what your prayer should be and wait for His response: \nFather\, I thank You for saving me. I thank You for being the lead character in my story. I repent for every time I tried to upstage You and/or write an episode without consulting You. Everything I’ve gone through; all I’ve learned and who I am today results from You being a part of my life. Even when I wasn’t saved; You were there\, drawing me. After my salvation\, You are still here\, molding me\, buffing out the rough places and polishing me. If my life is being read by someone who wants to know You; my prayer is for them to see You in me. I take no credit for what I have become. It all is because of You. My life may not look successful according to the world’s standards. I just want to be successful in You. I pray that my life is a roadmap\, where the destination is You…\n \nAsk the lord what he wants to say to you about today’s devotional and journal it here:
URL:https://yourvisionwriters.com/devotional/hebrews-1133/
CATEGORIES:September
END:VEVENT
END:VCALENDAR