BEGIN:VCALENDAR
VERSION:2.0
PRODID:-//At God&#039;s Door Ministries - ECPv6.15.13//NONSGML v1.0//EN
CALSCALE:GREGORIAN
METHOD:PUBLISH
X-WR-CALNAME:At God&#039;s Door Ministries
X-ORIGINAL-URL:https://yourvisionwriters.com
X-WR-CALDESC:Events for At God&#039;s Door Ministries
REFRESH-INTERVAL;VALUE=DURATION:PT1H
X-Robots-Tag:noindex
X-PUBLISHED-TTL:PT1H
BEGIN:VTIMEZONE
TZID:America/Chicago
BEGIN:DAYLIGHT
TZOFFSETFROM:-0600
TZOFFSETTO:-0500
TZNAME:CDT
DTSTART:20250309T080000
END:DAYLIGHT
BEGIN:STANDARD
TZOFFSETFROM:-0500
TZOFFSETTO:-0600
TZNAME:CST
DTSTART:20251102T070000
END:STANDARD
BEGIN:DAYLIGHT
TZOFFSETFROM:-0600
TZOFFSETTO:-0500
TZNAME:CDT
DTSTART:20260308T080000
END:DAYLIGHT
BEGIN:STANDARD
TZOFFSETFROM:-0500
TZOFFSETTO:-0600
TZNAME:CST
DTSTART:20261101T070000
END:STANDARD
BEGIN:DAYLIGHT
TZOFFSETFROM:-0600
TZOFFSETTO:-0500
TZNAME:CDT
DTSTART:20270314T080000
END:DAYLIGHT
BEGIN:STANDARD
TZOFFSETFROM:-0500
TZOFFSETTO:-0600
TZNAME:CST
DTSTART:20271107T070000
END:STANDARD
END:VTIMEZONE
BEGIN:VEVENT
DTSTART;VALUE=DATE:20260924
DTEND;VALUE=DATE:20260925
DTSTAMP:20260423T015327
CREATED:20251224T111029Z
LAST-MODIFIED:20260113T134617Z
UID:10000243-1790208000-1790294399@yourvisionwriters.com
SUMMARY:Luke 21:34
DESCRIPTION:Luke 21:34 And take heed to yourselves\, lest at any time your hearts be overcharged with surfeiting\, and drunkenness\, and cares of this life\, and so that day come upon you unawares. (KJV) \nWhat type of fun are you having? \n“Go ahead\, have a little fun\, take a break\, you’ve earned it.” Your life in Christ should be fun. \nEcclesiastes 3:12-13 I know there is nothing better for us than to be joyful and to do good throughout our lives; 13 to eat and drink and see the good in all of our hard work is a gift from God. (TVT) \nEphesians 5:19 And your hearts will overflow with a joyful song to the Lord. Keep speaking to each other with words of Scripture\, singing the Psalms with praises and spontaneous songs given by the Spirit. (TPT) \nGod has given you liberty and free will. However\, you would want the fun to be pure and holy. \n1 Peter 2:16 Live as free people\, but do not use your freedom as a cover or pretext for evil\, but [use it and live] as bond-servants of God. (AMP) \nIf you move from godly fun to fleshly fun\, can you handle it? What if you can’t? You don’t know how you will react and if you might get addicted to the “ungodly or fleshly fun”. However\, since you know there is a target on your back\, make choices that eliminate the risks of addiction. \n1 Peter 5:8 Be well balanced (temperate\, sober of mind)\, be vigilant and cautious at all times; for that enemy of yours\, the devil\, roams around like a lion roaring [in fierce hunger]\, seeking someone to seize upon and devour. (AMPC) \nWhen you hear about addiction\, what comes to mind\, drugs\, alcohol\, pornography? Those are just the ones everyone talks about. There are so many more. Addictions\, of all kinds\, don’t just happen. They sneak up on you\, especially when you are not watching. The devil sends them in disguised as “fun”. You can read Galatians 5:19-21 for a list of self-serving behaviors that most probably will lead to an addiction of sort. Don’t use your “freedom” to do what you want. \nRomans 13:14 But clothe yourself with the Lord Jesus Christ (the Messiah)\, and make no provision for [indulging] the flesh [put a stop to thinking about the evil cravings of your physical nature] to [gratify its] desires (lusts). (AMPC) \nIf you choose to indulge in whatever activity is available\, just know some of those activities are gateways to more dangerous “fun”. The will power and courage to recognize the risks involved help you make the best decisions. Warning comes before destruction. You want to assess yourself daily. You might find you need to be delivered. Yes\, God can deliver you\, wouldn’t you rather not need it? You don’t want to fool around until it is too late. \nJames 1:12\, 14-15 Blessed [happy\, spiritually prosperous\, favored by God] is the man who is steadfast under trial and perseveres when tempted; for when he has passed the test and been approved\, he will receive the [victor’s] crown of life which the Lord has promised to those who love Him. 14 But each one is tempted when he is dragged away\, enticed and baited [to commit sin] by his own [worldly] desire (lust\, passion). 15 Then when the illicit desire has conceived\, it gives birth to sin; and when sin has run its course\, it gives birth to death. (AMP) \nPlease agree with me as I pray. Then ask the Lord what your prayer should be and wait for His response: \nFather\, I want to have Godly fun. I want to rejoice in You. I want to celebrate Your goodness and Your mercy. I want my breaks to bless Your name. I want to have praise breaks! I repent for not taking the time to evaluate me or the fun I was choosing. I didn’t take the time to think about or understand the risks. You kept a hedge of protection around me. Thank You\, Father\, for watching me\, keeping me and delivering me. Though I wandered\, You brought me back. I give You praise and glory for my deliverance. I know I have brothers and sisters who are still wandering and having fun. You are not a respecter of persons. What You did for me You can do for all. I pray for them now. As I pray\, I also ask You to please continue to make sure every choice I make takes into consideration who the enemy is and how he works. He wants me destroyed. There is no fun worth risking my peace\, my life\, my sweet communion with You\, or most importantly\, my place in eternity with You… \nAsk the lord what he wants to say to you about today’s devotional and journal it here:
URL:https://yourvisionwriters.com/devotional/luke-2134/
CATEGORIES:September
END:VEVENT
END:VCALENDAR