BEGIN:VCALENDAR
VERSION:2.0
PRODID:-//At God&#039;s Door Ministries - ECPv6.15.13//NONSGML v1.0//EN
CALSCALE:GREGORIAN
METHOD:PUBLISH
X-WR-CALNAME:At God&#039;s Door Ministries
X-ORIGINAL-URL:https://yourvisionwriters.com
X-WR-CALDESC:Events for At God&#039;s Door Ministries
REFRESH-INTERVAL;VALUE=DURATION:PT1H
X-Robots-Tag:noindex
X-PUBLISHED-TTL:PT1H
BEGIN:VTIMEZONE
TZID:America/Chicago
BEGIN:DAYLIGHT
TZOFFSETFROM:-0600
TZOFFSETTO:-0500
TZNAME:CDT
DTSTART:20250309T080000
END:DAYLIGHT
BEGIN:STANDARD
TZOFFSETFROM:-0500
TZOFFSETTO:-0600
TZNAME:CST
DTSTART:20251102T070000
END:STANDARD
BEGIN:DAYLIGHT
TZOFFSETFROM:-0600
TZOFFSETTO:-0500
TZNAME:CDT
DTSTART:20260308T080000
END:DAYLIGHT
BEGIN:STANDARD
TZOFFSETFROM:-0500
TZOFFSETTO:-0600
TZNAME:CST
DTSTART:20261101T070000
END:STANDARD
BEGIN:DAYLIGHT
TZOFFSETFROM:-0600
TZOFFSETTO:-0500
TZNAME:CDT
DTSTART:20270314T080000
END:DAYLIGHT
BEGIN:STANDARD
TZOFFSETFROM:-0500
TZOFFSETTO:-0600
TZNAME:CST
DTSTART:20271107T070000
END:STANDARD
END:VTIMEZONE
BEGIN:VEVENT
DTSTART;VALUE=DATE:20260927
DTEND;VALUE=DATE:20260928
DTSTAMP:20260423T020150
CREATED:20251224T111658Z
LAST-MODIFIED:20260113T134618Z
UID:10000250-1790467200-1790553599@yourvisionwriters.com
SUMMARY:1 Thessalonians 5:8
DESCRIPTION:1 Thessalonians 5:8 But let us\, who are of the day\, be sober\, putting on the breastplate of faith and love; and for an helmet\, the hope of salvation. (KJV) \nDo you have your armor on? \nPaul continually stressed the need for armor because it is vital to your victory as you walk through life. The armor is available because of the love of God and His grace. There is nothing you can do\, no work you can fulfill that earns it. God’s grace through faith in Jesus gives you authority over any situation. \nLuke 10:19 Behold! I have given you authority and power to trample upon serpents and scorpions\, and [physical and mental strength and ability] over all the power that the enemy [possesses]; and nothing shall in any way harm you. (AMPC) \nPut on all the armor the Lord has given you. \nEphesians 6:13 Therefore\, put on the complete armor of God\, so that you will be able to [successfully] resist and stand your ground in the evil day [of danger]\, and having done everything [that the crisis demands]\, to stand firm [in your place\, fully prepared\, immovable\, victorious]. (AMP) \n\nYou put on the belt of truth\, the word of God\, to protect you from the lies the devil tells you about you and about others.\n\nEphesians 6:14a So stand firm and hold your ground\, having tightened the wide band of truth (personal integrity\, moral courage). (AMP) \n\nYou put on the breastplate to guard your heart and to repel the fiery darts thrown by the devil.\n\nEphesians 6:14b Around your waist and having put on the breastplate of righteousness (an upright heart). (AMP) \n\nYou put on your gospel shoes\, evangelizing as you go. Your life is a testimony of the saving power of God.\n\nEphesians 6:15 and having strapped on your feet the gospel of peace in preparation [to face the enemy with firm-footed stability and the readiness produced by the good news]. (AMP) \n\nYou put on the shield of faith; it is the only way you can please God. The devil wants to cause you to waiver in your faith and doubt the abundance of love found in The Father.\n\nEphesians 6:16 Above all\, lift up the [protective] shield of faith with which you can extinguish all the flaming arrows of the evil one. (AMP) \n\nYou put on the helmet to shield your mind from any thought the devil would try to place there.\n\nEphesians 6:17a And take the helmet of salvation. (AMP) \n\nYou put on the word of God because it is the most powerful weapon. It is both an offensive and defensive weapon. You use it to attack the enemy\, and also to defend yourself as he tries to attack you.\n\nEphesians 6:17b And the sword of the Spirit\, which is the Word of God. (AMP) \nOnce you put these pieces of armor on\, they are on and should stay on. You cannot afford to “put your religion to the side” to take care of someone or something on your own. Also\, you wouldn’t want to take off your armor to enjoy some fleshly intrigue; it’s an enormous risk and you will most probably get wounded. How do you put it on and keep in on? \nEphesians 6:18 With all prayer and petition pray [with specific requests] at all times [on every occasion and in every season] in the Spirit\, and with this in view\, stay alert with all perseverance and petition [interceding in prayer] for all God’s people. (AMP) \nPlease agree with me as I pray. Then ask the Lord what your prayer should be and wait for His response: \nFather\, I can remember as a child hearing the women in the church say they had to put their religion to the side. They laughed. I repent because I grew up saying the same thing as a justification for my behavior. I realize now; the joke was really on me. It was the devil who was actually laughing. I had fallen into his trap. Thank You for forgiving me and enlightening me. I will walk in Your full armor\, speaking of the truth of Your word at all times. I know You have made me righteous\, and I stand covered under the blood of Jesus. I know You order my steps\, and I will speak the good news of Jesus everywhere I am led. My faith is in You; I stand because of You; You are my shield and You sustain me in battle. I have on the helmet of Your salvation. I know I am saved or I am not; it is not something that comes and goes. I declare I am saved and my salvation is eternal. I will not go into battle without my equipment; I can’t afford to. Without my armor\, my heart would be open to all types of damage. In the past\, there were things I didn’t understand; they are becoming clearer now. Thank You for my weapons\, for giving me the understanding that I must wear them at all times\, and for giving me the clarity to use them…\n \nAsk the lord what he wants to say to you about today’s devotional and journal it here:
URL:https://yourvisionwriters.com/devotional/1-thessalonians-58/
CATEGORIES:September
END:VEVENT
END:VCALENDAR