BEGIN:VCALENDAR
VERSION:2.0
PRODID:-//At God&#039;s Door Ministries - ECPv6.15.13//NONSGML v1.0//EN
CALSCALE:GREGORIAN
METHOD:PUBLISH
X-WR-CALNAME:At God&#039;s Door Ministries
X-ORIGINAL-URL:https://yourvisionwriters.com
X-WR-CALDESC:Events for At God&#039;s Door Ministries
REFRESH-INTERVAL;VALUE=DURATION:PT1H
X-Robots-Tag:noindex
X-PUBLISHED-TTL:PT1H
BEGIN:VTIMEZONE
TZID:America/Chicago
BEGIN:DAYLIGHT
TZOFFSETFROM:-0600
TZOFFSETTO:-0500
TZNAME:CDT
DTSTART:20250309T080000
END:DAYLIGHT
BEGIN:STANDARD
TZOFFSETFROM:-0500
TZOFFSETTO:-0600
TZNAME:CST
DTSTART:20251102T070000
END:STANDARD
BEGIN:DAYLIGHT
TZOFFSETFROM:-0600
TZOFFSETTO:-0500
TZNAME:CDT
DTSTART:20260308T080000
END:DAYLIGHT
BEGIN:STANDARD
TZOFFSETFROM:-0500
TZOFFSETTO:-0600
TZNAME:CST
DTSTART:20261101T070000
END:STANDARD
BEGIN:DAYLIGHT
TZOFFSETFROM:-0600
TZOFFSETTO:-0500
TZNAME:CDT
DTSTART:20270314T080000
END:DAYLIGHT
BEGIN:STANDARD
TZOFFSETFROM:-0500
TZOFFSETTO:-0600
TZNAME:CST
DTSTART:20271107T070000
END:STANDARD
END:VTIMEZONE
BEGIN:VEVENT
DTSTART;VALUE=DATE:20261016
DTEND;VALUE=DATE:20261017
DTSTAMP:20260422T231147
CREATED:20251224T121138Z
LAST-MODIFIED:20260113T134732Z
UID:10000303-1792108800-1792195199@yourvisionwriters.com
SUMMARY:2 Corinthians 13:4
DESCRIPTION:2 Corinthians 13:4 It seems such a paradox when one considers the frailty of Christ’s frame\, how he suffered such a cruel and despicable death on the cross\, compared to the power of God so evident in him as his life source. Our own lives often show the same contrasting paradox that we have witnessed in Christ\, yet our times of weakness become such a platform for the power of God to be displayed! (TMB) \nAre you willing to allow God to use your weaknesses? \n2 Corinthians 12:9 And He said to me\, “My grace is sufficient for you\, for My strength is made perfect in weakness.” Therefore\, most gladly I will rather boast in my infirmities\, that the power of Christ may rest upon me. (NKJV) \nIn your weakness\, God has strength\, if you let go. God will amaze you at what He can and will do with your life. You simply have to be available. Whatever your weakness is; you are who you are until God changes you. \n2 Corinthians 4: 7 But we have this treasure in earthen vessels\, that the excellence of the power may be of God and not of us. (NKJV) \nSometimes you are on point and sometimes you are not. \nRomans 7:15 What I don’t understand about myself is that I decide one way\, but then I act another\, doing things I absolutely despise. (MSG) \nAllow God to get glory out of both times. Sure\, you want the Father to use your successes as examples. Don’t you know your failures can be just as useful to Him. There are things that have happened and things you have done in your life. Some of those experiences would have made someone else throw in the towel. When you didn’t. \n2 Corinthians 12:10 Therefore I take pleasure in infirmities\, in reproaches\, in needs\, in persecutions\, in distresses\, for Christ’s sake. For when I am weak\, then I am strong. (NKJV) \nInstead\, you allowed the power of the Almighty to be demonstrated in your life and you got a testimony. \nRevelation 12:11 And they overcame and conquered him because of the blood of the Lamb and because of the word of their testimony\, for they did not love their life and renounce their faith even when faced with death. (AMP) \nYou know what else? Your life glorified God and it will continue to bring glory to His name as long as you keep walking with Him. It is not over. As long as you live\, opportunities to be used by God will continue to come\, both because of your strengths as well as your weaknesses. \nPlease agree with me as I pray. Then ask the Lord what your prayer should be and wait for His response: \nFather\, I wonder if my life is funny to You. I think it is. It certainly has its hilarious moments for me. I look at my life and there are parts of it that can be used to write a book entitled “What not to do.” Other times I look at my life and I believe it could be used to help someone find You. I am sorry I divided my life into a matter of my perspective. This gives the enemy so much ammunition. Father\, I am incredibly grateful I don’t decide how You will use my life; You do. There are things about me You will use to keep someone from falling. There are things You will use to guide someone to victory. I repent for only wanting You to use what I consider to be the good things. Thank You for not cherry picking my life. Thank You for accepting all of who I am\, the good\, the bad\, the up\, the down\, the bitter and the sweet. You want all of me\, not just the part that I consider praiseworthy. I can never thank You enough for that…\n \nAsk the lord what he wants to say to you about today’s devotional and journal it here:
URL:https://yourvisionwriters.com/devotional/2-corinthians-134/
CATEGORIES:October
END:VEVENT
END:VCALENDAR