BEGIN:VCALENDAR
VERSION:2.0
PRODID:-//At God&#039;s Door Ministries - ECPv6.15.13//NONSGML v1.0//EN
CALSCALE:GREGORIAN
METHOD:PUBLISH
X-WR-CALNAME:At God&#039;s Door Ministries
X-ORIGINAL-URL:https://yourvisionwriters.com
X-WR-CALDESC:Events for At God&#039;s Door Ministries
REFRESH-INTERVAL;VALUE=DURATION:PT1H
X-Robots-Tag:noindex
X-PUBLISHED-TTL:PT1H
BEGIN:VTIMEZONE
TZID:America/Chicago
BEGIN:DAYLIGHT
TZOFFSETFROM:-0600
TZOFFSETTO:-0500
TZNAME:CDT
DTSTART:20250309T080000
END:DAYLIGHT
BEGIN:STANDARD
TZOFFSETFROM:-0500
TZOFFSETTO:-0600
TZNAME:CST
DTSTART:20251102T070000
END:STANDARD
BEGIN:DAYLIGHT
TZOFFSETFROM:-0600
TZOFFSETTO:-0500
TZNAME:CDT
DTSTART:20260308T080000
END:DAYLIGHT
BEGIN:STANDARD
TZOFFSETFROM:-0500
TZOFFSETTO:-0600
TZNAME:CST
DTSTART:20261101T070000
END:STANDARD
BEGIN:DAYLIGHT
TZOFFSETFROM:-0600
TZOFFSETTO:-0500
TZNAME:CDT
DTSTART:20270314T080000
END:DAYLIGHT
BEGIN:STANDARD
TZOFFSETFROM:-0500
TZOFFSETTO:-0600
TZNAME:CST
DTSTART:20271107T070000
END:STANDARD
END:VTIMEZONE
BEGIN:VEVENT
DTSTART;VALUE=DATE:20261018
DTEND;VALUE=DATE:20261019
DTSTAMP:20260422T231126
CREATED:20251224T121549Z
LAST-MODIFIED:20260113T134732Z
UID:10000305-1792281600-1792367999@yourvisionwriters.com
SUMMARY:2 Corinthians 3:5
DESCRIPTION:2 Corinthians 3:5 We have not reached this conclusion by any merit of our own! Of God’s doing are we made competent! (TMB) \nAre you in control of your ego? \nDaniel 4:30 Look at this great city of Babylon! By my own mighty power\, I have built this beautiful city as my royal residence to display my majestic splendor. (NLT) \nWhat was King Nebuchadnezzar thinking? The prophet had already warned him. Because of his arrogance and because he did not give God the credit He was due; the king spent seven years living like a wild animal. That is not something you would want to happen to you; or has it already happened\, and you don’t realize it? Not physically\, because you would know that. However\, are you running around doing anything and everything you want to do without regard to how you are representing the Lord and without His anointing on you. \nJudges 16:20 She said\, The Philistines are upon you\, Samson! And he awoke out of his sleep and said\, I will go out as I have time after time and shake myself free. For Samson did not know that the Lord had departed from him. (AMPC) \nThere could very well be a powerful anointing on your life. You could walk in a demon-destroying\, sick-healing\, dead-raising anointing\, just like Jesus had. Make sure you give God the glory\, just as Jesus did. \nJohn 14:10 Do you not believe that I am in the Father\, and that the Father is in Me? What I am telling you I do not say on My own authority and of My own accord; but the Father Who lives continually in Me does the (His) works (His own miracles\, deeds of power). (AMPC) \nContinue to remind yourself it is not you; it is the Lord working through you. \nJohn 5:19 So Jesus answered them by saying\, I assure you\, most solemnly I tell you\, the Son is able to do nothing of Himself (of His own accord); but He is able to do only what He sees the Father doing\, for whatever the Father does is what the Son does in the same way [in His turn]. (AMPC) \nPlease don’t start believing the news articles\, Facebook likes\, tweets and retweets about you. \nIsaiah 14:12 My\, how you’ve fallen from the heights of heaven! O morning star\, son of the dawn! What a star you were\, as you menaced and weakened the nations\, but now you’ve been cut down\, fallen to earth. (TVT) \nDon’t begin to honor the anointing and leave out the One who anoints. Nothing good will come of it. \nPlease agree with me as I pray. Then ask the Lord what your prayer should be and wait for His response: \nFather\, I asked You to use me\, use me in Your service\, use me for Your glory\, use me in the midst of Your people. Thank You for challenging me. Thank You for requiring me to make sure my heart was pure\, and my motive was to bring You glory. You told me a self-serving motive would cause me to end up like King Nebuchadnezzar. You told me how the enemy would try to convince me the anointing on my life is mine. You reminded me of the times when people would thank me and clap. The most important thing You told me was I have to remain humble and rooted in You. If I do\, the accolades and gratitude will not change me. I repent for saying I could never do what the King did. Instead\, I want to believe I wouldn’t. What I will ask is that You keep me close to You\, and I will always acknowledge You and give You the credit that is Yours already. I will tell the world that I thank You and they should thank You\, not me\, for loving them enough to send a song that inspired them. I will to tell the world to praise You\, not me\, for sending a word that brought correction and encouragement. Please Father\, don’t let me\, for one second\, pull the attention from You and accept it for me… \nAsk the lord what he wants to say to you about today’s devotional and journal it here:
URL:https://yourvisionwriters.com/devotional/2-corinthians-35/
CATEGORIES:October
END:VEVENT
END:VCALENDAR