BEGIN:VCALENDAR
VERSION:2.0
PRODID:-//At God&#039;s Door Ministries - ECPv6.15.13//NONSGML v1.0//EN
CALSCALE:GREGORIAN
METHOD:PUBLISH
X-WR-CALNAME:At God&#039;s Door Ministries
X-ORIGINAL-URL:https://yourvisionwriters.com
X-WR-CALDESC:Events for At God&#039;s Door Ministries
REFRESH-INTERVAL;VALUE=DURATION:PT1H
X-Robots-Tag:noindex
X-PUBLISHED-TTL:PT1H
BEGIN:VTIMEZONE
TZID:America/Chicago
BEGIN:DAYLIGHT
TZOFFSETFROM:-0600
TZOFFSETTO:-0500
TZNAME:CDT
DTSTART:20250309T080000
END:DAYLIGHT
BEGIN:STANDARD
TZOFFSETFROM:-0500
TZOFFSETTO:-0600
TZNAME:CST
DTSTART:20251102T070000
END:STANDARD
BEGIN:DAYLIGHT
TZOFFSETFROM:-0600
TZOFFSETTO:-0500
TZNAME:CDT
DTSTART:20260308T080000
END:DAYLIGHT
BEGIN:STANDARD
TZOFFSETFROM:-0500
TZOFFSETTO:-0600
TZNAME:CST
DTSTART:20261101T070000
END:STANDARD
BEGIN:DAYLIGHT
TZOFFSETFROM:-0600
TZOFFSETTO:-0500
TZNAME:CDT
DTSTART:20270314T080000
END:DAYLIGHT
BEGIN:STANDARD
TZOFFSETFROM:-0500
TZOFFSETTO:-0600
TZNAME:CST
DTSTART:20271107T070000
END:STANDARD
END:VTIMEZONE
BEGIN:VEVENT
DTSTART;VALUE=DATE:20261023
DTEND;VALUE=DATE:20261024
DTSTAMP:20260422T231748
CREATED:20251224T122655Z
LAST-MODIFIED:20260113T134732Z
UID:10000316-1792713600-1792799999@yourvisionwriters.com
SUMMARY:Exodus 9:16
DESCRIPTION:Exodus 9:16 But indeed for this purpose I have raised you up\, that I may show My power in you\, and that My name may be declared in all the earth. (NKJV) \nAre you the nail? \nDo you take for granted your contribution to the war against the enemy? Every kind word you speak\, every sacrifice you make\, is important. \n“For the want of a nail the shoe was lost\, \nFor the want of a shoe the horse was lost\, \nFor the want of a horse the rider was lost\, \nFor the want of a rider the battle was lost\, \nFor the want of a battle the kingdom was lost\, \n                                    And all for the want of a horseshoe-nail.”  \n(For Want of a Nail\, Benjamin Franklin)  \nDon’t down play your importance in the kingdom and the difference you make. \n\nYou make a difference because you are in the world and the world needs to know what to believe. You preach the gospel with your life.\n\nRomans 10:14 But how can people call on him for help if they’ve not yet believed? And how can they believe in one they’ve not yet heard of? And how can they hear the message of life if there is no one there to proclaim it? (TPT) \n\nYou make a difference because you are making disciples of those who watch what you do and why you do it.\n\nMatthew 28:19a Go\, then\, to all peoples everywhere and make them my disciples. (GNT) \n\nYou make a difference because people look at you to know who God is\, who Jesus is\, what God wants etc.\, and they find Him.\n\nMatthew 5:16 Let your light so shine before men that they may see your moral excellence and your praiseworthy\, noble\, and good deeds and recognize and honor and praise and glorify your Father Who is in heaven. (AMPC) \n\nYou make a difference because you worship Christ as Lord of your life and you are always ready to explain if someone asks about your hope as a believer.\n\n1 Peter 3:15  But in your hearts set Christ apart [as holy—acknowledging Him\, giving Him first place in your lives] as Lord. Always be ready to give a [logical] defense to anyone who asks you to account for the hope and confident assurance [elicited by faith] that is within you\, yet [do it] with gentleness and respect. (AMP) \n\nYou make a difference because you represent God by working to reconciling people to Him.\n\n2 Corinthians 5:20 We are ambassadors of the Anointed One who carry the message of Christ to the world\, as though God were tenderly pleading with them directly through our lips. So we tenderly plead with you on Christ’s behalf\, “Turn back to God and be reconciled to him.” (TPT) \nIt is typical for you to think that it is only those in Christian leadership preach the word of God. Most people do. However\, you are a critical component in God’s desire for all to be saved. \n1 Timothy 2:4 It is God\, who wishes all men to be saved and [increasingly] to perceive and recognize and discern and know precisely and correctly the [divine] Truth. (AMPC\, edited) \nPlease know\, you and all you do; your successes and what you think are your failures are important in the kingdom. \nPlease agree with me as I pray. Then ask the Lord what your prayer should be and wait for His response: \nFather God\, thank You for touching my heart. Thank You for letting me know any work You call me to do is important. I repent for minimizing or even dismissing my assignment. Comparison is a trap of the enemy. It is a very effective tool that he has used against me more than once. I am so sorry he has also got what he wanted more than once. I repent for comparing what You called me to do with what someone else was doing and how they were doing it. I don’t want to miss the opportunity to serve You. Whether the service is for a small matter or a large one; I want to take advantage of every opportunity to be used by You. It is not about all the lives I might touch. It’s about that one life. I often think about Billy Graham. I don’t know the name of the person who witnessed to him. He may not have realized\, at the time\, the magnitude of the impact he was making on the Kingdom. He was changing the life of someone who would change the lives of thousands upon thousands of people. What if he had decided it doesn’t matter if he shared the gospel  or not? Thank You Father\, every assignment matters…\n \nAsk the lord what he wants to say to you about today’s devotional and journal it here:
URL:https://yourvisionwriters.com/devotional/exodus-916/
CATEGORIES:October
END:VEVENT
END:VCALENDAR