BEGIN:VCALENDAR
VERSION:2.0
PRODID:-//At God&#039;s Door Ministries - ECPv6.15.13//NONSGML v1.0//EN
CALSCALE:GREGORIAN
METHOD:PUBLISH
X-WR-CALNAME:At God&#039;s Door Ministries
X-ORIGINAL-URL:https://yourvisionwriters.com
X-WR-CALDESC:Events for At God&#039;s Door Ministries
REFRESH-INTERVAL;VALUE=DURATION:PT1H
X-Robots-Tag:noindex
X-PUBLISHED-TTL:PT1H
BEGIN:VTIMEZONE
TZID:America/Chicago
BEGIN:DAYLIGHT
TZOFFSETFROM:-0600
TZOFFSETTO:-0500
TZNAME:CDT
DTSTART:20250309T080000
END:DAYLIGHT
BEGIN:STANDARD
TZOFFSETFROM:-0500
TZOFFSETTO:-0600
TZNAME:CST
DTSTART:20251102T070000
END:STANDARD
BEGIN:DAYLIGHT
TZOFFSETFROM:-0600
TZOFFSETTO:-0500
TZNAME:CDT
DTSTART:20260308T080000
END:DAYLIGHT
BEGIN:STANDARD
TZOFFSETFROM:-0500
TZOFFSETTO:-0600
TZNAME:CST
DTSTART:20261101T070000
END:STANDARD
BEGIN:DAYLIGHT
TZOFFSETFROM:-0600
TZOFFSETTO:-0500
TZNAME:CDT
DTSTART:20270314T080000
END:DAYLIGHT
BEGIN:STANDARD
TZOFFSETFROM:-0500
TZOFFSETTO:-0600
TZNAME:CST
DTSTART:20271107T070000
END:STANDARD
END:VTIMEZONE
BEGIN:VEVENT
DTSTART;VALUE=DATE:20261110
DTEND;VALUE=DATE:20261111
DTSTAMP:20260423T050025
CREATED:20251224T120643Z
LAST-MODIFIED:20260113T134418Z
UID:10000300-1794268800-1794355199@yourvisionwriters.com
SUMMARY:Corinthians 14:25
DESCRIPTION:1 Corinthians 14:25 By witnessing the gift of the word of knowledge\, where something that could not be known in any other way comes to light\, the visitor will be struck with awe and acknowledge God in you and will yield himself to God in worship. (TMB) \nAre you allowing God to use you to show His power? \nAs a believer\, there is an expectation for God to manifest himself in the midst of His people. Just as He did in the days of old\, you want Him to do now. \n2 Chronicles 5:13b-14 And when they praised the Lord\, saying\, “For He is good\, for His mercy and lovingkindness endure forever\,” then the house of the Lord was filled with a cloud\, 14 so that the priests could not remain standing to minister because of the cloud; for the glory and brilliance of the Lord filled the house of God. (AMP) \nBeing unable to stand is one way you could respond to the presence of God. However\, there are other ways. One of which is prophecy.  \n2 Peter 1:21 No true prophecy comes from human initiative but is inspired by the moving of the Holy Spirit upon those who spoke the message that came from God. (TPT) \nI have you been in a service when the preacher or prophet called someone up and spoke to them about things only God could have told them. I watched and listened as the word affected and most probably changed the person’s life. Though I believe and trust God\, it was and is still an extraordinary experience. If you have had that experience\, I am sure you would agree with me. If you have not\, it is an experience you will not soon forget. What do you think would happen if someone who does not know God saw that happen? There is a story in John 4 about a woman at a well who had this very experience.  \nJohn 4:39 Meanwhile\, because one woman shared with her neighbors how Jesus exposed her past and present\, the village of Sychar was transformed—many Samaritans heard and believed. (TVT) \nWhen there are unbelievers in the midst\, the ability for the man or the woman of God to share something\, only God could have told them\, validates the truth of God.  \n1 Corinthians 14:3 But when someone prophesies\, he speaks to encourage people\, to build them up\, and to bring them comfort. (TPT) \nWorship is the natural response to the presence and the power of God. \nPlease agree with me as I pray. Then ask the Lord what your prayer should be and wait for His response: \nFather\, I have been in worship services where Your presence was almost tangible; it rested like a thick blanket. I’ve seen men and women of God submit themselves to be used by You. You worked miracles in the lives of those who were there. I’ve also witnessed unbelievers come to know You are real because of what they saw. I repent for those times when I acted like a spectator and not a participator. Though the word was not being given to me\, the waters were stirred. I could have stepped in and received from You as well. Every time I see a miracle\, an extraordinary manifestation of Your power\, it reaffirms the awesome God I serve\, and it brings me into a place of worship. I don’t worship You because of the things You do. I worship You because You have the power to do them. I worship You because of Who You are… \nAsk the lord what he wants to say to you about today’s devotional and journal it here:   
URL:https://yourvisionwriters.com/devotional/corinthians-1425/
CATEGORIES:November
END:VEVENT
END:VCALENDAR