BEGIN:VCALENDAR
VERSION:2.0
PRODID:-//At God&#039;s Door Ministries - ECPv6.15.13//NONSGML v1.0//EN
CALSCALE:GREGORIAN
METHOD:PUBLISH
X-WR-CALNAME:At God&#039;s Door Ministries
X-ORIGINAL-URL:https://yourvisionwriters.com
X-WR-CALDESC:Events for At God&#039;s Door Ministries
REFRESH-INTERVAL;VALUE=DURATION:PT1H
X-Robots-Tag:noindex
X-PUBLISHED-TTL:PT1H
BEGIN:VTIMEZONE
TZID:America/Chicago
BEGIN:DAYLIGHT
TZOFFSETFROM:-0600
TZOFFSETTO:-0500
TZNAME:CDT
DTSTART:20250309T080000
END:DAYLIGHT
BEGIN:STANDARD
TZOFFSETFROM:-0500
TZOFFSETTO:-0600
TZNAME:CST
DTSTART:20251102T070000
END:STANDARD
BEGIN:DAYLIGHT
TZOFFSETFROM:-0600
TZOFFSETTO:-0500
TZNAME:CDT
DTSTART:20260308T080000
END:DAYLIGHT
BEGIN:STANDARD
TZOFFSETFROM:-0500
TZOFFSETTO:-0600
TZNAME:CST
DTSTART:20261101T070000
END:STANDARD
BEGIN:DAYLIGHT
TZOFFSETFROM:-0600
TZOFFSETTO:-0500
TZNAME:CDT
DTSTART:20270314T080000
END:DAYLIGHT
BEGIN:STANDARD
TZOFFSETFROM:-0500
TZOFFSETTO:-0600
TZNAME:CST
DTSTART:20271107T070000
END:STANDARD
END:VTIMEZONE
BEGIN:VEVENT
DTSTART;VALUE=DATE:20261113
DTEND;VALUE=DATE:20261114
DTSTAMP:20260423T050026
CREATED:20251224T121855Z
LAST-MODIFIED:20260113T134418Z
UID:10000308-1794528000-1794614399@yourvisionwriters.com
SUMMARY:Colossians 2:23
DESCRIPTION:Colossians 2:23 Religious tradition appears to be very devout and its followers seem to be so humble and holy in their strict observance of rules that seek to control the behavior of the body. The only problem with this is that the flesh is never permanently satisfied. (TMB)  \nIs tradition more important to you? \nThere are traditions that lay an amazing foundation for beginning your relationship with The Father. However\, your genuine relationship with God is spiritual\, not one driven by rules and regulations.  \nJohn 4:23-24 “But a time is coming and is already here when the true worshipers will worship the Father in spirit [from the heart\, the inner self] and in truth; for the Father seeks such people to be His worshipers. 24 God is spirit [the Source of life\, yet invisible to mankind]\, and those who worship Him must worship in spirit and truth.” (AMP) \nYou can wear a dress that touches your knees or wear pants instead; you can dress up in a suit and tie or wear shorts and flip-flops; you can wear makeup or not; you can go to the movies or not; you can stay in church from dusk to dawn or only spend an hour and a half\, etc. The traditions you adhere to are not wrong\, however\, they cannot sanctify you.  \nHebrews 10:1-4  We have seen how the law is simply a shadow of the good things to come. Since it is not the perfect form of these ultimate realities\, the offering year after year of these imperfect sacrifices cannot bring perfection to those who come forward to worship. 2 If they had served this purpose\, wouldn’t the repetition of these sacrifices have become unnecessary? If they had worked—and cleansed the worshipers—then one sacrifice would have taken away their consciousness of sin. 3 But these sacrifices actually remind us that we sin again and again\, year after year. 4 In the end\, the blood of bulls and of goats is powerless to take away sins. (TVT) \nIf you do research\, you will find the Pharisees added an additional 248 commandments and 365 prohibitions to the ten commandments. Yet\, the additional rules did not work any better than the ten the Lord gave. Rules\, laws\, and prohibitions could not regulate the behavior not of the Israelites\, and not of any human being. Which is why Jesus had to become our sacrifice.  \nGalatians 2:16 We know very well that we are not set right with God by rule-keeping but only through personal faith in Jesus Christ. How do we know? We tried it—and we had the best system of rules the world has ever seen! Convinced that no human being can please God by self-improvement\, we believed in Jesus as the Messiah so that we might be set right before God by trusting in the Messiah\, not by trying to be good. (MSG) \nThere will always be a need for one more rule if we use the Pharisees’ method. Why\, because there will always be a loophole\, an oversight\, etc. in the previous rule. Don’t get so caught up in making sure you adhere to the traditions that you lose sight of the God you serve. Spend time cultivating a relationship with God; it will guide your behavior. You can uphold a tradition and request that others do the same. However\, make sure you understand what the tradition is\, the reasons you defend it\, and how it glorifies God.  \nPhilippians 3:3 For we have already experienced “heart-circumcision\,” and we worship God in the power and freedom of the Holy Spirit\, not in laws and religious duties. We are those who boast in what Jesus Christ has done\, and not in what we can accomplish in our own strength. (TPT) \nPlease agree with me as I pray. Then ask the Lord what your prayer should be and wait for His response: \nFather\, as I think back over my childhood\, there were more rules and regulations than I could count or break. Rules dictated what I could wear to church and what I couldn’t. Where I could sit in church and where I couldn’t. What I could say in church and what I couldn’t. Now I understand it was never a matter of whether or not those traditions were necessary; You wanted my heart. I repent for every time I conformed to a tradition because I was obligated or forced to. Thank You for teaching me You wanted me to reverence You. You wanted me to choose You because I understood and appreciated the fact that You deserved my choice. Sometimes it was difficult to tell the difference and I am sorry. I should have asked You. In all the regulations and rules\, seeking You was not one of them. Yet\, You did not leave me ignorant. You called to me. You taught me if I continue to spend time with You\, I can hold on to some traditions because I choose to if I feel they bring me any closer to You. They are a part of my heritage. You also taught me their purpose\, which gave me the liberty and helped me decide to keep them or not. My choice is to do what brings me closer to You… \nAsk the lord what he wants to say to you about today’s devotional and journal it here:   
URL:https://yourvisionwriters.com/devotional/colossians-223/
CATEGORIES:November
END:VEVENT
END:VCALENDAR