BEGIN:VCALENDAR
VERSION:2.0
PRODID:-//At God&#039;s Door Ministries - ECPv6.15.13//NONSGML v1.0//EN
CALSCALE:GREGORIAN
METHOD:PUBLISH
X-ORIGINAL-URL:https://yourvisionwriters.com
X-WR-CALDESC:Events for At God&#039;s Door Ministries
REFRESH-INTERVAL;VALUE=DURATION:PT1H
X-Robots-Tag:noindex
X-PUBLISHED-TTL:PT1H
BEGIN:VTIMEZONE
TZID:America/Chicago
BEGIN:DAYLIGHT
TZOFFSETFROM:-0600
TZOFFSETTO:-0500
TZNAME:CDT
DTSTART:20250309T080000
END:DAYLIGHT
BEGIN:STANDARD
TZOFFSETFROM:-0500
TZOFFSETTO:-0600
TZNAME:CST
DTSTART:20251102T070000
END:STANDARD
BEGIN:DAYLIGHT
TZOFFSETFROM:-0600
TZOFFSETTO:-0500
TZNAME:CDT
DTSTART:20260308T080000
END:DAYLIGHT
BEGIN:STANDARD
TZOFFSETFROM:-0500
TZOFFSETTO:-0600
TZNAME:CST
DTSTART:20261101T070000
END:STANDARD
BEGIN:DAYLIGHT
TZOFFSETFROM:-0600
TZOFFSETTO:-0500
TZNAME:CDT
DTSTART:20270314T080000
END:DAYLIGHT
BEGIN:STANDARD
TZOFFSETFROM:-0500
TZOFFSETTO:-0600
TZNAME:CST
DTSTART:20271107T070000
END:STANDARD
END:VTIMEZONE
BEGIN:VEVENT
DTSTART;VALUE=DATE:20260814
DTEND;VALUE=DATE:20260815
DTSTAMP:20260423T073558
CREATED:20251224T103301Z
LAST-MODIFIED:20260114T053051Z
UID:10000216-1786665600-1786751999@yourvisionwriters.com
SUMMARY:Proverbs 2:2
DESCRIPTION:Proverbs 2:2 So that thou incline thine ear unto wisdom\, and apply thine heart to understanding. (KJV) \nAre you seeking wisdom? \nIf yuu are seeking wisdom\, you have to know where to look. What is wisdom? How do you become wise?  \nThe Webster Dictionary definition states:\nAbility to discern inner qualities and relationships\, insight\, good sense\, judgment\, generally accepted belief. \nThe Bible Dictionary definition states:\nThe right use or exercise of knowledge; the choice of laudable ends\, and of the best means to accomplish them. It is the faculty of discerning or judging what is just\, proper and useful. It is the knowledge and use of what is best\, most just\, most proper\, most conducive to prosperity or happiness. \nThe biblical concept of wisdom differs greatly from the secular view of wisdom. Biblical wisdom is a spiritual/moral rather than an intellectual quality. There are those who believe wisdom comes with age. Have you ever heard the term “old fool”? You don’t become wise simply by living\, going to school\, etc. Solomon knew he needed wisdom. He asked\, and God supernaturally endowed him with it. If you want wisdom\, you must ask God for it. You have to humble yourself\, before God\, in reverence and worship\, and be obedient to His commands. The true sign of wisdom is when you understand you don’t have the answers and you want them from the only One who does. \nJames 1:5 But if any of you lacks wisdom\, let him ask of God\, who gives to all generously and without reproach\, and it will be given to him. (NASV) \nPlease agree with me as I pray. Then ask the Lord what your prayer should be and wait for His response: \nFather\, I really don’t know all the answers. Sometimes it’s hard for me to admit that because I study\, I read\, I research\, and I often think I can figure things out. I repent for the messes I made relying on my intellect. There are more of them than I can count. Thank You for delivering me from me. Thank You for revelation. I don’t have enough information to draw every spiritual conclusion. Without You\, I will never have enough information. I’m grateful You loved me into the place where I trust You and You alone. Those words seem strange to say\, but if I trusted You\, I wouldn’t have tried to work it out on my own. I should have been there all along. I repent for stepping out of my lane. I know it’s okay for me to study things\, look things up and try to determine what makes sense. You created me that way. At the end of the day\, I want is what is right. Only You have that answer. Thank You for showing me the truth. Thank You for making the truth available to me… \nAsk the lord what he wants to say to you about today’s devotional and journal it here:   
URL:https://yourvisionwriters.com/devotional/proverbs-22/
CATEGORIES:August
END:VEVENT
END:VCALENDAR