BEGIN:VCALENDAR
VERSION:2.0
PRODID:-//At God&#039;s Door Ministries - ECPv6.15.13//NONSGML v1.0//EN
CALSCALE:GREGORIAN
METHOD:PUBLISH
X-ORIGINAL-URL:https://yourvisionwriters.com
X-WR-CALDESC:Events for At God&#039;s Door Ministries
REFRESH-INTERVAL;VALUE=DURATION:PT1H
X-Robots-Tag:noindex
X-PUBLISHED-TTL:PT1H
BEGIN:VTIMEZONE
TZID:America/Chicago
BEGIN:DAYLIGHT
TZOFFSETFROM:-0600
TZOFFSETTO:-0500
TZNAME:CDT
DTSTART:20250309T080000
END:DAYLIGHT
BEGIN:STANDARD
TZOFFSETFROM:-0500
TZOFFSETTO:-0600
TZNAME:CST
DTSTART:20251102T070000
END:STANDARD
BEGIN:DAYLIGHT
TZOFFSETFROM:-0600
TZOFFSETTO:-0500
TZNAME:CDT
DTSTART:20260308T080000
END:DAYLIGHT
BEGIN:STANDARD
TZOFFSETFROM:-0500
TZOFFSETTO:-0600
TZNAME:CST
DTSTART:20261101T070000
END:STANDARD
BEGIN:DAYLIGHT
TZOFFSETFROM:-0600
TZOFFSETTO:-0500
TZNAME:CDT
DTSTART:20270314T080000
END:DAYLIGHT
BEGIN:STANDARD
TZOFFSETFROM:-0500
TZOFFSETTO:-0600
TZNAME:CST
DTSTART:20271107T070000
END:STANDARD
END:VTIMEZONE
BEGIN:VEVENT
DTSTART;VALUE=DATE:20261207
DTEND;VALUE=DATE:20261208
DTSTAMP:20260423T061323
CREATED:20251224T160251Z
LAST-MODIFIED:20260113T134247Z
UID:10000344-1796601600-1796687999@yourvisionwriters.com
SUMMARY:James 1:5
DESCRIPTION:James 1:5 The only thing you could possibly lack is wisdom. (One might sometimes feel challenged beyond the point of sanity) however\, make your request in such a way that you draw directly from the source (not filtered through other opinions). God is the origin and author of wisdom; he intertwines your thoughts with good judgment. His gifts are available to all\, without regret. (TMB)  \nIsaiah 45:23 I have sworn by Myself; The word has gone out of My mouth in righteousness\, And shall not return\, That to Me every knee shall bow\, every tongue shall take an oath. (NKJV) \nWho are you getting your answers from? \nWhen you don’t know what to do\, yet you know something needs to be done\, who do you ask first. Do you go to the people you believe to be spiritual or knowledgeable? Do you talk to your friends\, prayer partner\, spiritual mentor\, pastor\, etc.? There is nothing wrong with that. God placed these people in your life to be a support to you. Sometimes you can have too much support. You can have so many different answers to the same question that you struggle with what to believe. Why not go directly to the source? Do you remember to ask God\, first? \nPsalms 121:1-2 I will lift up my eyes to the hills—From whence comes my help? 2 My help comes from the Lord\, Who made heaven and earth. (New King James Version NKJV) \nThe Lord you serve is omniscient. The wisdom God gives is unaffected by the status of your problem\, what you feel\, or what you see. Here are some reasons you ask God for the answers:  \n\nGod will help you through your situation without being condescending or scolding you. \n\nJames 1:5 If any of you lacks wisdom [to guide him through a decision or circumstance]\, he is to ask of [our benevolent] God\, who gives to everyone generously and without rebuke or blame\, and it will be given to him. (Amplified Bible AMP) \n\nGod doesn’t just have wisdom\, He is wisdom.\n\nProverbs 2:6 Wisdom is a gift from a generous God\, and every word he speaks is full of revelation and becomes a fountain of understanding within you. (The Passion Translation TPT) \n\nYou know He hears you and will answer you because you are living the life He has called you to live.\n\n1 John 3:22 And whatever we ask we receive from Him\, because we keep His commandments and do those things that are pleasing in His sight. (New King James Version NKJV) \n\nYou know\, on your best day\, you don’t have the solution.\n\nProverbs 14:12 You can rationalize it all you want and justify the path of error you have chosen\, but you’ll find out in the end that you took the road to destruction. (The Passion Translation TPT) \n\nGod is waiting for you to ask. He wants you to have the answer.\n\nMatthew 7:7-8 “Ask\, and it will be given to you; seek\, and you will find; knock\, and it will be opened to you.  8 For everyone who asks receives\, and he who seeks finds\, and to him who knocks it will be opened.” (New King James Version NKJV) \n\nGod has so much more to show you than what you have the knowledge to ask for.\n\nJeremiah 33:3 ‘Call to Me and I will answer you\, and tell you [and even show you] great and mighty things\, [things which have been confined and hidden]\, which you do not know and understand and cannot distinguish.’ (Amplified Bible AMP) \nEverything you go through is a test. You can’t fail the test\, if you have all the answers. With each answer you receive and each test you pass\, give Him praise because He is Adonai [a-dō-nī ] (Master Over All). \nPlease agree with me as I pray. Then ask the Lord what your prayer should be and wait for His response: \nFather\, Your word says\, in the multitude of counsel there is safety. I know there are times when I have taken that scripture to an extreme limit. When I did\, the safety the counsel was supposed to provide to me\, only created confusion. There were too many voices. Too many people trying to help me understand what was going on and tell me how to deal with it. I thank You because You are there. I repent for not coming to You first. You have the answers. I don’t have to guess. I don’t have to figure it out. All I have to do is ask You. The problem was\, by the time I asked You I could not hear what You were saying. My spirit and my mind was cluttered with the things everyone else\, including myself\, had said. You taught me I needed to be still. Through the years\, I have learned how to wait and how to be still in Your presence. You have taught me a decision made in uncertainty is destined to be the wrong one. You have taught me acting out of emergency will cost me. Thank You for teaching me through my experiences and tests that You know what’s best for me. Whether You tell me what to do or unfold the solution over time; I will come to You with all of my questions. You are the answer… \nAsk the lord what he wants to say to you about today’s devotional and journal it here:   
URL:https://yourvisionwriters.com/devotional/james-15/
CATEGORIES:December
END:VEVENT
END:VCALENDAR