BEGIN:VCALENDAR
VERSION:2.0
PRODID:-//At God&#039;s Door Ministries - ECPv6.15.13//NONSGML v1.0//EN
CALSCALE:GREGORIAN
METHOD:PUBLISH
X-ORIGINAL-URL:https://yourvisionwriters.com
X-WR-CALDESC:Events for At God&#039;s Door Ministries
REFRESH-INTERVAL;VALUE=DURATION:PT1H
X-Robots-Tag:noindex
X-PUBLISHED-TTL:PT1H
BEGIN:VTIMEZONE
TZID:America/Chicago
BEGIN:DAYLIGHT
TZOFFSETFROM:-0600
TZOFFSETTO:-0500
TZNAME:CDT
DTSTART:20250309T080000
END:DAYLIGHT
BEGIN:STANDARD
TZOFFSETFROM:-0500
TZOFFSETTO:-0600
TZNAME:CST
DTSTART:20251102T070000
END:STANDARD
BEGIN:DAYLIGHT
TZOFFSETFROM:-0600
TZOFFSETTO:-0500
TZNAME:CDT
DTSTART:20260308T080000
END:DAYLIGHT
BEGIN:STANDARD
TZOFFSETFROM:-0500
TZOFFSETTO:-0600
TZNAME:CST
DTSTART:20261101T070000
END:STANDARD
BEGIN:DAYLIGHT
TZOFFSETFROM:-0600
TZOFFSETTO:-0500
TZNAME:CDT
DTSTART:20270314T080000
END:DAYLIGHT
BEGIN:STANDARD
TZOFFSETFROM:-0500
TZOFFSETTO:-0600
TZNAME:CST
DTSTART:20271107T070000
END:STANDARD
END:VTIMEZONE
BEGIN:VEVENT
DTSTART;VALUE=DATE:20261214
DTEND;VALUE=DATE:20261215
DTSTAMP:20260423T054832
CREATED:20251225T041022Z
LAST-MODIFIED:20260113T134247Z
UID:10000351-1797206400-1797292799@yourvisionwriters.com
SUMMARY:James 1:6
DESCRIPTION:James 1:6 Faith must prompt your requests (not your needs.) Faith is the stabilizing factor; otherwise you become driven by emotions (inconsistent judgments) that get out of control like rough seas tossed by tempest winds. (TMB) \nPsalms 59:17 You are my strength\, I sing praise to you; you\, God\, are my fortress\, my God on whom I can rely. (KJV) \nAre you doubting? \nThere are many reasons a person has doubts. \n\nMany people have a hard time believing anything\, often because of their skeptical nature\n\nIf this is you\, fight doubt with the word.\n\n\n\n2 Corinthians 5:17 Now\, if anyone is enfolded into Christ\, he has become an entirely new person. All that is related to the old order has vanished. Behold\, everything is fresh and new. (The Passion Translation TPT) \n\nMany have had difficult or traumatic experiences in their past.\n\nIf this is you\, fight doubt with the word.\n\n\n\nPhilippians 3:13-14 I don’t depend on my own strength to accomplish this; however I do have one compelling focus: I forget all of the past as I fasten my heart to the future instead. 14 I run straight for the divine invitation of reaching the heavenly goal and gaining the victory-prize through the anointing of Jesus. (The Passion Translation TPT) \n\nSome work for God instead of allowing Him to work through them. It makes them weary and overwhelmed\, and they begin to doubt.\n\nIf this is you\, fight doubt with the word.\n\n\n\nGalatians 2:20 Indeed\, I have been crucified with Christ. My ego is no longer central. It is no longer important that I appear righteous before you or have your good opinion\, and I am no longer driven to impress God. Christ lives in me. The life you see me living is not “mine\,” but it is lived by faith in the Son of God\, who loved me and gave himself for me. I am not going to go back on that. (The Message MSG) \n\nThere are also those who don’t really understand who God is; unfulfilled expectations create doubt.\n\nIf this is you\, fight doubt with the word.\n\n\n\nIsaiah 55:8-9 “I don’t think the way you think. The way you work isn’t the way I work.” God’s Decree. “For as the sky soars high above earth\, the way I work surpasses the way you work\, and the way I think is beyond the way you think.” (The Message MSG) \n\nAnd finally\, there are those who doubt because they are not obeying God\, there is no partial obedience.\n\nIf this is you\, fight doubt with the word.\n\n\n\n1 Samuel 15:22-23 Samuel said\, “Which does the Lord prefer: obedience or offerings and sacrifices? It is better to obey him than to sacrifice the best sheep to him. 23 Rebellion against him is as bad as witchcraft\, and arrogance is as sinful as idolatry. Because you rejected the Lord’s command\, he has rejected you as king.” (Good News Translation GNT) \nIf your reason is listed or if you have one of your own\, doubt blocks your blessings. \nJames 1:6-8  But when you pray\, you must believe and not doubt at all. Whoever doubts is like a wave in the sea that is driven and blown about by the wind. 7-8 If you are like that\, unable to make up your mind and undecided in all you do\, you must not think that you will receive anything from the Lord. (Good News Translation GNT) \nThe time that you spend with God helps you understand who He is. Armed with the knowledge of who God is\, you can have spiritually realistic expectations; you can pray in faith without anxiety; you can rest and be patient for His response; and you can accept His will. Doubt makes you double minded\, tosses you back and forth\, and your emotions are like a roller coaster. You won’t be able to recognize the answer to your prayer or a blessing from God. Don’t live a life of doubt. Live a life of faith because the God you serve is Elohei Chasdi [ē-lō-hī chas-dē] (God of my kindness\, goodness\, and faithfulness). \nPlease agree with me as I pray. Then ask the Lord what your prayer should be and wait for His response: \nFather\, in the name of Jesus\, I don’t want to be double minded and I repent for everything I was wishy-washy about what I believed. As I continue to spend time with You\, I evaluate the requests I make. I want to make sure they are requests You want me to make. I want to know they are within Your will. I want to distinguish from a spiritual perspective what I want from what You want for me. You are strengthening my relationship with You. The times when I am unsure if my requests are me or You are getting fewer and fewer. No more endlessly going back and forth and being double minded\, thank You for settling my doubts. You Are Elohei Chasdi. You see what is in my heart. I can ask You whatever I want. I only need to trust Your faithfulness. You will do what’s best for me. Even if I don’t ask You\, the request is in my heart and You know it. I thank You for peace. I love You and I know You love me. If I ask amiss\, You will not do what I asked\, anyway. I make my requests known to You and I wait for You to order my steps and guide my feet. You will fulfill the plan You have for my life…\n \nAsk the lord what he wants to say to you about today’s devotional and journal it here:
URL:https://yourvisionwriters.com/devotional/james-16/
CATEGORIES:December
END:VEVENT
END:VCALENDAR