BEGIN:VCALENDAR
VERSION:2.0
PRODID:-//At God&#039;s Door Ministries - ECPv6.15.13//NONSGML v1.0//EN
CALSCALE:GREGORIAN
METHOD:PUBLISH
X-ORIGINAL-URL:https://yourvisionwriters.com
X-WR-CALDESC:Events for At God&#039;s Door Ministries
REFRESH-INTERVAL;VALUE=DURATION:PT1H
X-Robots-Tag:noindex
X-PUBLISHED-TTL:PT1H
BEGIN:VTIMEZONE
TZID:America/Chicago
BEGIN:DAYLIGHT
TZOFFSETFROM:-0600
TZOFFSETTO:-0500
TZNAME:CDT
DTSTART:20250309T080000
END:DAYLIGHT
BEGIN:STANDARD
TZOFFSETFROM:-0500
TZOFFSETTO:-0600
TZNAME:CST
DTSTART:20251102T070000
END:STANDARD
BEGIN:DAYLIGHT
TZOFFSETFROM:-0600
TZOFFSETTO:-0500
TZNAME:CDT
DTSTART:20260308T080000
END:DAYLIGHT
BEGIN:STANDARD
TZOFFSETFROM:-0500
TZOFFSETTO:-0600
TZNAME:CST
DTSTART:20261101T070000
END:STANDARD
BEGIN:DAYLIGHT
TZOFFSETFROM:-0600
TZOFFSETTO:-0500
TZNAME:CDT
DTSTART:20270314T080000
END:DAYLIGHT
BEGIN:STANDARD
TZOFFSETFROM:-0500
TZOFFSETTO:-0600
TZNAME:CST
DTSTART:20271107T070000
END:STANDARD
END:VTIMEZONE
BEGIN:VEVENT
DTSTART;VALUE=DATE:20261226
DTEND;VALUE=DATE:20261227
DTSTAMP:20260423T103329
CREATED:20251225T045529Z
LAST-MODIFIED:20260113T134246Z
UID:10000364-1798243200-1798329599@yourvisionwriters.com
SUMMARY:Matthew 6:7
DESCRIPTION:Matthew 6:7 But when ye pray\, use not vain repetitions\, as the heathen do: for they think that they shall be heard for their much speaking. (KJV) \nDeuteronomy 10:17 For the Lord your God is God of gods\, and Lord of lords\, a great God\, a mighty\, and a terrible\, which regardeth not persons\, nor taketh reward: (KJV) \nDo you know God is listening to you when you pray? \nWhen there is altar call at church\, are you willing for someone other than the pastor to pray for you? If the pastor is not available\, and several other altar workers are standing there to pray\, do you have a preference? If so\, why? Do you think one person’s prayer will get through\, and someone else’s won’t. Do you think one elder has a greater connection to God than another? Have you heard the deacon pray the same prayer\, often enough\, you could recite it with him? None of that matters because God does not have a pecking order. \nActs 10:34-35 Peter fairly exploded with his good news: “It’s God’s own truth\, nothing could be plainer: God plays no favorites! It makes no difference who you are or where you’re from—if you want God and are ready to do as he says\, the door is open”. (The Message MSG) \nThe truth is\, God is there\, listening for your prayers. \nPsalm 34:15 The eyes of the Lord are toward the [uncompromisingly] righteous and His ears are open to their cry. (Amplified Bible\, Classic Edition AMPC) \nGod answers your prayers based on the condition of your heart… \nMatthew 9:29 Then He touched their eyes\, saying\, “According to your faith let it be to you.” (NKJV) \n…and what aligns with His will and His plan. \nProverbs 19:21 A person may have many ideas concerning God’s plan for his life\, but only the designs of God’s purpose will succeed in the end. (The Passion Translation TPT) \nThe Bible says God looks on the heart (1 Samuel 16:7). He hears you and He can see what is in your heart\, no matter who is praying for you or if you go to Him on your own. He is not looking for a loud prayer or a perfect prayer. God desires your prayer to come from an intense desire and unwavering faith to see His will manifested in your life. \nGive God praise because He is Elohei Haelohim [ē-lō-hī  hī-lō-him] (The God of gods). \nPlease agree with me as I pray. Then ask the Lord what your prayer should be and wait for His response: \nFather\, I can remember many times when I wanted the pastor to pray for me. I had respect for the pastor because\, after all\, “the pastor\,” is Your chosen one. The thought never occurred to me it wasn’t the person. I am sorry for the creating a pecking order that I thought You adhered to. I repent for making it someone else’s responsibility to pray for me. You hear the cries of Your people. I fall into the category of “Your People”. I am to live in a way that shows the degree or the intensity of my relationship with You. I am Your child\, and You hear all my prayers. You teach me to come to You because You are my God; You love me\, and You want what’s best for me. I can’t have faith in someone else. My faith must be in You. I remember when I was a child. Because I was the baby\, my sisters would tell me to ask Dad or Mom for what they wanted. They thought I could get a “yes” when they would get a “no.” I can’t get someone else to ask for me because I think You will cater to them or I think You will respond to them and not me. There is no person who has better words to say; no matter how long they have been walking with You or how You use them. You are the same God for me as You are for them. If I am humble and sincere in the request\, I make to You; You hear me. According to Your will\, You’ll answer…\n \nAsk the lord what he wants to say to you about today’s devotional and journal it here:
URL:https://yourvisionwriters.com/devotional/matthew-67/
CATEGORIES:December
END:VEVENT
END:VCALENDAR