BEGIN:VCALENDAR
VERSION:2.0
PRODID:-//At God&#039;s Door Ministries - ECPv6.15.13//NONSGML v1.0//EN
CALSCALE:GREGORIAN
METHOD:PUBLISH
X-WR-CALNAME:At God&#039;s Door Ministries
X-ORIGINAL-URL:https://yourvisionwriters.com
X-WR-CALDESC:Events for At God&#039;s Door Ministries
REFRESH-INTERVAL;VALUE=DURATION:PT1H
X-Robots-Tag:noindex
X-PUBLISHED-TTL:PT1H
BEGIN:VTIMEZONE
TZID:America/Chicago
BEGIN:DAYLIGHT
TZOFFSETFROM:-0600
TZOFFSETTO:-0500
TZNAME:CDT
DTSTART:20270314T080000
END:DAYLIGHT
BEGIN:STANDARD
TZOFFSETFROM:-0500
TZOFFSETTO:-0600
TZNAME:CST
DTSTART:20271107T070000
END:STANDARD
BEGIN:DAYLIGHT
TZOFFSETFROM:-0600
TZOFFSETTO:-0500
TZNAME:CDT
DTSTART:20280312T080000
END:DAYLIGHT
BEGIN:STANDARD
TZOFFSETFROM:-0500
TZOFFSETTO:-0600
TZNAME:CST
DTSTART:20281105T070000
END:STANDARD
BEGIN:DAYLIGHT
TZOFFSETFROM:-0600
TZOFFSETTO:-0500
TZNAME:CDT
DTSTART:20290311T080000
END:DAYLIGHT
BEGIN:STANDARD
TZOFFSETFROM:-0500
TZOFFSETTO:-0600
TZNAME:CST
DTSTART:20291104T070000
END:STANDARD
END:VTIMEZONE
BEGIN:VEVENT
DTSTART;VALUE=DATE:20280229
DTEND;VALUE=DATE:20280301
DTSTAMP:20260423T044112
CREATED:20251224T074053Z
LAST-MODIFIED:20260113T115605Z
UID:10000073-1835395200-1835481599@yourvisionwriters.com
SUMMARY:Galatians 3:14
DESCRIPTION:Galatians 3:14 This act of Christ released the blessing of Abraham upon the Gentiles! Now we are free to receive the blessing of the Spirit. (TMB)      \nAre you passing your test of endurance? \nAs you walk along\, living your life day by day\, sometimes your days can seem to be full of struggles. When that happens\, you must always keep in your mind\, the blessings of Abraham rest on your life.  \nGalatians 3:6-9 Abraham\, our father of faith\, led the way as our pioneering example. He believed God and the substance of his faith released God’s righteousness to him. 7 So those who are the true children of Abraham will have the same faith as their father! 8 God’s plan all along was to bring this message of salvation to the nations through the revelation of faith. Long ago God prophesied over Abraham\, as the Holy Scriptures say: “Through your example of faith all the nations will be blessed!” 9 And so the blessing of Abraham’s faith is now our blessing too! (TPT) \nAbraham’s promise is for you as well. God grafted you in. That may not seem like much when you are dealing with impossible problems. However\, Jesus’ life\, crucifixion\, and resurrection is a part of the promise God gave to Abraham. The results of Jesus’ obedience unto death are your justification and the gift of the Spirit through faith. You walk this walk\, deal with the things you deal with\, and stand on the promises of God through faith. You claim victory; you don’t cower before the enemy; and you don’t walk as if God won’t fulfill His promises to you and for your life. Because of your faith\, you will be a blessing to someone who is watching you. Your rejoicing does not stop\, there is more to the promise to Abraham and his descendants. When this time is over\, you will be with God in glory. These minor blips of hardship you deal with: having to crucify your flesh\, denying yourself\, and turning down what the world offers\, only last for a moment\, compared to the endless time you would spend in glory. \nPlease agree with me as I pray. Then ask the Lord what your prayer should be and wait for His response: \nFather\, I thank You for making a way for me to be with You in glory. I thank You for enabling me to hold on to Your promise. I thank You\, Father God\, for the hope I have to be with You in paradise. You are my desire and I seek after You. I want to dwell in Your house all the days of my life. I want to behold Your beauty and to enquire of Your temple. I repent for wanting You to take away the trials You have ordained for me to go through. It does not matter how difficult the training I must endure\, the hardships I may or may not experience\, the betrayals or anything else\, I want You. I realize whatever I must go through is nothing compared to what Jesus did for me on the cross. I thank You for this opportunity… \nAsk the lord what he wants to say to you about today’s devotional and journal it here:   
URL:https://yourvisionwriters.com/devotional/galatians-314/
CATEGORIES:February
END:VEVENT
END:VCALENDAR