BEGIN:VCALENDAR
VERSION:2.0
PRODID:-//At God&#039;s Door Ministries - ECPv6.15.13//NONSGML v1.0//EN
CALSCALE:GREGORIAN
METHOD:PUBLISH
X-WR-CALNAME:At God&#039;s Door Ministries
X-ORIGINAL-URL:https://yourvisionwriters.com
X-WR-CALDESC:Events for At God&#039;s Door Ministries
REFRESH-INTERVAL;VALUE=DURATION:PT1H
X-Robots-Tag:noindex
X-PUBLISHED-TTL:PT1H
BEGIN:VTIMEZONE
TZID:America/Chicago
BEGIN:DAYLIGHT
TZOFFSETFROM:-0600
TZOFFSETTO:-0500
TZNAME:CDT
DTSTART:20250309T080000
END:DAYLIGHT
BEGIN:STANDARD
TZOFFSETFROM:-0500
TZOFFSETTO:-0600
TZNAME:CST
DTSTART:20251102T070000
END:STANDARD
BEGIN:DAYLIGHT
TZOFFSETFROM:-0600
TZOFFSETTO:-0500
TZNAME:CDT
DTSTART:20260308T080000
END:DAYLIGHT
BEGIN:STANDARD
TZOFFSETFROM:-0500
TZOFFSETTO:-0600
TZNAME:CST
DTSTART:20261101T070000
END:STANDARD
BEGIN:DAYLIGHT
TZOFFSETFROM:-0600
TZOFFSETTO:-0500
TZNAME:CDT
DTSTART:20270314T080000
END:DAYLIGHT
BEGIN:STANDARD
TZOFFSETFROM:-0500
TZOFFSETTO:-0600
TZNAME:CST
DTSTART:20271107T070000
END:STANDARD
END:VTIMEZONE
BEGIN:VEVENT
DTSTART;VALUE=DATE:20260203
DTEND;VALUE=DATE:20260204
DTSTAMP:20260423T113534
CREATED:20251224T060501Z
LAST-MODIFIED:20260113T115604Z
UID:10000034-1770076800-1770163199@yourvisionwriters.com
SUMMARY:Ephesians 4:11
DESCRIPTION:Ephesians 4:11 And he gave some\, apostles; and some\, prophets; and some\, evangelists; and some\, pastors and teachers; (KJV) \nIs who God called you to be more important than your training? \n “What is the call of God on my life?” Is this a question you may have asked more than once or twice? The enemy wants you to be hindered if you don’t feel you know the answer. God designed much of your training to help you understand how He gifted you and to perfect His gift in you. Your life is the training ground. How you respond or don’t respond; what you feel or don’t feel; whether you can see God at work\, etc.; all help you identify who you are in Christ.  \n2 Timothy 1:9 who has saved us and called us with a holy calling\, not according to our works\, but according to His own purpose and grace which was given to us in Christ Jesus before time began\, (NKJV) \nYour need to be able to say\, “God has called me to _________”\, can be a powerful weapon in the hands of the enemy. He can whisper in your ear and cause you to miss revelation and pass up answers to prayer because your focus is on completing that sentence. The important thing for you to do is gain from the training. If you keep your focus on God\, in His timing\, you will fill in the blank. The surprise is\, you will come to see The Father filled in the blank before the foundation of the world. You just needed to learn\, through your obedience\, who God created you to be. \nPlease agree with me as I pray. Then ask the Lord what your prayer should be and wait for His response: \nFather\, as I go through life each day\, continue to open my eyes. I want to understand who I am as You unfold Your Will for my life. You guide my footsteps by giving me the opportunity to choose You every day. I repent for those days when I chose myself. I know when I choose You; I become who You created me to be. I know nothing happens by accident or coincidence. Thank You for stopping me from creating my purpose and my plan because I had such an obsession to identify Your call on my life. Thank You for showing me I could never complete “my” plan for my life because that would mean I would miss Yours. I am as clay on the potter’s wheel and each day You are training me through my life interactions and conversations… \nASK THE LORD WHAT HE WANTS TO SAY TO YOU ABOUT TODAY’S DEVOTIONAL AND JOURNAL IT HERE:
URL:https://yourvisionwriters.com/devotional/ephesians-411/
CATEGORIES:February
END:VEVENT
END:VCALENDAR