BEGIN:VCALENDAR
VERSION:2.0
PRODID:-//At God&#039;s Door Ministries - ECPv6.15.13//NONSGML v1.0//EN
CALSCALE:GREGORIAN
METHOD:PUBLISH
X-ORIGINAL-URL:https://yourvisionwriters.com
X-WR-CALDESC:Events for At God&#039;s Door Ministries
REFRESH-INTERVAL;VALUE=DURATION:PT1H
X-Robots-Tag:noindex
X-PUBLISHED-TTL:PT1H
BEGIN:VTIMEZONE
TZID:America/Chicago
BEGIN:DAYLIGHT
TZOFFSETFROM:-0600
TZOFFSETTO:-0500
TZNAME:CDT
DTSTART:20250309T080000
END:DAYLIGHT
BEGIN:STANDARD
TZOFFSETFROM:-0500
TZOFFSETTO:-0600
TZNAME:CST
DTSTART:20251102T070000
END:STANDARD
BEGIN:DAYLIGHT
TZOFFSETFROM:-0600
TZOFFSETTO:-0500
TZNAME:CDT
DTSTART:20260308T080000
END:DAYLIGHT
BEGIN:STANDARD
TZOFFSETFROM:-0500
TZOFFSETTO:-0600
TZNAME:CST
DTSTART:20261101T070000
END:STANDARD
BEGIN:DAYLIGHT
TZOFFSETFROM:-0600
TZOFFSETTO:-0500
TZNAME:CDT
DTSTART:20270314T080000
END:DAYLIGHT
BEGIN:STANDARD
TZOFFSETFROM:-0500
TZOFFSETTO:-0600
TZNAME:CST
DTSTART:20271107T070000
END:STANDARD
END:VTIMEZONE
BEGIN:VEVENT
DTSTART;VALUE=DATE:20260215
DTEND;VALUE=DATE:20260216
DTSTAMP:20260423T113749
CREATED:20251224T070436Z
LAST-MODIFIED:20260113T115605Z
UID:10000046-1771113600-1771199999@yourvisionwriters.com
SUMMARY:Job 11:3
DESCRIPTION:Job 11:3 Should I remain silent while you babble on? When you mock God\, shouldn’t someone make you ashamed? (NLT) \nAre your friends real or counterfeit? \nThe FBI trains their agents to spot counterfeit money by looking at it and touching it. God can train you to do the same things with those you interact with. You rely on the Holy Spirit and use discernment.  \nThe world uses the word friend as a catchphrase for everyone they know; you need clarity when you talk about your friends. For the sake of this devotional\, the word “friend” refers to the people you allow into your inner circle; those you share your life with; those who help you make tough decisions; and those who can speak into your heart\, especially when you’re feeling low. \nWith that understanding\, you need a friend who will tell you when you’re wrong\, remind you “what” you believe\, “Who” you believe in\, and “Who” you belong to. \n  \n\n\n\nReal Friends\nCounterfeit Friends\n\n\nKeep you from making the mistake of accusing God\, blaming God\, or making your situation about what God has not done.\nCommiserate with you\, tell you God is mad at you\, and fail to lead you into the presence of God. \n\n\nHelp you realize your circumstances are really about what God is trying to do in\, with\, and through you.\nHelp you identify how and why\, you have been mistreated\, who mistreated you\, and what you should do about it.\n\n\nRequire that you remember God is in \ncontrol and He loves you.\nTell you to take control of your own situation and do what needs to be done.\n\n\n\n  \nJob 2:9-10 Then his wife said to him\, “Do you still hold fast to your integrity? Curse God and die!” 10 But he said to her\, “You speak as one of the foolish women speaks. Shall we indeed accept good from God\, and shall we not accept adversity?” In all this Job did not sin with his lips. (NKJV) \nJob 42:7–9 And so it was\, after the Lord had spoken these words to Job\, that the Lord said to Eliphaz the Temanite\, My wrath is aroused against you and your two friends\, for you have not spoken of Me what is right\, as My servant Job has. (NKJV) \nYour real friends will cause you to stop\, look\, and listen\, even if they make you mad. Remember\, not only do you need a real friend; you need to be a real friend too. The Bible identifies the greatest friendship you ever want in James 2:23. \nJames 2:23 And the Scripture was fulfilled which says\, “Abraham believed God\, and this [faith] was credited to him [by God] as righteousness and as conformity to His will\,” and he was called the friend of God. (AMP) \nIf you can be a friend of God\, you will have no problem being a friend to anyone else. \nPlease agree with me as I pray. Then ask the Lord what your prayer should be and wait for His response: \nFather\, I thank You for surrounding me with friends who love You more than they love me. Those who care enough about me to tell me when I am wrong. I thank You for putting people in my life who are concerned about my spiritual growth; and they identify my missteps in actions\, conversation\, and in attitude. I repent for not honoring You by appreciating them more. I am sorry. Without those people\, I know I would prolong the training I’m currently in. Thank You for the people You placed in my path\, who love me enough to show me You no matter what I am going through. Whether I am dealing with a problem\, rejoicing over something great that has happened\, or when I am crying over a mistake I have made; they help me wipe my tears. It does not matter what I am crying about\, and especially when I am wrong. Thank You for helping me develop my character. You made it possible for me to be a friend to You and to others. I want to rejoice with those who rejoice and weep with those who weep\, always pointing them to You… \nAsk the lord what he wants to say to you about today’s devotional and journal it here: 
URL:https://yourvisionwriters.com/devotional/job-113/
CATEGORIES:February
END:VEVENT
END:VCALENDAR