BEGIN:VCALENDAR
VERSION:2.0
PRODID:-//At God&#039;s Door Ministries - ECPv6.15.13//NONSGML v1.0//EN
CALSCALE:GREGORIAN
METHOD:PUBLISH
X-WR-CALNAME:At God&#039;s Door Ministries
X-ORIGINAL-URL:https://yourvisionwriters.com
X-WR-CALDESC:Events for At God&#039;s Door Ministries
REFRESH-INTERVAL;VALUE=DURATION:PT1H
X-Robots-Tag:noindex
X-PUBLISHED-TTL:PT1H
BEGIN:VTIMEZONE
TZID:America/Chicago
BEGIN:DAYLIGHT
TZOFFSETFROM:-0600
TZOFFSETTO:-0500
TZNAME:CDT
DTSTART:20250309T080000
END:DAYLIGHT
BEGIN:STANDARD
TZOFFSETFROM:-0500
TZOFFSETTO:-0600
TZNAME:CST
DTSTART:20251102T070000
END:STANDARD
BEGIN:DAYLIGHT
TZOFFSETFROM:-0600
TZOFFSETTO:-0500
TZNAME:CDT
DTSTART:20260308T080000
END:DAYLIGHT
BEGIN:STANDARD
TZOFFSETFROM:-0500
TZOFFSETTO:-0600
TZNAME:CST
DTSTART:20261101T070000
END:STANDARD
BEGIN:DAYLIGHT
TZOFFSETFROM:-0600
TZOFFSETTO:-0500
TZNAME:CDT
DTSTART:20270314T080000
END:DAYLIGHT
BEGIN:STANDARD
TZOFFSETFROM:-0500
TZOFFSETTO:-0600
TZNAME:CST
DTSTART:20271107T070000
END:STANDARD
END:VTIMEZONE
BEGIN:VEVENT
DTSTART;TZID=America/Chicago:20260226T080000
DTEND;TZID=America/Chicago:20260226T170000
DTSTAMP:20260423T083055
CREATED:20251224T091424Z
LAST-MODIFIED:20260113T115605Z
UID:10000133-1772092800-1772125200@yourvisionwriters.com
SUMMARY:Corinthians 6:19
DESCRIPTION:1 Corinthians 6:19 Do you not realize that your body by design is the sacred shrine of the spirit of God; he echoed God within you. Your body does not even belong to you in the first place! (TMB) \nWhat kind of temple are you asking God to dwell in? \nDo you think about this scripture from time to time? Often\, it is used to discourage what ministry leaders and religious leaders consider as the “major” sins: adultery\, smoking\, fornicating\, drinking; you know the list. Please know this: there are no top sins that contaminate the body. All sin contaminates the body. This body is not your own\, it belongs to God. When you accepted His invitation\, you allowed Him to come and dwell within you.  \nRomans 8:10-11 If Christ lives in you\, though your [natural] body is dead because of sin\, your spirit is alive because of righteousness [which He provides]. 11 And if the Spirit of Him who raised Jesus from the dead lives in you\, He who raised Christ Jesus from the dead will also give life to your mortal bodies through His Spirit\, who lives in you. (AMP) \nYou are no longer just His creation\, now you are His place of residence. This is not your body\, alone. You should not take it anywhere and everywhere. You should not do anything and everything with it\, nor to it. You should honor it as the home of God. This is a test you get to pass every day. The goal here is to treat your body as God’s temple. You may have\, up to now\, rationalized and reasoned a way to continue to live your life the way you have been. Please ask God to show you those things that you need to allow Him to fix.  \n1 Corinthians 3:16-17 Don’t you understand that together you form a temple to the living God and His Spirit lives among you? To determine if you are treating it in the way it should be treated; listen to the prompting of the Holy Spirit. (TVT) \nNot only do you want your body to be the place where God dwells\, you also want Him to take pleasure in dwelling there. As you read the Old Testament (Exodus 25–31)\, you see how God designed and crafted the Temple. You could spend a wonderful time of study  and get revelation to better understand the function of the temple and the intricacy of its design. Then you could make the correlation between the physical temple and your body. This will help make God feel welcome.  \nPlease agree with me as I pray. Then ask the Lord what your prayer should be and wait for His response: \nFather\, thank You for reminding me my body is not mine to do with as I will. I know I don’t always treat it in a way that pleases You. I repent for doing the wrong things with it\, for it\, and to it. I also repent for using it to take You places I know You didn’t want to be. I do desire for You to enjoy dwelling within me. I ask You\, Father\, to continue to show me those things You need to fix and those things You need to change. I want You to take joy in dwelling in this earthen vessel. I only want to take Your temple to places it needs to be where You can be at peace. I want the things I do with it and to it to bring You glory and honor. As You search my heart and my life\, show me what celebrates You and what does not. Continue to help me create a place where You can make Your Abode… \nAsk the lord what he wants to say to you about today’s devotional and journal it here:   
URL:https://yourvisionwriters.com/devotional/corinthians-619/
CATEGORIES:February
END:VEVENT
END:VCALENDAR