BEGIN:VCALENDAR
VERSION:2.0
PRODID:-//At God&#039;s Door Ministries - ECPv6.15.13//NONSGML v1.0//EN
CALSCALE:GREGORIAN
METHOD:PUBLISH
X-WR-CALNAME:At God&#039;s Door Ministries
X-ORIGINAL-URL:https://yourvisionwriters.com
X-WR-CALDESC:Events for At God&#039;s Door Ministries
REFRESH-INTERVAL;VALUE=DURATION:PT1H
X-Robots-Tag:noindex
X-PUBLISHED-TTL:PT1H
BEGIN:VTIMEZONE
TZID:America/Chicago
BEGIN:DAYLIGHT
TZOFFSETFROM:-0600
TZOFFSETTO:-0500
TZNAME:CDT
DTSTART:20250309T080000
END:DAYLIGHT
BEGIN:STANDARD
TZOFFSETFROM:-0500
TZOFFSETTO:-0600
TZNAME:CST
DTSTART:20251102T070000
END:STANDARD
BEGIN:DAYLIGHT
TZOFFSETFROM:-0600
TZOFFSETTO:-0500
TZNAME:CDT
DTSTART:20260308T080000
END:DAYLIGHT
BEGIN:STANDARD
TZOFFSETFROM:-0500
TZOFFSETTO:-0600
TZNAME:CST
DTSTART:20261101T070000
END:STANDARD
BEGIN:DAYLIGHT
TZOFFSETFROM:-0600
TZOFFSETTO:-0500
TZNAME:CDT
DTSTART:20270314T080000
END:DAYLIGHT
BEGIN:STANDARD
TZOFFSETFROM:-0500
TZOFFSETTO:-0600
TZNAME:CST
DTSTART:20271107T070000
END:STANDARD
END:VTIMEZONE
BEGIN:VEVENT
DTSTART;VALUE=DATE:20260223
DTEND;VALUE=DATE:20260224
DTSTAMP:20260423T113410
CREATED:20251224T072756Z
LAST-MODIFIED:20260113T115605Z
UID:10000060-1771804800-1771891199@yourvisionwriters.com
SUMMARY:John 3:5
DESCRIPTION:John 3:5 Jesus answered\, Verily\, verily\, I say unto thee\, except a man be born of water and of the Spirit\, he cannot enter into the kingdom of God. (KJV) \nAre you sharing the gospel with those who are kind\, yet not saved? \nEveryone who wants to see God must be born of the Spirit. Because we are all born into sin and shaped in iniquity (Psalms 51:5)\, God’s desire for everyone is that we are born again. As a servant of God\, you should also want everyone to be a part of His Kingdom. However\, there’s no way in without being born again. You probably know really pleasant people\, kind people\, philanthropic people who would do anything for anybody. You may meet rich people who believe they can take care of anything in their lives\, themselves. Their feelings do not change the word. There’s no way around it. You must be born again. Read Matthew 19:16-22\, 24 (NKJV):  \nNow behold\, one came and said to Him\, “Good Teacher\, what good thing shall I do that I may have eternal life?” 17 So He said to him\, “Why do you call Me good? No one is good but One\, that is\, God. But if you want to enter into life\, keep the commandments.” 18 He said to Him\, “Which ones?” Jesus said\, “You shall not murder\, You shall not commit adultery\, You shall not steal\, You shall not bear false witness\, 19 Honor your father and your mother\, and\, You shall love your neighbor as yourself.” 20 The young man said to Him\, “All these things I have kept from my youth. What do I still lack?” 21 Jesus said to him\, “If you want to be perfect\, go\, sell what you have and give to the poor\, and you will have treasure in heaven; and come\, follow Me.” 22 But when the young man heard that saying\, he went away sorrowful\, for he had great possessions. 24 And again I say to you\, it is easier for a camel to go through the eye of a needle than for a rich man to enter the kingdom of God. \nSome training processes are easier than others\, this one can be uncomfortable. Just know\, you will be the better for it. It is not about who anyone is or what anyone does in the natural; it’s about the Spirit. Remember\, people do not earn salvation. As you go through life\, meeting\, interacting with and coming to know and love people who are not saved\, never forget this truth. Also\, rich does not just mean financial. Strong’s Concordance translates the word “rich” as wealth (or fulness). The definition is literally money or possessions\, figuratively\, as abundance or richness\, and specifically having a valuable bestowment.  \nBecause of what God did for you\, you want them to know He will do the same for them\, whether or not they think they need Him. Though you want to take advantage of every opportunity to witness and to share the gospel\, make sure you do not leave out those who are wealthy.  \nPlease agree with me as I pray. Then ask the Lord what your prayer should be and wait for His response: \nFather\, I thank You for every person I come in contact with daily. I also thank You for those the world considers as nice/wealthy people. I thank You for the open door into their lives. Now I can show them You. Help me not to disqualify myself because I don’t think I am in their league. Please give me words of wisdom and godly confidence. Often\, it’s difficult for me to speak to people who seem to be naturally or instinctively kind. I know it can also be hard for them to understand their need for You. Father God\, You have the words. You have a way I can use to shine a light ino their lives and show them what they are missing without You. I ask You for those words. Father\, I repent for not stepping out on Your word and lifting You up. When You give me the opportunity\, I won’t take back\, be afraid or rationalize. I will present You… \nAsk the lord what he wants to say to you about today’s devotional and journal it here:   
URL:https://yourvisionwriters.com/devotional/john-35/
CATEGORIES:February
END:VEVENT
BEGIN:VEVENT
DTSTART;VALUE=DATE:20260224
DTEND;VALUE=DATE:20260225
DTSTAMP:20260423T113410
CREATED:20251224T073019Z
LAST-MODIFIED:20260113T115605Z
UID:10000063-1771891200-1771977599@yourvisionwriters.com
SUMMARY:Timothy 3:5
DESCRIPTION:2 Timothy 3:5 “Having a form of godliness\, but denying the power thereof: from such turn away.” (KJV) \nAre you living a life God can use to bring conviction? \nWhen you live a life that glorifies God\, those who are unsaved recognize it and respect you for it. They will say “I’m sorry” when they curse around you and that kind of thing. However\, it is different with “church people.” It can be like walking through a military mine field when you have to deal with people who want you to believe they are spiritual when they are not. What they really are is religious. This is great training!  \nReligious people say hallelujah at the right time. They can hold their hands up in the right way. They have the right expression on their faces when the word is being preached\, or a song is being sung. However\, there is no power in their lives. You should not desire to be a part of their circle\, no matter how influential or powerful their circle is. Also\, before you step over into judgement\, your only task is to live before them. You are not to engage in “instructional conversations.”  \nTitus 3:8-9 This is a faithful saying\, and these things I want you to affirm constantly\, that those who have believed in God should be careful to maintain good works. These things are good and profitable to men. 9 But avoid foolish disputes\, genealogies\, contentions\, and strivings about the law; for they are unprofitable and useless. (NKJV) \nSimply allow God to be God in your life as you interact with them. Whether they are a member of the church you attend\, your prayer group or on your job; verbal conversation is not the way to reach them unless it is a God-ordained encounter. Let your light shine in your walk\, your talk\, and your responses to situations. Allow God to bring conviction. He is the only One who can bring them to a true and real relationship with Him. \nPlease agree with me as I pray. Then ask the Lord what your prayer should be and wait for His response: \nFather\, I thank You for the people You have allowed to be a part of my life that test my relationship with You. Thank You for showing me it is not my job to correct them. It is not my responsibility to engage in conversations that lead to debate. I repent for walking down that path more than once or twice. Thank You for correcting me and showing me Your way of living. I want to be spiritual and not religious. I know I will have to make more sacrifices\, give up connections\, and sometimes walk alone. I know I will have to examine myself every day to be sure my love for You is pure. I thank You for every opportunity You give me to see who I am. Sometimes those opportunities are painful\, however I know they are necessary. My prayer is for everyone to see You when they look at me. I want to live a life where whomever is looking will see Your power and recognize Your undeniable anointing on my life. I pray\, Father\, that those\, who I encounter\, would be drawn to a place where they seek You even more. Thank You for each God ordained moment in my life where I learn who I am\, grow into the person You have called me to be\, and to live a life that mirrors You… \nAsk the lord what he wants to say to you about today’s devotional and journal it here:   
URL:https://yourvisionwriters.com/devotional/timothy-35/
CATEGORIES:February
END:VEVENT
BEGIN:VEVENT
DTSTART;VALUE=DATE:20260225
DTEND;VALUE=DATE:20260226
DTSTAMP:20260423T113410
CREATED:20251224T073210Z
LAST-MODIFIED:20260113T115605Z
UID:10000065-1771977600-1772063999@yourvisionwriters.com
SUMMARY:Romans 8:9
DESCRIPTION:Romans 8:9 But ye are not in the flesh\, but in the Spirit\, if so be that the Spirit of God dwell in you. Now if any man have not the Spirit of Christ\, he is none of his. (KJV) \nAre you flesh-consciousness or spirit-consciousness? \nToday’s question is good. What does it mean? It is simply asking if you know when you are being ruled by your flesh or by God’s Spirit? How would you know? Here are some examples of how you would act if you were being ruled by your flesh. You would: \n\nAlways have yourself as the center of your actions.\nDo good deeds because you are hoping to be seen and celebrated.\nRespond to situations based on emotion only.\nSay the right thing because the right person is listening\, not because it’s in your heart. \nDo anything (i.e.\, lie\, cheat\, steal\, kill\, etc.) to get what you wanted\, even if it meant hurting someone else.\n\nGalatians 5:16 But I say\, walk habitually in the [Holy] Spirit [seek Him and be responsive to His guidance]\, and then you will certainly not carry out the desire of the sinful nature [which responds impulsively without regard for God and His precepts]. (AMP) \nWhen you walk according to the word\, you won’t fulfill the lust of the flesh. If you accepted salvation\, God’s Spirit is in you. Are you able to process this truth? Are you able to embrace this truth: “the same Spirit that raised Jesus from the dead dwells in you”? If you can\, you will see yourself as God’s image on the earth. Please understand\, you are the only God some people will ever experience. With this in mind\, do not govern yourself and deal with people according to your flesh. Passing these training tests will carry you far as you war with the enemy\, and also as you seek to represent The Father. Those who are babes in Christ\, or even those who don’t know Christ\, will know if you are approaching them with God’s Spirit in activation (from a real place) or if you are not. They can tell if you are acting exactly like them.  \nLuke 6:45 People are known in this same way. Out of the virtue stored in their hearts\, good and upright people will produce good fruit. But out of the evil hidden in their hearts\, evil ones will produce what is evil. For the overflow of what has been stored in your heart will be seen by your fruit and will be heard in your words. (TPT) \nYour heart reveals how much you have allowed the Spirit of God to rule you. You want your actions and your words to cause wonder. How are you able to respond this way? How are you able to do what you’ve done or give the way you do? Whether or not someone asks you; you know you act the way you do because you have the Spirit of God living within you. His Spirit is love. \nPlease agree with me as I pray. Then ask the Lord what your prayer should be and wait for His response: \nFather\, in the name of Jesus\, I am sorry and repentant because I lived constantly aware of what the devil was doing. Thank You for reminding me not only should I be aware of what You are doing in the world; I should also be aware of what You are doing in me. Thank You for Your Spirit. I thank You for thinking enough of me to send Jesus to die for me. I am excited\, amazed\, and humbled every time I think about the power that I now have because of salvation. The same Spirit that raised Jesus from the dead now dwells within me. I thank You\, Father God\, for the liberty and the grace to allow Your Spirit to shine forth in all of my interactions. As I submit to You\, Your Spirit can bring my flesh under subjection. I have the power to refuse what looks right or what feels right according to my flesh or the world’s standards. I submit myself to You. My desire is to glorify You. Continue to mold and shape my life. I want the world to see You through me. I want my life to be a conduit through which You can draw some lost man\, woman\, boy or girl. I thank You God\, for choosing me. I thank You God\, for using me. I thank You God\, for filling me with Your Spirit… \nAsk the lord what he wants to say to you about today’s devotional and journal it here:   
URL:https://yourvisionwriters.com/devotional/romans-89/
CATEGORIES:February
END:VEVENT
BEGIN:VEVENT
DTSTART;TZID=America/Chicago:20260226T080000
DTEND;TZID=America/Chicago:20260226T170000
DTSTAMP:20260423T113410
CREATED:20251224T091424Z
LAST-MODIFIED:20260113T115605Z
UID:10000133-1772092800-1772125200@yourvisionwriters.com
SUMMARY:Corinthians 6:19
DESCRIPTION:1 Corinthians 6:19 Do you not realize that your body by design is the sacred shrine of the spirit of God; he echoed God within you. Your body does not even belong to you in the first place! (TMB) \nWhat kind of temple are you asking God to dwell in? \nDo you think about this scripture from time to time? Often\, it is used to discourage what ministry leaders and religious leaders consider as the “major” sins: adultery\, smoking\, fornicating\, drinking; you know the list. Please know this: there are no top sins that contaminate the body. All sin contaminates the body. This body is not your own\, it belongs to God. When you accepted His invitation\, you allowed Him to come and dwell within you.  \nRomans 8:10-11 If Christ lives in you\, though your [natural] body is dead because of sin\, your spirit is alive because of righteousness [which He provides]. 11 And if the Spirit of Him who raised Jesus from the dead lives in you\, He who raised Christ Jesus from the dead will also give life to your mortal bodies through His Spirit\, who lives in you. (AMP) \nYou are no longer just His creation\, now you are His place of residence. This is not your body\, alone. You should not take it anywhere and everywhere. You should not do anything and everything with it\, nor to it. You should honor it as the home of God. This is a test you get to pass every day. The goal here is to treat your body as God’s temple. You may have\, up to now\, rationalized and reasoned a way to continue to live your life the way you have been. Please ask God to show you those things that you need to allow Him to fix.  \n1 Corinthians 3:16-17 Don’t you understand that together you form a temple to the living God and His Spirit lives among you? To determine if you are treating it in the way it should be treated; listen to the prompting of the Holy Spirit. (TVT) \nNot only do you want your body to be the place where God dwells\, you also want Him to take pleasure in dwelling there. As you read the Old Testament (Exodus 25–31)\, you see how God designed and crafted the Temple. You could spend a wonderful time of study  and get revelation to better understand the function of the temple and the intricacy of its design. Then you could make the correlation between the physical temple and your body. This will help make God feel welcome.  \nPlease agree with me as I pray. Then ask the Lord what your prayer should be and wait for His response: \nFather\, thank You for reminding me my body is not mine to do with as I will. I know I don’t always treat it in a way that pleases You. I repent for doing the wrong things with it\, for it\, and to it. I also repent for using it to take You places I know You didn’t want to be. I do desire for You to enjoy dwelling within me. I ask You\, Father\, to continue to show me those things You need to fix and those things You need to change. I want You to take joy in dwelling in this earthen vessel. I only want to take Your temple to places it needs to be where You can be at peace. I want the things I do with it and to it to bring You glory and honor. As You search my heart and my life\, show me what celebrates You and what does not. Continue to help me create a place where You can make Your Abode… \nAsk the lord what he wants to say to you about today’s devotional and journal it here:   
URL:https://yourvisionwriters.com/devotional/corinthians-619/
CATEGORIES:February
END:VEVENT
BEGIN:VEVENT
DTSTART;VALUE=DATE:20260227
DTEND;VALUE=DATE:20260228
DTSTAMP:20260423T113410
CREATED:20251224T073547Z
LAST-MODIFIED:20260113T115605Z
UID:10000068-1772150400-1772236799@yourvisionwriters.com
SUMMARY:Matthew 25:4
DESCRIPTION:Matthew 25:4 But the wise took oil in their vessels with their lamps. (KJV) \nDo you have extra oil? \nWhat does it mean to be prepared? The Bible tells you to be alert and aware as you fight in this spiritual war. You need to recognize the devil’s schemes\, plots\, and plans. You need to know what you’re dealing with and equip yourself for each battle you fight in this war.  \n1 Peter 5:8-9b Be well balanced (temperate\, sober of mind)\, be vigilant and cautious at all times; for that enemy of yours\, the devil\, roams around like a lion [roaring in fierce hunger]\, seeking someone to seize upon and devour. 9 Withstand him; be firm in faith [against his onset—rooted\, established\, strong\, immovable\, and determined]\, (AMPC) \nThe greatest strategists in the world examine their enemies. They understand their opponent’s inner workings and methodologies. Great football coaches watch the film clips of the next team they will compete against. Boxers watch videos of the boxer they’re going to be fighting next. These tactics and practices are invaluable to you as well.  \nMatthew 24:43  But you should know this: If the owner of a house had known his house was about to be broken into\, he would have stayed up all night\, vigilantly. He would have kept watch\, and he would have thwarted the thief. (TVT) \nFrom the day the Lord saved you\, you became a soldier in His army. You have fought in this war\, whether spiritual leaders taught you or trained you\, or if you just went it alone. You had to because your enemy\, satan; the devil stalked you. Now you know it is your spiritual responsibility to understand how the enemy works in your life and what tools you have to combat him. This is what it means to be prepared. This is how you bring extra oil. Your lamp doesn’t have to run out. You do not have to become a casualty of war. As a side thought\, ask yourself these two questions:  \n\nWhat causes your lamp to flicker?\nWhat causes you to burn your oil faster?\n\nYou get ready by diligently seeking God. You prepare and get additional oil for your lamp when you spend dedicated time in prayer. The Father will help you examine your activities to see how the enemy comes against you. Not only will He show you how\, He will show you when and where\, enabling you to be ready. When the enemy comes in like a flood\, you can lift up a standard if you still have oil for your lamp.  \nThe greatest incentive is if you keep oil in your lamp\, you can be ready when the King comes. \nPlease agree with me as I pray. Then ask the Lord what your prayer should be and wait for His response: \nFather\, I thank You for preparing me. I will have oil when You come. I thank You for Your power. Your Spirit flows through me to replenish and refresh me. I repent for the doors I have opened and how the enemy has used those entry ways to exploit me. Thank You for forgiveness and being faithful to speak to me and draw me. Please continue to deliver me and help me allow You to close those doors. Your presence shines a light in the darkness. I can see the devil at work trying to destroy my life. I want to understand how he can still trap me and how he has tricked me in the past. I want to be diligent in my time with You\, which will make it difficult for him to trick and trap me in the same ways repeatedly. I want to draw closer to You\, then I can see the enemy through Your eyes. I want to see what new tricks he is planning against me and confound him by Your Spirit. I want to stand victorious in this fight. Father\, I know You could stop the enemy from attacking me. Help me not to become shaky when You don’t. I know You are developing me. Thank You for every preparedness drill because I learn from them\, and I am trained by them. I thank You for the revelation that this is spiritual warfare. I can win. I won’t be found lacking… \nAsk the lord what he wants to say to you about today’s devotional and journal it here:   
URL:https://yourvisionwriters.com/devotional/matthew-254/
CATEGORIES:February
END:VEVENT
BEGIN:VEVENT
DTSTART;VALUE=DATE:20260228
DTEND;VALUE=DATE:20260301
DTSTAMP:20260423T113410
CREATED:20251224T073830Z
LAST-MODIFIED:20260113T115605Z
UID:10000071-1772236800-1772323199@yourvisionwriters.com
SUMMARY:Romans 16:17
DESCRIPTION:Romans 16:17 Now I beseech you\, brethren\, mark them which cause divisions and offences contrary to the doctrine which ye have learned; and avoid them. (KJV) \nAre you choosing to go along to get along? \nThere is always one person in the bunch who is forever in the center of the drama. The spirit of strife has found them and attached itself\, and is always there to influence them. The spirit of strife is always in the middle of every disagreement and is there everywhere the person goes.  \nJames 3:16 For where envying and strife is\, there is confusion and every evil work. (KJV) \nWherever the person shows up\, something happens. No one may remember how the confusion got started. Here is how: the spirit of strife was there\, in the background\, stirring the pot. Someone says the right thing to start confusion; someone else repeats something that was said “in confidence”; they drag information around like a dog with a bone\, etc. Remember\, it’s not the person\, it’s the spirit of strife on assignment\, creating tension and discord. \nAs a part of your training\, you have to know that the spirit of strife influences people everywhere\, including you. No matter where you are\, whether it’s on your job\, in your group of friends\, in your home\, or\, sadly\, at your church. What does it mean for you if this person sits in a place of influence in your life\, can help you get a promotion\, help you get a raise\, or is a part of the tribe you want to be a part of?  \nFirst\, it is not your job to deal with the spirit of strife in a person. You don’t have the power to fix them according to what you think a “fixed person” would look like. If ever you think you are being led by God to “give a word\,” make sure it is not just your flesh working overtime. One way to be sure you are being directed by God is\, He will ordain the moment of your encounter. You will not orchestrate it\, plan it\, or schedule it. Also\, you will know if you really heard God by the outcome of the encounter. There will not be a stressful or strife-filled conversation because God is not the author of confusion. Ding! Next level warfare! \nMatthew 18:15 This is what you do if one of your brothers or sisters sins against you: go to him\, in private\, and tell him just what you perceive the wrong to be. If he listens to you\, you’ve won a brother. (TVT) \nYour responsibility is to ask the Holy Spirit to help you discern the spirit at work and if God does not direct you to speak or intervene\, separate yourself from it. Whether it is you or someone else\, pray for deliverance. You don’t want to be around a person who carries the spirit of strife\, and if you are being influenced by it\, stay away from others until you allow the Lord to deal with you.  \nSecond\, make a choice. What if everyone accepts this person’s behavior? What if you would be outcast if you didn’t also? What will you do\, go along\, or choose a different path? This is a pivotal moment and important part of your training. This is another test to pass. Here is a truth you can use as a decision helper: \nDeuteronomy 30:19a I call heaven and earth as witnesses today against you\, that I have set before you life and death\, blessing and cursing; therefore choose life. (NKJV) \nThere is nothing that a man or woman can do for you that surpasses what God can do if you just walk in his ways. You know God is on your side. Live in that truth and allow God to do what you need done in our life.  \nPlease agree with me as I pray. Then ask the Lord what your prayer should be and wait for His response: \nFather\, I know it is human nature to want to be accepted. You are teaching me to desire acceptance and approval by You first. I repent when I get it backwards. I am sorry for putting anyone else in front of You. Father\, until such time as I am completely there\, I thank You for showing me when I am prone to go along to get along. Continue to show me the pitfalls. Help me discern strife-filled people and steer away from strife-filled situations. Show me when I am being influenced by the spirit of strife. It is my tendency to want to help. However\, I understand I could just add to the confusion if I am not led by You. You have shown me strife is like a plague. It can influence anyone\, and it can spread everywhere: in my home\, at my church\, or on my job. The ripple effect continues because each person\, influenced by strife\, takes it with them wherever they go. That same spirit causes confusion and someone else is infected\, et cetera et cetera. Father\, I don’t want to be someone who causes issues wherever I go. I don’t want to be a part of that vicious cycle of confusion\, problems\, issues\, and struggles. Thank You for requiring me to keep contention and strife out of my environment. I thank You for the strength to stand for what You require of me\, even if I have to stand alone\, and to separate myself for deliverance if needed… \nAsk the lord what he wants to say to you about today’s devotional and journal it here:   
URL:https://yourvisionwriters.com/devotional/romans-1617/
CATEGORIES:February
END:VEVENT
END:VCALENDAR