BEGIN:VCALENDAR
VERSION:2.0
PRODID:-//At God&#039;s Door Ministries - ECPv6.15.13//NONSGML v1.0//EN
CALSCALE:GREGORIAN
METHOD:PUBLISH
X-ORIGINAL-URL:https://yourvisionwriters.com
X-WR-CALDESC:Events for At God&#039;s Door Ministries
REFRESH-INTERVAL;VALUE=DURATION:PT1H
X-Robots-Tag:noindex
X-PUBLISHED-TTL:PT1H
BEGIN:VTIMEZONE
TZID:America/Chicago
BEGIN:DAYLIGHT
TZOFFSETFROM:-0600
TZOFFSETTO:-0500
TZNAME:CDT
DTSTART:20250309T080000
END:DAYLIGHT
BEGIN:STANDARD
TZOFFSETFROM:-0500
TZOFFSETTO:-0600
TZNAME:CST
DTSTART:20251102T070000
END:STANDARD
BEGIN:DAYLIGHT
TZOFFSETFROM:-0600
TZOFFSETTO:-0500
TZNAME:CDT
DTSTART:20260308T080000
END:DAYLIGHT
BEGIN:STANDARD
TZOFFSETFROM:-0500
TZOFFSETTO:-0600
TZNAME:CST
DTSTART:20261101T070000
END:STANDARD
BEGIN:DAYLIGHT
TZOFFSETFROM:-0600
TZOFFSETTO:-0500
TZNAME:CDT
DTSTART:20270314T080000
END:DAYLIGHT
BEGIN:STANDARD
TZOFFSETFROM:-0500
TZOFFSETTO:-0600
TZNAME:CST
DTSTART:20271107T070000
END:STANDARD
END:VTIMEZONE
BEGIN:VEVENT
DTSTART;VALUE=DATE:20260709
DTEND;VALUE=DATE:20260710
DTSTAMP:20260424T075146
CREATED:20251224T110227Z
LAST-MODIFIED:20260113T134026Z
UID:10000233-1783555200-1783641599@yourvisionwriters.com
SUMMARY:Ephesians 5:16
DESCRIPTION:Ephesians 5:16 Wisdom converts time into opportunity and frees your day from slog. (TMB) \nAre you giving a tithe of your time? \nIn the workforce\, time management and the ability to multitask are critical qualities for success. The Bible is clear about how you should spend your time as well. \nProverbs 16:27 Idle hands are the devils workshop (KJV)  \nEphesians 5:16 Making the very most of your time [on earth\, recognizing and taking advantage of each opportunity and using it with wisdom and diligence]\, because the days are [filled with] evil. (AMP) \nTime is available for you to do what you want with it. You can live like you have plenty of time to invest in your relationship with God\, and you do the “fun things” now. You can also choose to live your life as if you don’t know when Jesus is going to return (in point of fact you don’t).  \nJames 4:13-15 Come now [and pay attention to this]\, you who say\, “Today or tomorrow we will go to such and such a city\, and spend a year there and carry on our business and make a profit.” 14 Yet you do not know [the least thing] about what may happen in your life tomorrow. [What is secure in your life?] You are merely a vapor [like a puff of smoke or a wisp of steam from a cooking pot] that is visible for a little while and then vanishes [into thin air]. 15 Instead you ought to say\, “If the Lord wills\, we will live and we will do this or that.” (AMP) \nEvery second is a precious opportunity to press into God. Your tithe is a 10th\, 2.4 hours per day. Are you robbing God? \nPlease agree with me as I pray. Then ask the Lord what your prayer should be and wait for His response: \nFather\, in the name of Jesus\, I thank You for the opportunity to live my life giving You glory. I know I don’t know when Jesus is going to return. I repent for acting like I do. You give me time and allow me to do whatever I want to do with it. I can spend my time doing a lot of things I believe would benefit me in the natural. I can also spend my time doing fun things. I choose to spend my time giving You what is due You. The legalistic amount of time I should give You is 2.4 hours in a day. You are worth much more than 10%. The end of the tithe is the beginning of the sacrifice. I want to live my life in the sacrifice and offering portion of time. I don’t want to just give what I should give; I desire to give out of the abundance and overflow. You give me out of Your abundance. You are my God and I love You…  \n \nAsk the lord what he wants to say to you about today’s devotional and journal it here:   
URL:https://yourvisionwriters.com/devotional/ephesians-516/
CATEGORIES:July
END:VEVENT
END:VCALENDAR