BEGIN:VCALENDAR
VERSION:2.0
PRODID:-//At God&#039;s Door Ministries - ECPv6.15.13//NONSGML v1.0//EN
CALSCALE:GREGORIAN
METHOD:PUBLISH
X-WR-CALNAME:At God&#039;s Door Ministries
X-ORIGINAL-URL:https://yourvisionwriters.com
X-WR-CALDESC:Events for At God&#039;s Door Ministries
REFRESH-INTERVAL;VALUE=DURATION:PT1H
X-Robots-Tag:noindex
X-PUBLISHED-TTL:PT1H
BEGIN:VTIMEZONE
TZID:America/Chicago
BEGIN:DAYLIGHT
TZOFFSETFROM:-0600
TZOFFSETTO:-0500
TZNAME:CDT
DTSTART:20250309T080000
END:DAYLIGHT
BEGIN:STANDARD
TZOFFSETFROM:-0500
TZOFFSETTO:-0600
TZNAME:CST
DTSTART:20251102T070000
END:STANDARD
BEGIN:DAYLIGHT
TZOFFSETFROM:-0600
TZOFFSETTO:-0500
TZNAME:CDT
DTSTART:20260308T080000
END:DAYLIGHT
BEGIN:STANDARD
TZOFFSETFROM:-0500
TZOFFSETTO:-0600
TZNAME:CST
DTSTART:20261101T070000
END:STANDARD
BEGIN:DAYLIGHT
TZOFFSETFROM:-0600
TZOFFSETTO:-0500
TZNAME:CDT
DTSTART:20270314T080000
END:DAYLIGHT
BEGIN:STANDARD
TZOFFSETFROM:-0500
TZOFFSETTO:-0600
TZNAME:CST
DTSTART:20271107T070000
END:STANDARD
END:VTIMEZONE
BEGIN:VEVENT
DTSTART;VALUE=DATE:20260711
DTEND;VALUE=DATE:20260712
DTSTAMP:20260424T074829
CREATED:20251224T110855Z
LAST-MODIFIED:20260113T134026Z
UID:10000241-1783728000-1783814399@yourvisionwriters.com
SUMMARY:Thessalonians 3:8
DESCRIPTION:1 Thessalonians 3:8 Your strong standing in the Lord gives us such zest for life. (TMB) \nIs your excitement for your life in Christ evident?  \nWhen you talk about your salvation experience\, do you get excited all over again? Is the smile on your face bigger than you can contain? Do you run to serve? Do you answer questions before a person can ask them? Do you give your testimony ever chance you get? The Psalmist had one way of sharing it. \nPsalm 34: 1-3 I will bless the Lord at all times: his praise shall continually be in my mouth. 2 My soul shall make her boast in the Lord: the humble shall hear thereof\, and be glad. 3 O magnify the Lord with me\, and let us exalt his name together. (KJV) \nWe also used to sing a song in church. Here are the lyrics: \nWhen I think of His goodness\, and what He’s done for me. When I think of His goodness\, and how He set me free\, I can dance\, dance\, dance\, dance\, dance\, dance\, dance\, all night long. We would exchange the word dance for praise\, sing\, shout\, spin\, etc.   \nThinking of who God is and what He has done should cause an abundance of joyous emotions to overflow. You should celebrate and have an enthusiasm for your life in Christ.  \n1 Peter 1:8 You love him passionately although you have not seen him\, but through believing in him you are saturated with an ecstatic joy\, indescribably sublime and immersed in glory. (TPT) \nYour excitement should show in how you live your life and be encouragement believers and non-believers alike. \nPlease agree with me as I pray. Then ask the Lord what your prayer should be and wait for His response: \nFather\, when I think about Your mercy\, Your goodness\, Your blessings\, and Your favor towards me; I am overwhelmed and excited. I want the excitement I feel to be like the clothes I wear. Please forgive me for showing my excitement sometime\, when I should show it all the time. I want to show Your glory when people see me; when they talk to me; and when they watch how I deal with situations. I want Your love to shine through me as evidence and acknowledgment of Your existence in this world and in my life. I want to show my gratitude\, in the way I live\, for all You have done\, all that You are doing and all You will do. My appreciation comes from the things I know about You and what You’ve done for me. I could fill a library with the things You have done for me\, I know nothing about; You know\, and I am grateful for those as well. You designed and ordained my life. I want to live every day like a student waiting for graduation: excited and grateful…  \n \nAsk the lord what he wants to say to you about today’s devotional and journal it here: 
URL:https://yourvisionwriters.com/devotional/thessalonians-38/
CATEGORIES:July
END:VEVENT
END:VCALENDAR