BEGIN:VCALENDAR
VERSION:2.0
PRODID:-//At God&#039;s Door Ministries - ECPv6.15.13//NONSGML v1.0//EN
CALSCALE:GREGORIAN
METHOD:PUBLISH
X-WR-CALNAME:At God&#039;s Door Ministries
X-ORIGINAL-URL:https://yourvisionwriters.com
X-WR-CALDESC:Events for At God&#039;s Door Ministries
REFRESH-INTERVAL;VALUE=DURATION:PT1H
X-Robots-Tag:noindex
X-PUBLISHED-TTL:PT1H
BEGIN:VTIMEZONE
TZID:America/Chicago
BEGIN:DAYLIGHT
TZOFFSETFROM:-0600
TZOFFSETTO:-0500
TZNAME:CDT
DTSTART:20250309T080000
END:DAYLIGHT
BEGIN:STANDARD
TZOFFSETFROM:-0500
TZOFFSETTO:-0600
TZNAME:CST
DTSTART:20251102T070000
END:STANDARD
BEGIN:DAYLIGHT
TZOFFSETFROM:-0600
TZOFFSETTO:-0500
TZNAME:CDT
DTSTART:20260308T080000
END:DAYLIGHT
BEGIN:STANDARD
TZOFFSETFROM:-0500
TZOFFSETTO:-0600
TZNAME:CST
DTSTART:20261101T070000
END:STANDARD
BEGIN:DAYLIGHT
TZOFFSETFROM:-0600
TZOFFSETTO:-0500
TZNAME:CDT
DTSTART:20270314T080000
END:DAYLIGHT
BEGIN:STANDARD
TZOFFSETFROM:-0500
TZOFFSETTO:-0600
TZNAME:CST
DTSTART:20271107T070000
END:STANDARD
END:VTIMEZONE
BEGIN:VEVENT
DTSTART;VALUE=DATE:20260302
DTEND;VALUE=DATE:20260303
DTSTAMP:20260423T090553
CREATED:20251224T072209Z
LAST-MODIFIED:20260113T115736Z
UID:10000053-1772409600-1772495999@yourvisionwriters.com
SUMMARY:John 3:6
DESCRIPTION:John 3:6 That which is born of the flesh is flesh; and that which is born of the Spirit is spirit. (KJV) \nAre you choosing flesh or Spirit? \nDon’t you love how clear the word is? There is no provision for “gray areas”. It is not a difficult thing to distinguish between what you do to appease your flesh and what you do to glorify the Spirit. Fleshly activities and emotions satisfy your natural desires and lusts. \nGalatians 5:19-21 The cravings of the self-life are obvious: Sexual immorality\, lustful thoughts\, pornography\, 20 chasing after things instead of God\, manipulating others\, hatred of those who get in your way\, senseless arguments\, resentment when others are favored\, temper tantrums\, angry quarrels\, only thinking of yourself\, being in love with your own opinions\, 21 being envious of the blessings of others\, murder\, uncontrolled addictions\, wild parties\, and all other similar behavior. Haven’t I already warned you that those who use their “freedom” for these things will not inherit the kingdom realm of God! (TPT) \nSpiritual activities and emotions draw you closer to the Lord and fulfill His will on earth. \nGalatians 5:22–23 But the fruit produced by the Holy Spirit within you is divine love in all its varied expressions: joy that overflows\, peace that subdues\, patience that endures\, kindness in action\, a life full of virtue\, faith that prevails\, gentleness of heart\, and strength of spirit. Never set the law above these qualities\, for they are meant to be limitless. (TPT) \nNow\, sometimes you try to convince yourself a specific activity could “ultimately” bring glory to God. If you are honest with yourself\, you know your motivation is not God focused at all. That is why the bible encourages you to examine yourself. If you do\, you will determine when the activities you take part in\, the thoughts you give place to\, or the words you speak give God glory. Stop pretending; own what you do and stop doing things you know God is not pleased with. \nPlease agree with me as I pray. Then ask the Lord what your prayer should be and wait for His response: \nFather God\, I thank You because You are revealing who You are in me every day. Thank You for requiring me to identify whether I glorify You in my actions\, thoughts\, and in my words. You let me know when You are pleased and when You are not. Father\, I repent\, right now\, for all the times I tried to convince myself and others it was OK for me to say unacceptable things or act in hurtful ways. It is not Ok when I do not demonstrate Your love through my actions\, my thoughts\, and my words. Father\, thank You for the Holy Spirit. He continues to prick me when I do not line up and poke me when I get out of Your will. I do not want to think about anything\, say anything\, or act in a way that denies Your love. Heavenly Father\, I want to walk in Your Spirit and I will not fulfill the lust of my flesh…\n \nAsk the lord what he wants to say to you about today’s devotional and journal it here:
URL:https://yourvisionwriters.com/devotional/john-36/
CATEGORIES:March
END:VEVENT
BEGIN:VEVENT
DTSTART;VALUE=DATE:20260303
DTEND;VALUE=DATE:20260304
DTSTAMP:20260423T090553
CREATED:20251224T072447Z
LAST-MODIFIED:20260113T115736Z
UID:10000056-1772496000-1772582399@yourvisionwriters.com
SUMMARY:Psalms 14:2
DESCRIPTION:Psalms 14:2 The Lord looked down from heaven upon the children of men\, to see if there were any that did understand\, and seek God. (KJV) \nDid the Lord find you in His search? \nThe Lord continues to look down from heaven in search of those who really want to understand Him and seek Him. You say you want to trust God and obey Him when He gives instruction. What happens when you have to choose what God requires over what you want yourself? Do you fail to choose God at all? Is deciding to do what God wants more difficult than you would like to admit? Do you have to stop and think about it first? \n2 Chronicles 16:9a For the eyes of the Lord run to and fro throughout the whole earth\, to shew himself strong in the behalf of them whose heart is perfect toward him. (KJV) \nChoosing God\, without pause\, is exactly what God wants you to do. He wants you to obey Him no matter the task\, no matter the cost\, no matter the sacrifice. He is looking for those who really want to follow Him. Serving God is not a mundane\, routine\, fit-it-in-when-I-can kind of thing. Serving God is purposeful; it requires sacrifice\, and it requires diligence. \n1 Thessalonians 5:18 In every thing give thanks: for this is the will of God in Christ Jesus concerning you. (KJV) \nPlease agree with me as I pray. Then ask the Lord what your prayer should be and wait for His response: \nFather\, I thank You for reminding me You Are continually looking for those whose heart is perfect towards You. I am sorry for those times\, when You searched for me\, You found me trying to squeeze You in and my heart full of the cares of life. I know it is good for me to pray on my drive to and from work. It is also good for me to pray over my breakfast\, lunch\, and dinner. Thank You for helping me to realize You require more and I need more. I had to change my way of thinking. If I was going to be found by You\, fitting You in\, when it was convenient for me\, was not and is not sufficient. You want intimate conversations. Every day I look forward to another level of closeness\, being drawn closer to You than I was the day before. You are seeking those who really want You. I want to be found by You because I am seeking You with my whole heart…\n \nAsk the lord what he wants to say to you about today’s devotional and journal it here:
URL:https://yourvisionwriters.com/devotional/psalms-142/
CATEGORIES:March
END:VEVENT
BEGIN:VEVENT
DTSTART;VALUE=DATE:20260304
DTEND;VALUE=DATE:20260305
DTSTAMP:20260423T090553
CREATED:20251224T072738Z
LAST-MODIFIED:20260113T115736Z
UID:10000059-1772582400-1772668799@yourvisionwriters.com
SUMMARY:2 Timothy 3:3
DESCRIPTION:2 Timothy 3:3 Typically calloused and without affection; unforgiving\, displaying the characteristics of an accusing diabolical mindset\, they are without self-control; savage and cynical! (TMB) \nIs your earthly influence negative or a positive? \nBecause you are human\, you look at things from a natural standpoint. You live in a world where everything goes; there are open and encouraged displays of unnatural affection; people are cynical and diabolical by design. It appears\, according to the news and in the natural\, that the liars and the cheaters are successful in their duplicitousness. \nProverbs 14:12 There is a way that seems right to a man\, But its end is the way of death. (NKJV) \nOne of the greatest tools you can add to your arsenal is the ability to understand by the “Spirit” everything you see in the natural. It is discernment. \nPhilippians 1:9-10  And this I pray\, that your love may abound still more and more in knowledge and all discernment\, 10 that you may approve the things that are excellent\, that you may be sincere and without offense till the day of Christ\, (NKJV) \nThe Father desires for you to submit your understanding to Him and allow Him to give you revelation. If you are willing\, you can reap both spiritual and natural blessings. Often\, understanding is not what you want because of what you see and what you go through. Sometimes you feel hurt and anger. If you are not careful\, you can become cynical as well. Then you will be suspicious of everything and everyone\, and you will see life negatively. Please remember\, God is faithful. He has intervened in your life and in His timing\, and He will continue to\, if you stay the course. \n2 Timothy 2:3-5 Take with me your share of hardship [passing through the difficulties which you are called to endure]\, like a good soldier of Christ Jesus. 4 No soldier in active service gets entangled in the [ordinary business] affairs of civilian life; [he avoids them] so that he may please the one who enlisted him to serve. (AMP) \nAn important and tough part of the warfare is when you have to “go through” and still allow God to “flow through.” The enemy’s desire is for you to respond the way he does\, giving tit-for-tat. \nLuke 6:32-36  32 For if ye love them which love you\, what thank have ye? for sinners also love those that love them. 33 And if ye do good to them which do good to you\, what thank have ye? for sinners also do even the same. 34 And if ye lend to them of whom ye hope to receive\, what thank have ye? for sinners also lend to sinners\, to receive as much again. 35 But love ye your enemies\, and do good\, and lend\, hoping for nothing again; and your reward shall be great\, and ye shall be the children of the Highest: for he is kind unto the unthankful and to the evil. 36 Be ye therefore merciful\, as your Father also is merciful. (KJV) \nTo show love when love is not given\, and no one showed concern for you\, is God’s way. That is what you have to do. How you respond determines how much influence you will have. \nPlease agree with me as I pray. Then ask the Lord what your prayer should be and wait for His response: \nFather\, I want to submit myself to You for revelation and understanding in the midst of tough times. I repent for the times when my earthly influences did not lead me to You. Thank You for giving me opportunity after opportunity to see wrong and live what is right. I no longer feel I am privileged and should not have to endure hardness. I want to be a good soldier. I want to see Your hand at work in every situation. The enemy makes it seem like those who are out for themselves are victorious. Your word says to fret not because of those who are evil nor be envious of those who do wrong; for like the grass\, they will soon wither\, and like green plants\, they will soon die away. I want to live a life that says I trust in You and have my life be an influence for good\, pointing the world to You…\n \nAsk the lord what he wants to say to you about today’s devotional and journal it here:
URL:https://yourvisionwriters.com/devotional/2-timothy-33/
CATEGORIES:March
END:VEVENT
BEGIN:VEVENT
DTSTART;VALUE=DATE:20260305
DTEND;VALUE=DATE:20260306
DTSTAMP:20260423T090554
CREATED:20251224T072946Z
LAST-MODIFIED:20260113T115736Z
UID:10000062-1772668800-1772755199@yourvisionwriters.com
SUMMARY:Ephesians 4:16
DESCRIPTION:Ephesians 4:16 He makes the whole body fit together perfectly. As each part does its own special work\, it helps the other parts grow\, so that the whole body is healthy and growing and full of love. (NLT) \nAre you keeping the body healthy? \nWhen pastors and ministry leaders refer to this passage\, often they are trying to help you understand the church needs you and how and where you fit. They want you to feel connected to everyone. Think about all the churches you have attended. Whether you were saved at the time of your visit or not\, did you feel the unity? There is a sense of agreement that should be evident in every church\, ministry\, bible study\, etc. The unity should flow from heart to heart. Why? Because the body of Christ is every believer. The sad thing is Sunday morning can be the most dis-unified day for the believer. Not only do different denominations separate\, churches within the same denomination can present a separate focus. That is why you have to be a carrier of the love of God\, no matter where you go. You have your place in the body locally and also universally. You celebrate the work of Christ with all men and women who love God\, even if you do not do it the same way. Paul stated in: \n1 Corinthians 2:2 “For I determined not to know anything among you\, save Jesus Christ\, and him crucified”. (KJV)  \nJesus Christ is the common ground all believers stand on. Your local church may be a finger on the hand of the body of Christ. We should not make statements speaking against the ear that may be in another community\, city\, county\, state\, or country. So often we attempt to show the members of the local body joined\, worshipping in unity. However\, we do not make the same effort to walk in agreement with the church universal. Often\, we do not try to understand and love the entire body of Christ. \nMark 9:38-41 John said to Him\, Teacher\, we saw a man who does not follow along with us driving out demons in Your name\, and we forbade him to do it\, because he is not one of our band [of Your disciples]. 39 But Jesus said\, Do not restrain or hinder or forbid him; for no one who does a mighty work in My name will soon afterward be able to speak evil of Me. 40 For he who is not against us is for us. 41 For I tell you truly\, whoever gives you a cup of water to drink because you belong to and bear the name of Christ will by no means fail to get his reward. (AMPC) \nWe all are to be known by our love one for another\, help each other grow and be strong\, and recognize we all represent God on the earth. \nPlease agree with me as I pray. Then ask the Lord what your prayer should be and wait for His response: \nFather\, in the name of Jesus\, I thank You because I am a member of the unified body of Christ. I thank You for the opportunity to show Your love and receive Your love. I thank You for giving each of us a part to play. Thank You for the gifts You have given me and the gifts You have placed in the body. I repent for the times when I was not working to keep the body healthy. We all can use Your gifts individually as well as collectively\, and the world will see You and accept The Father’s invitation to salvation. Help me show Your love\, no matter where I go. Help me not to be bound by denominationalism\, and I will not disregard someone who does not attend the same church I do or worship the same way I do. Please help me be a vessel and a carrier of Your love…\n \nAsk the lord what he wants to say to you about today’s devotional and journal it here:
URL:https://yourvisionwriters.com/devotional/ephesians-416/
CATEGORIES:March
END:VEVENT
BEGIN:VEVENT
DTSTART;VALUE=DATE:20260306
DTEND;VALUE=DATE:20260307
DTSTAMP:20260423T090554
CREATED:20251224T073137Z
LAST-MODIFIED:20260113T115736Z
UID:10000064-1772755200-1772841599@yourvisionwriters.com
SUMMARY:Colossians 2:7
DESCRIPTION:Colossians 2:7 Just like the roots of the tree\, draw your sustenance and strength from him. Like a building rising up out of its foundation\, your life makes the full statue of Christ visible; standing tall in his shoes\, firm in your faith posture. The language of gratitude that overflows from your lips reflect the exact impression of what you were taught. (TMB) \nAre you the Lord’s planting or your own?  \nWhen you look at a building\, do you stop and think about the type of foundation that was needed in order for it to be as tall as it is? Or when you see an oak tree\, do you think about how far down and how widespread the roots are? You are the planting of the Lord. In order for you to stand tall and reflect the image of the Father\, you must have a foundation in Him that is deep and wide. Just like a plant needs water to survive and flourish\, if you want to survive and flourish and have His image seen when the world sees you\, your heavenly Father must nourish and strengthen you. \nJeremiah 17:8 You want to be like a tree planted by the water that sends out its roots by the stream. You will not fear when heat comes; your leaves will always be green. You will have no worries in a year of drought and you will never fail to bear fruit. (KJV) \nAs you take shape and develop into all God has purposed and planned for you\, God transforms you into His image. As you look at what God has done\, you can only stop and give Him all the glory and praise. You can say\, “This is the Lord’s doing\, and it is marvelous in His eyes!” Salvation created the foundations and your time in prayer\, fasting\, study and worship fortified and cultivated the soil that allows you to stand tall and show God as the Lord of your life. You are the planting of the Lord! You will bear fruit that remains because God dictates your life and all you desire. \nPlease agree with me as I pray. Then ask the Lord what your prayer should be and wait for His response: \nFather\, I thank You for saving me and planting me. Before the foundation of the world\, You created me; You gave me gifts; You gave me talents; most of all\, You gave me purpose. I repent for taking Your plant and trying to make it mine. Help me\, Father\, to continue to submit myself to You. Please call me\, even more\, to the place where You will water me with Your word and by Your Spirit. Engulf me in Your presence as I spend time in worship and in prayer. I want to allow You to nurture me\, Your plant\, and I will be rooted and grounded in You. I want to grow into full maturity; then You can use me to provide nourishment to those in need…\n \nAsk the lord what he wants to say to you about today’s devotional and journal it here:
URL:https://yourvisionwriters.com/devotional/colossians-27/
CATEGORIES:March
END:VEVENT
BEGIN:VEVENT
DTSTART;VALUE=DATE:20260307
DTEND;VALUE=DATE:20260308
DTSTAMP:20260423T090554
CREATED:20251224T073514Z
LAST-MODIFIED:20260113T115736Z
UID:10000067-1772841600-1772927999@yourvisionwriters.com
SUMMARY:1 Corinthians 10:23
DESCRIPTION:1 Corinthians 10:23 All things are lawful for me\, but all things are not expedient: all things are lawful for me\, but all things edify not. (KJV) \nAre you letting your freedom create a snare? \nIt is a wonderful thing to experience the freedom God has given you\, isn’t it? You can choose to love Him\, choose to serve Him\, chose to allow Him to lead you in the decisions you make\, choose to honor Him with your life\, etc. You can also choose not to. Yet\, regardless of the choices you make\, you continue to breathe every day\, because He allows it. Now\, here is the test. If you have been a part of the Kingdom of believers for a while\, you probably have had many opportunities to decide whether you were going to do what you wanted to do or what you knew God desired and required you to do. What have you chosen in the past? What do you continue to choose? When you read the Bible\, it reminds you; you have free will. It also gives you the heart and desires of the Father. However\, you decide what you will or will not do\, where you will or will not go\, what you will or will not say\, etc. Every time you chose God\, you give Him your gift of submission to the authority of the word. You say to Him\, Your will be done\, not mine. \nBecause we have free will\, we mistakenly think that we can do what we want. Because we accepted salvation\, we can take advantage of the fact that we are no longer under the condemnation of the law. If we are not careful\, our freedom can cause a snare. As you look at this table\, you will gain clarity. \n\n\n\nFreedom allows us to:\nIf we don’t submit this liberty\, it can lead to:\n\n\nRest from Physical Activities\nLaziness\n\n\nExercise Our Ability to Profit\nAvarice and Greed\n\n\nEnjoy Our Lives\nIntemperance\n\n\nHave Physical Pleasure\nSensuality Without Boundary\n\n\nCelebrate the Possessions of Others\nCovetousness\n\n\nEnjoy of Food\nGluttony\n\n\nCare for Ourselves\nSelfishness\n\n\nHave Respect for Our Accomplishments\nConceit\n\n\nCommunicate Freely\nGossip\n\n\nQuestion What We Don’t Understand\nUnbelief\n\n\nBe Angry\nSin\, Rage and Bad Temperament\n\n\nShow Lovingkindness\nOverprotection\n\n\nDiscern What We See\nCriticism\n\n\nHave Same-Sex Friendships\nHomosexuality\n\n\nExperience Sexual Freedom\nImmorality\n\n\nBe Conscientious\nPerfectionism\n\n\nLive Generously\nWastefulness\n\n\nProtect Ourselves\nDishonesty\n\n\nBe Prudent\nFearfulness\n\n\n\n  \n2 Corinthians 9:7-10 Giving grows out of the heart—otherwise\, you’ve reluctantly grumbled “yes” because you felt you had to or because you couldn’t say “no\,” but this isn’t the way God wants it. For we know that “God loves a cheerful giver.” 8 God is ready to overwhelm you with more blessings than you could ever imagine so that you’ll always be taken care of in every way and you’ll have more than enough to share. 9 Remember what is written about the One who trusts in the Lord: He scattered abroad; He gave freely to the poor; His righteousness endures throughout the ages. 10 The same One who has put seed into the hands of the sower and brought bread to fill our stomachs will provide and multiply the resources you invest and produce an abundant harvest from your righteous actions. (TVT) \nKnow this. Whenever you submit to God\, whether it is your time\, your talent\, your money\, your treasures\, your choices\, etc.\, do it cheerfully. Live a free life in the liberty Jesus died for. Whom the Lord has made free is free indeed. However\, don’t allow your freedom to take you places that do not represent God’s best or cause you to hinder someone else’s growth. With freedom comes responsibility. If you know your conduct is not pleasing to God\, stop doing it (and the Holy Spirit will let you know.) If you know your actions will cause a brother or sister to stumble\, refrain from them. You change your behavior\, not because God forbids you\, you have free will. You change because you want to walk in the knowledge of the Lord. It’s the only way one who loves God should walk\, love\, and live! \nPlease agree with me as I pray. Then ask the Lord what your prayer should be and wait for His response: \nFather\, I thank You for my freedom. I repent for those times I allowed my freedom to create a snare for me and also for others. I thank You for allowing me to choose to serve You with a cheerful heart. I don’t feel like there are things I cannot do or places I cannot go. I choose not to do what grieves You. Because Your Spirit lives in me\, I choose not to take You any place You would not be at peace. I will allow Your Spirit to govern me. I thank You for keeping me. I will not use my freedom as an excuse or permission to sin. Thank You Father God\, for touching my heart\, and making me even more concerned about my brothers and sisters. I will not knowingly cause anyone to stumble. I thank You for continuing to grow me up. I especially thank You for showing me that being a cheerful giver is not just about money. I love what You’re doing in my life. I thank You for Your concern for my life. I thank You\, Father God\, for the longsuffering You show me when I slip or when I selfishly make the wrong choice. You don’t forsake me; You are yet right there. Thank You for giving me an opportunity to get it right every day. My desire is for my life to bless You…\n \nAsk the lord what he wants to say to you about today’s devotional and journal it here:
URL:https://yourvisionwriters.com/devotional/1-corinthians-1023/
CATEGORIES:March
END:VEVENT
BEGIN:VEVENT
DTSTART;VALUE=DATE:20260308
DTEND;VALUE=DATE:20260309
DTSTAMP:20260423T090554
CREATED:20251224T073818Z
LAST-MODIFIED:20260113T115736Z
UID:10000070-1772928000-1773014399@yourvisionwriters.com
SUMMARY:1 Corinthians 14:4
DESCRIPTION:1 Corinthians 14:4 He that speaketh in an unknown tongue edifieth himself; but he that prophesieth edifieth the church. (KJV) \nIs your desire to edify the body? \nHere is a great truth for you: speaking in tongues doesn’t make you more spiritual! There are those who would try to make you feel less than effective or less powerful if you don’t speak in tongues. As if that is the only evidence of being filled with the Spirit. \n1 Corinthians 14:18-19 I give thanks to God that I speak in tongues more than all of you\, 19 but in the church setting I would rather speak five words that can be understood than ten thousand exotic words in a tongue. That way I could have a role in teaching others. (TPT) \nThere are too many who speak in tongues just to “appear” spiritual. When you are in corporate worship\, you want everyone to be blessed. If there is an interpretation with tongues\, then the tongues become prophesy. A word of prophecy will edify everyone\, even if the speaker was addressing a particular person. \n1 Corinthians 14:26-28 Beloved friends\, what does all this imply? When you conduct your meetings\, you should always let everything be done to build up the church family. Whether you share a song of praise\, a teaching\, a divine revelation\, or a tongue and interpretation\, let each one contribute what strengthens others. 27 If someone speaks in a tongue\, it should be two or three\, one after another\, with someone interpreting. 28 If there’s no one with the interpretation\, then he should remain silent in the meeting\, content to speak to himself and to God. (TPT) \nIn your personal time of prayer\, praying in tongues can release your burden; give you a sense of being closer to the Lord; give you the words to say when you want to pour your heart out to the Lord and stop your brain from trying to fix your problem. \nThere are also times when a person is praying corporately\, and the fervency and passion of the prayer gives liberty to the Holy Spirit. We understand the Holy Spirit makes intercession for us with groans that are not expressed in intelligible words (Romans 8:26). It is my belief\, when that happens\, what the person says after “speaking in tongues” is an interpretation of what the Holy Spirit prayed. However\, this is something that you need to ask the Lord for yourself. \nIt may seem mystical\, it does not have to be. You can pray\, study the Bible\, and read articles\, then pray again. It is your responsibility to know what the Bible says. You can begin your reading in Acts 2:4-6\, 1 Corinthians 13:1 and also the entire chapter of 1 Corinthians 14. While you are reading and studying\, you should also be praying. Ask the Father to give you revelation\, clarity\, and understanding. \nJames 1:5 If any of you lacks wisdom [to guide him through a decision or circumstance]\, he is to ask of [our benevolent] God\, who gives to everyone generously and without rebuke or blame\, and it will be given to him. (AMP) \nYour heavenly Father desires to reveal all things to you. When you have prayed\, studied the Bible\, and read articles\, you will have the clarity to abide by what the Bible says. The Holy Spirit will help you adjust your thinking and your behavior as you line up with what God requires. \nPlease agree with me as I pray. Then ask the Lord what your prayer should be and wait for His response: \nHeavenly Father\, today’s lessons reminded me of the scripture where Paul thanked You because he spoke with tongues more than all the Corinthians. He thought the more important thing was for him to speak five words with his understanding\, that by his voice he might teach others. I repent for desiring my edification without thinking about Your body. Father\, help me walk in the place Paul walked and Jesus walked. Help me be the person who is more concerned about edifying\, building up and blessing the entire body than proving to someone I speak in tongues or that I am spiritual. I don’t want to be the person who appears to be divinely elevated\, when I am only blessing myself. I want You to use me to bless others. I thank You for revelation\, and I also thank You for giving me understanding. There were many times when I was in charge and I didn’t understand what was going on. Everyone was speaking in tongues and I thought there was something wrong with me. Now I have Your word. It lets me know the proper way because You are a God of order. It also gives place for Your sovereignty in all things while still holding to Your order. I bless You today…\n \nAsk the lord what he wants to say to you about today’s devotional and journal it here:
URL:https://yourvisionwriters.com/devotional/1-corinthians-144/
CATEGORIES:March
END:VEVENT
END:VCALENDAR