BEGIN:VCALENDAR
VERSION:2.0
PRODID:-//At God&#039;s Door Ministries - ECPv6.15.13//NONSGML v1.0//EN
CALSCALE:GREGORIAN
METHOD:PUBLISH
X-ORIGINAL-URL:https://yourvisionwriters.com
X-WR-CALDESC:Events for At God&#039;s Door Ministries
REFRESH-INTERVAL;VALUE=DURATION:PT1H
X-Robots-Tag:noindex
X-PUBLISHED-TTL:PT1H
BEGIN:VTIMEZONE
TZID:America/Chicago
BEGIN:DAYLIGHT
TZOFFSETFROM:-0600
TZOFFSETTO:-0500
TZNAME:CDT
DTSTART:20250309T080000
END:DAYLIGHT
BEGIN:STANDARD
TZOFFSETFROM:-0500
TZOFFSETTO:-0600
TZNAME:CST
DTSTART:20251102T070000
END:STANDARD
BEGIN:DAYLIGHT
TZOFFSETFROM:-0600
TZOFFSETTO:-0500
TZNAME:CDT
DTSTART:20260308T080000
END:DAYLIGHT
BEGIN:STANDARD
TZOFFSETFROM:-0500
TZOFFSETTO:-0600
TZNAME:CST
DTSTART:20261101T070000
END:STANDARD
BEGIN:DAYLIGHT
TZOFFSETFROM:-0600
TZOFFSETTO:-0500
TZNAME:CDT
DTSTART:20270314T080000
END:DAYLIGHT
BEGIN:STANDARD
TZOFFSETFROM:-0500
TZOFFSETTO:-0600
TZNAME:CST
DTSTART:20271107T070000
END:STANDARD
END:VTIMEZONE
BEGIN:VEVENT
DTSTART;VALUE=DATE:20260309
DTEND;VALUE=DATE:20260310
DTSTAMP:20260423T085953
CREATED:20251224T074037Z
LAST-MODIFIED:20260113T115737Z
UID:10000072-1773014400-1773100799@yourvisionwriters.com
SUMMARY:1 Corinthians 14:26
DESCRIPTION:1 Corinthians 14:26 I would encourage you to conduct your meetings in such a way that everyone is mutually edified. Each one in turn may contribute in music\, in a teaching; another may bring a tongue with a revelation and interpretation. (TMB) \nAre you allowing your gift to make room for you? \nHave you ever been to a service of any type and there was a such a powerful move of God? Where He manifested His presence to such a degree that you felt empowered? When did the feeling start? Let me try to paint the picture for you. \nImagine sitting in a service and the anointing of God was thick to the degree you felt you could touch it. Then someone stood up and gave a word from the Lord. Then someone else did. Next\, you could see to the left someone is giving a word to a particular person\, not the entire congregation. At the same time\, there is someone in the right corner speaking in tongues and laying on hands. In the middle\, there is someone else who is praying and prophesying. Someone else is singing\, possibly where you can understand what they are saying. They might even be singing in tongues. \nNow you ask yourself\, “What about me? How do I participate? Shouldn’t I take part in what is going on? Should I pray\, prophesy\, or lay hands too? What do I do?” \nNow the picture I painted may be exaggerated\, that was necessary for the point. Spirit filled services have emotional excitement attached to them. If you are not prayerful\, you get caught up in the emotion and several people who are in attendance\, including you\, might just miss God. There are a couple of truths you want to add to your arsenal\, as you battle in this war: \n\nIf you have been faithfully allowing God to use you as a gift\, it will not go unnoticed.\n\nProverbs 18:16 A man’s gift maketh room for him\, and bringeth him before great men. (KJV) \n\nIf you have to wonder whether you should “do” something\, ask God.\n\nPsalm 75:6–7 This I know: the favor that brings promotion and power doesn’t come from anywhere on earth\, for no one exalts a person but God\, the true judge of all. He alone determines where favor rests. He anoints one for greatness and brings another down to his knees. (TPT) \n\nYou should always be more concerned about lifting Jesus and not using your gifts.\n\n1 Corinthians 14:12 Even so ye\, forasmuch as ye are zealous of spiritual gifts\, seek that ye may excel to the edifying of the church. (KJV) \nPaul admonishes us to serve an orderly God in an orderly manner. The Lord reserves the anointing He placed on your life for His use. He knows the time\, the day and the service. It may not be in the service that day. Rely on the unction of the Holy Spirit to let you know what action\, if any\, you need to take. Also\, if you think things have gotten out of hand\, do nothing. Maybe you are just not in the flow because your mind and heart are somewhere else. Rely on the Holy Spirit to handle it. He knows what is happening and is well able to make corrections if needed.  \nPlease agree with me as I pray. Then ask the Lord what your prayer should be and wait for His response: \nFather\, I thank You for guiding me to be a part of services where there I can experience Your power as You flow through the many gifts in the body. There are those who preach and teach; those who can exhort in song; those who can bring a word of knowledge or a word of wisdom; those who speak in tongues with interpretation\, and it becomes prophecy; and those who prophesy. Father God\, I thank You for every gift. Most of all\, I thank You\, Father\, for the order preserved during those times when all the gifts are present and active. Thank You for the guidance and the revelation that the activity was not a competition nor was it chaotic. I repent for those times when I did not allow Your gift in me to make room for me\, and I felt the need to take part and be out of order. I glorify You for the gifts You have blessed me to have and the anointing that is on my life. Thank You for allowing me to come together\, with fellow believers\, to love You and worship You. Continue to remind me it is my job to make every effort to keep the unity of the Spirit through the bond of peace\, and I will send up praises that are sweet smelling to Your nostrils…\n \nAsk the lord what he wants to say to you about today’s devotional and journal it here:
URL:https://yourvisionwriters.com/devotional/1-corinthians-1426/
CATEGORIES:March
END:VEVENT
BEGIN:VEVENT
DTSTART;VALUE=DATE:20260310
DTEND;VALUE=DATE:20260311
DTSTAMP:20260423T085953
CREATED:20251224T074323Z
LAST-MODIFIED:20260113T115737Z
UID:10000074-1773100800-1773187199@yourvisionwriters.com
SUMMARY:Galatians 5:16
DESCRIPTION:Galatians 5:16 This I say then\, Walk in the Spirit\, and ye shall not fulfil the lust of the flesh. (KJV) \nAre you defending your right to be wrong? \nBecause you love the Lord\, you want to be obedient to His commands and you want to allow the Spirit to control your daily life. Unfortunately\, it does not always happen. What is your response? Paul gives clarity for this dilemma in Romans 7 and 8. \nRomans 7:15\, 24 I’m a mystery to myself\, for I want to do what is right\, but end up doing what my moral instincts condemn. 24 What an agonizing situation I am in! So who has the power to rescue this miserable man from the unwelcome intruder of sin and death? (TPT) \nLike Paul\, there are probably times when you feel like giving up. The devil is always there to point out when you have made a mistake. Celebrate the Lord\, this is not the end. Paul gives hope. \nRomans 7:25  I give all my thanks to God\, for his mighty power has finally provided a way out through our Lord Jesus\, the Anointed One! So if left to myself\, the flesh is aligned with the law of sin\, but now my renewed mind is fixed on and submitted to God’s righteous principles. (TPT) \nWhen left to yourself\, you give excuses for your behavior. Allow the Holy Spirit to renew your mind. Repent and The Father will cleanse you from all unrighteousness (1 John 1:9). Every time you give an excuse for your sins\, you set the stage to repeat that same sin over and over. No matter how many times you need to repent\, keep doing it until God delivers you. The devil will criticize you and try to condemn you. Paul has a posture for you to take. \nRomans 8:1-2  So now the case is closed. There remains no accusing voice of condemnation against those who are joined in life-union with Jesus\, the Anointed One. For the “law” of the Spirit of life flowing through the anointing of Jesus has liberated us from the “law” of sin and death. (TPT) \nYou are in the same battle as Paul and every other Christian. The same hope is available as well. Like Paul\, you can give God glory for the victory. Don’t give in to the tendency to justify wrong actions and behavior because of past experiences and the fact that you are only human. It does not matter what the devil whispers about you in your ear. Stop looking at yourself in the natural and look through the eyes of the Holy Spirit. All you need to do is submit totally to the Lord. You have already won! Just claim it. If you keep explaining\, giving excuses\, and telling your side of the story\, you won’t claim your victory; and you will never be free. \nPlease agree with me as I pray. Then ask the Lord what your prayer should be and wait for His response: \nFather\, in the name of Jesus\, Thank You for bringing me to the place where I understand I must be totally submitted to You. You can have free reign because I am delivered through Jesus Christ! I will no longer give excuses for my behavior. If I truly allow You to be Lord over my life\, I will not do things I don’t want to do because I know You will not be pleased. I will continue to repent when I stumble\, as I am pursuing and running hard after You. I want to do those things that bring You glory. You have separated me from this body of sin and death. My job is to live like it. I thank You for Your presence\, Your spirit\, and Your anointing on my life. As I continue to seek Your face and as I continue to spend time in Your presence; You bring my flesh under submission and I thank You. I walk in victory because the enemy is not free to influence my actions. As I stay close to You\, I walk in a place where I am not moved by my feelings and fleshly responses; I am governed by You. I thank You and give You praise…\n \nAsk the lord what he wants to say to you about today’s devotional and journal it here:
URL:https://yourvisionwriters.com/devotional/galatians-516/
CATEGORIES:March
END:VEVENT
BEGIN:VEVENT
DTSTART;VALUE=DATE:20260311
DTEND;VALUE=DATE:20260312
DTSTAMP:20260423T085953
CREATED:20251224T074634Z
LAST-MODIFIED:20260113T115737Z
UID:10000077-1773187200-1773273599@yourvisionwriters.com
SUMMARY:Romans 15:2
DESCRIPTION:Romans 15:2  Each of us must strive to please our neighbors\, pursuing their welfare so they will become strong. (TVT) \nAre you living a life that is a blessing to your neighbor? \nLuke 10:25-37 Then Jesus answered and said: “A certain man went down from Jerusalem to Jericho\, and fell among thieves\, who stripped him of his clothing\, wounded him\, and departed\, leaving him half dead. 31 Now by chance a certain priest came down that road. And when he saw him\, he passed by on the other side. 32 Likewise a Levite\, when he arrived at the place\, came and looked\, and passed by on the other side. 33 But a certain Samaritan\, as he journeyed\, came where he was. And when he saw him\, he had compassion. 34 So he went to him and bandaged his wounds\, pouring on oil and wine; and he set him on his own animal\, brought him to an inn\, and took care of him. 35 On the next day\, when he departed\, he took out two denarii\, gave them to the innkeeper\, and said to him\, ‘Take care of him; and whatever more you spend\, when I come again\, I will repay you.’ 36 So which of these three do you think was neighbor to him who fell among the thieves?” 37 And he said\, “He who showed mercy on him.” Then Jesus said to him\, “Go and do likewise.” (NKJV) \nThe parable of the “Good Samaritan” identifies your neighbor. It is important to realize your address does not determine “your neighbor.” God points out your neighbor when He shows you one who is in need. You live in a world that encourages you to promote yourself\, gratify your wants\, and look out for number one. This same world calls you foolish and soft when you show concern for and put someone else’s needs above your own. \nHowever\, in this same world\, Maslow\, the human behaviorist\, deals with a principle called transcendence. He believed when you transcend; you come to realize that it is not enough to maximize your own potential. You discover real fulfillment comes when you understand the integral part you play in someone else maximizing theirs. \n“Transcendence refers to the very highest and most inclusive or holistic levels of human consciousness\, behaving and relating\, as ends rather than means\, to oneself\, to significant others\, to human beings in general\, to other species\, to nature\, and to the cosmos.” \nDon’t know if Maslow accepted Christ as his savior\, however I believe he got his concept from the Lord. When you allow God to direct all of your desires\, you go beyond your ordinary human level of consciousness. You can experience “a oneness” with the Lord almighty and gain deeper understanding and higher truths. Spiritual transcendence is the God given and inspired desire\, passion and commission to help others find the answer to their emptiness\, who is Jesus Christ. It is a desire to model\, teach and train\, not dictate\, drill and demand. \nActs 17: 28a\, For in Him we live\, and move\, and have our being (KJV)  \n“God being in control of your life” is the reality God wants you to get to. You are not your own. You are in the world for God to use you to make it better. \nPlease agree with me as I pray. Then ask the Lord what your prayer should be and wait for His response: \nI thank You\, Father God\, for requiring me to live my life with concern and care for others. Thank You for helping me to be salt and light as I live on this earth. My prayer is that someone sees You in me and gives You glory. I repent for thinking my life was only about me and what I want and need from You. You have helped me see not only is my life not about me\, now; it was never about me and will never be about me. You created me for You and for Your pleasure. Your pleasure is for none to perish. You want all to come into the knowledge of the truth. I am at Your service\, Father. Thank You for picking me. Thank You for allowing me the opportunity\, every day\, to show someone the love of Christ; to be there when they need physical help; to encourage someone; to help someone see they do not lose all because You are ever present\, and You have promised to never leave nor forsake. Father\, I thank You…\n \nAsk the lord what he wants to say to you about today’s devotional and journal it here:
URL:https://yourvisionwriters.com/devotional/romans-152/
CATEGORIES:March
END:VEVENT
BEGIN:VEVENT
DTSTART;VALUE=DATE:20260312
DTEND;VALUE=DATE:20260313
DTSTAMP:20260423T085953
CREATED:20251224T074913Z
LAST-MODIFIED:20260113T115737Z
UID:10000080-1773273600-1773359999@yourvisionwriters.com
SUMMARY:1 Timothy 4:2
DESCRIPTION:1 Timothy 4:2 Speaking lies in hypocrisy; having their conscience seared with a hot iron; (KJV) \nAre you able to distinguish the truth from a lie? \nHow long does someone have to tell a lie before it is no longer a lie for them\, it is the truth? The answer may vary depending on the person. However long it takes\, the time will come\, and not only are they lying to others\, they are lying to themselves as well. \n“Above all\, don’t lie to yourself. The man who lies to himself and listens to his own lie comes to a point that he cannot distinguish the truth within him\, or around him\, and so loses all respect for himself and for others. And having no respect he ceases to love.”  – Fyodor Dostoyevsky \nThe Holy Spirit is your conscious if you allow Him to be. He will prick you when you are no longer speaking the truth. If you make a habit of ignoring the Holy Spirit\, wrong will no longer be wrong. Then everything you say will be OK. You will ask these questions\, and others like them\, with regularity: \n\nDid God really mean I shouldn’t do ….?\nDoes saying … fall into the displeasing category?\nDoes it matter if I was trying to spare …’s feelings?\nDid I lie if I knew … would believe something that was not true?\nWouldn’t it be better for me if I lied just this one time? ”\n\nJohn 8:32 And ye shall know the truth\, and the truth shall make you free. (KJV) \nSpend time in the presence of the Lord. If you do\, the words you speak won’t justify any and everything you do. God gave you a clean heart upon salvation. Lies make it dirty. Don’t spend your days trying to remember what you said and who you said it to. Be watchful and exercise self-control. \nMatthew 15:18 But those things which proceed out of the mouth come forth from the heart; and they defile the man. (KJV) \nContinually repent\, remain in prayer and seek the Lord because you cannot justify being self-indulgent\, manipulative\, and deceitful. Your words may ease your conscious. However\, when your heart is defiled\, you cease to love. The lies tie you and trip you up and you cannot tell the difference. Then you can be of no use in the kingdom. There are no white lies and black lies\, or any other color; they are all just lies. Ask the Father to show if you have lost the ability to distinguish the truth from a lie. \nPlease agree with me as I pray. Then ask the Lord what your prayer should be and wait for His response: \nFather\, in the name of Jesus\, I thank You for reminding me there is never a good reason to tell a lie. I repent for any time I thought so. You give me the opportunity to speak life and hope with the truth of Your word. I know I live in a world and in a nation where it appears the enemy has the victory through deception. We claim to be one nation under God. Yet\, Your value system is being misrepresented. Now it looks like the evildoers are prospering. The bigger and the better the lie anyone can tell\, the more popular and prominent they can become. Father\, I want the truth\, the whole truth\, and only the truth. Let the chips fall where they may. Whatever the outcome\, I take joy in the fact that the victory has already been won. I live with faith. I thank You because I am not governed by what I see. I am governed by what I know to be true. Continue to draw me closer to You. I want to be useful in Your hands. I want my words to create deliverance and not put people in bondage because I name Your name…\n \nAsk the lord what he wants to say to you about today’s devotional and journal it here:
URL:https://yourvisionwriters.com/devotional/1-timothy-42/
CATEGORIES:March
END:VEVENT
BEGIN:VEVENT
DTSTART;VALUE=DATE:20260313
DTEND;VALUE=DATE:20260314
DTSTAMP:20260423T085953
CREATED:20251224T075108Z
LAST-MODIFIED:20260113T115737Z
UID:10000084-1773360000-1773446399@yourvisionwriters.com
SUMMARY:1 Thessalonians 5:11
DESCRIPTION:1 Thessalonians 5:11 Wherefore comfort yourselves together\, and edify one another\, even as also ye do. (KJV) \nAre you available for someone to read you? \nWhen you go through emotional situations\, do you sometimes feel it is better to be alone? What you may not realize is\, there is someone watching your life. Whoever they are and whether or not they will admit it to you; they need you to continue to be available to watch. You are the only Bible some will ever read. You may think\, not me. You would be wrong. Because you are a believer\, someone is watching and therefore reading you. It does not matter if you want someone to watch you or not. It may feel weighty. That is the life of a Christian. \nMatthew 5:14-15 You are the light of the world. A city that is set on a hill cannot be hidden. 15 Nor do they \nlight a lamp and put it under a basket\, but on a lampstand\, and it gives light to all who are in the house. (NKJV) \nYour life is not your own. Knowing and accepting God’s ownership of your life should cause you to live a life that encourages someone. This does not mean you have to walk around with a painted-on smile. This does not mean you have to be a doormat in order to “appear” humble. This does not mean you have to pretend as if nothing bothers you. Allow the way you deal with your sadness to be a steppingstone to build someone else’s hope. \nMatthew 5:16 Let your light so shine before men\, that they may see your good works and glorify your Father in heaven. (NKJV) \nGo to God in prayer and ask Him for the strength you need to climb your mountains\, deal with your hardships\, and own your mistakes. When you shut yourself off from everyone\, you are prey for the enemy. If you are willing to stay visible\, you will enrich\, inspire\, and encourage someone. Here is an added bonus: you will enrich\, inspire\, and encourage yourself as well! \nPlease agree with me as I pray. Then ask the Lord what your prayer should be and wait for His response: \nI thank You\, Father\, for the opportunity to comfort my brothers and sisters\, and I thank You because they also comfort me. I thank You for reminding me I am being watched by other believers\, by those who are young in this walk\, by those who don’t know You at all\, and even by those who have been on this journey for a while. People decide\, for any number of reasons\, they can’t or don’t trust You. Since I say I trust You; they are watching me. I repent for any wrong information they may have gotten about You by watching me. Help me keep in the forefront of my mind\, I am the only Bible some will ever read. Father\, bless them extra for choosing me to watch. Thank You for the opportunity to grow. When I am read\, I bless the reader. Father\, I ask You\, despite my reactions\, to continue to draw me close to You. Continue to prick me when I am walking\, talking\, and/or responding in a way contrary to the knowledge of You. I love You\, Father. I want the people who know me and watch me\, to love You as well…\n \nAsk the lord what he wants to say to you about today’s devotional and journal it here:
URL:https://yourvisionwriters.com/devotional/1-thessalonians-511/
CATEGORIES:March
END:VEVENT
BEGIN:VEVENT
DTSTART;VALUE=DATE:20260314
DTEND;VALUE=DATE:20260315
DTSTAMP:20260423T085953
CREATED:20251224T075236Z
LAST-MODIFIED:20260113T115737Z
UID:10000086-1773446400-1773532799@yourvisionwriters.com
SUMMARY:1 Timothy 1:4
DESCRIPTION:1 Timothy 1:4 Apparently some people have been introducing fantasy stories and fanciful family trees that digress into silliness instead of pulling the people back into the center\, deepening faith and obedience. (TMB) \nAre you star struck? \nDo you adhere to confusing information as truth because the Christian community respects the person presenting it? Maybe the presenter is not the validated one\, it’s his or her father\, mother\, uncle\, etc. The key word here is “confusing”. If you spend a considerable amount of time trying to make sense of the information\, they give you; you can go to God and check yourself and the presenter. Don’t fall into the trap of accepting all you hear simply because of the speaker. \nActs 17:11-12  They found that the Jews of Berea were of more noble character and much more open-minded than those of Thessalonica. They were hungry to learn and eagerly received the word. Every day they opened the scrolls of Scripture to search and examine them\, to verify that what Paul taught them was true. 12 A large number of Jews became believers in Jesus\, along with quite a few influential Greek women and men. (TPT) \nThe purpose of instruction is to fill all believers with love\, coming from a pure heart\, a clear conscience\, and genuine faith. God is not the author of confusion. It does not matter if the person is the great\, great\, great\, great\, great\, great\, great\, great\, great grandchild of the Apostle Paul himself. You have the same access to the Father Paul had and any other believer has. The Holy Spirit is your guide and instructor. Ask the Lord in prayer\, and you will receive revelation\, get clarity\, and grow. \nPlease agree with me as I pray. Then ask the Lord what your prayer should be and wait for His response: \nFather\, I thank You for the powerful men and women in the body of Christ. You have shown me who they are and continue to show me. Those men and women have to seek You\, have to listen to You\, and have to submit themselves for You to guide and direct them\, just like I do. Even though I see them as stronger than I am in the faith\, they can have an idea I don’t agree with. I can have an idea they may not agree with. I can also have an idea they may not have had. I repent for being star struck and blindly accepting the word of those who I believe are stronger than me. You have taught me I do not have to turn aside what I believe You have spoken to me; I can stand on it. I can come to You\, and I can hear the Holy Spirit speak to me. I will hear anyone’s concerns and allow You to correct me when I’m wrong. I pray now for the strength I need to stand\, even if I stand by myself\, until we all come into the knowledge of the truth. Father\, my genuine desire is to be a blessing to all people. Not because of me\, I want to be a blessing because of the revelations You give me for such a time as this…\n \nAsk the lord what he wants to say to you about today’s devotional and journal it here:
URL:https://yourvisionwriters.com/devotional/1-timothy-14/
CATEGORIES:March
END:VEVENT
BEGIN:VEVENT
DTSTART;VALUE=DATE:20260315
DTEND;VALUE=DATE:20260316
DTSTAMP:20260423T085953
CREATED:20251224T075440Z
LAST-MODIFIED:20260113T115737Z
UID:10000089-1773532800-1773619199@yourvisionwriters.com
SUMMARY:Acts 15:9
DESCRIPTION:Acts 15:9 He treated the outsiders exactly as he treated us\, beginning at the very center of who they were and working from that center outward\, cleaning up their lives as they trusted and believed him. (TMB) \nAre you making excuses or tapping into “the power”? \nContinue in your training in order to love like God loves. Those who are in and of the world can sometimes be a real challenge. How do you love and care for a person who makes greed\, hurt\, deceitfulness\, and any other self-serving emotion the ruler in their lives? Can you pull from the fountain of love that never runs dry and defy what the world expects? \nJohn 13:34-35 So I give you a new command: Love each other deeply and fully. Remember the ways that I have loved you\, and demonstrate your love for others in those same ways. 35 Everyone will know you as My followers if you demonstrate your love to others. (TVT) \nIf you spend time with the Lord regularly and consistently\, you will find you can live as Jesus lived. Jesus treated the sinner the same as the believer. He loved them\, from the place where they were\, to the place He wanted them to be. You may say\, “well I’m not Jesus” and you would be right. However\, the same Spirit that dwells in Him and raised Him from the dead dwells in you. By the way\, it is the same Spirit that brought you from where you were to where you are now. You can tap into the transforming love of God and do “greater works”. All you have to do is to be willing. \nPlease agree with me as I pray. Then ask the Lord what your prayer should be and wait for His response: \nFather\, I thank You for more and more understanding of redemption. I am in the world to seek those who are lost. I know You have ordained opportunities for me to interact with people who don’t know You. I also know I have missed a lot of them. I repent for not being available. Please continue to do what is necessary in me\, making my countenance open and welcoming. I want everyone who crosses my path\, the unsaved\, the saved\, and anyone who is struggling to feel they can come to me and talk if they want to. I pray they will not feel judged\, and they will not feel condemned. I pray I can show them the path to You in a non-threatening manner. Give me the words to say to lead them to Your place of peace and refuge; different from the path they are currently on. I thank You for the work Jesus did on the cross. Thank You for the provision He made. Because of Him\, everyone’s life can be touched and changed. I know You can use me. You even said in Your word I can do greater works. I will continue to yield myself completely to You\, just as Jesus did. As You transform me from glory to glory\, You can use me more and more. With Your anointing I can live\, show and share a Jesus-life!…\n \nAsk the lord what he wants to say to you about today’s devotional and journal it here:
URL:https://yourvisionwriters.com/devotional/acts-159/
CATEGORIES:March
END:VEVENT
END:VCALENDAR