BEGIN:VCALENDAR
VERSION:2.0
PRODID:-//At God&#039;s Door Ministries - ECPv6.15.13//NONSGML v1.0//EN
CALSCALE:GREGORIAN
METHOD:PUBLISH
X-ORIGINAL-URL:https://yourvisionwriters.com
X-WR-CALDESC:Events for At God&#039;s Door Ministries
REFRESH-INTERVAL;VALUE=DURATION:PT1H
X-Robots-Tag:noindex
X-PUBLISHED-TTL:PT1H
BEGIN:VTIMEZONE
TZID:America/Chicago
BEGIN:DAYLIGHT
TZOFFSETFROM:-0600
TZOFFSETTO:-0500
TZNAME:CDT
DTSTART:20250309T080000
END:DAYLIGHT
BEGIN:STANDARD
TZOFFSETFROM:-0500
TZOFFSETTO:-0600
TZNAME:CST
DTSTART:20251102T070000
END:STANDARD
BEGIN:DAYLIGHT
TZOFFSETFROM:-0600
TZOFFSETTO:-0500
TZNAME:CDT
DTSTART:20260308T080000
END:DAYLIGHT
BEGIN:STANDARD
TZOFFSETFROM:-0500
TZOFFSETTO:-0600
TZNAME:CST
DTSTART:20261101T070000
END:STANDARD
BEGIN:DAYLIGHT
TZOFFSETFROM:-0600
TZOFFSETTO:-0500
TZNAME:CDT
DTSTART:20270314T080000
END:DAYLIGHT
BEGIN:STANDARD
TZOFFSETFROM:-0500
TZOFFSETTO:-0600
TZNAME:CST
DTSTART:20271107T070000
END:STANDARD
END:VTIMEZONE
BEGIN:VEVENT
DTSTART;VALUE=DATE:20260524
DTEND;VALUE=DATE:20260525
DTSTAMP:20260425T122012
CREATED:20251224T093117Z
LAST-MODIFIED:20260113T133758Z
UID:10000157-1779580800-1779667199@yourvisionwriters.com
SUMMARY:Philippians 4:13
DESCRIPTION:Philippians 4:13 I can do all things through Christ which strengtheneth me. (KJV) \nWhat is it you can’t do? \nThere is an ongoing debate whether qualifications are more important than experience. When you are looking at a position description\, what do you think? Ever said “I can’t do that\, or I don’t have that skill”? As you continue building your relationship with the Almighty\, your thinking will change. As you long for His presence\, you study\, worship\, and praise more and more. Then something happens. \nPsalm 18:28-29 God\, all at once you turned on a floodlight for me! You are the revelation-light in my darkness\, and in your brightness I can see the path ahead. 29 With you as my strength I can crush an enemy horde\, advancing through every stronghold that stands in front of me. (TPT) \nPsalm 18:29 For by thee I have run through a troop; and by my God have I leaped over a wall. (KJV) \nYou wake up one day (today could be that day) and say\, “There is nothing I can’t do with Christ working for\, in and through me.” What a great mental state to have\, no matter what the situation\, to know you can do all things. It is not enough to say it\, however. Now you have to walk it out. \nPhilippians 4:6-7 Don’t be pulled in different directions or worried about a thing. Be saturated in prayer throughout each day\, offering your faith-filled requests before God with overflowing gratitude. Tell him every detail of your life\, 7 then God’s wonderful peace that transcends human understanding\, will guard your heart and mind through Jesus Christ. (TPT) \nTake that job\, apply for that promotion or new position. Don’t allow the required qualifications\, on the paper\, to stop you. Allow God\, Who saved you\, to encourage you. By the way\, the same God will give you whatever you need to do the job. \nPlease agree with me as I pray. Then ask the Lord what your prayer should be and wait for His response: \nFather\, because of Who You are in me\, there is nothing I can’t do. The words are easy enough to say. I repent when I live like I can’t do all things with Your strength. Confessing this frailty liberates me and causes me to weep. All means all. What an amazing God You are. There is no obstacle I can’t leap over. I know Romans 8 refers to not being separated from Your love. There are many days when I ask if troubles\, pressures\, and problems stop me from accomplishing what You have ordained for my life? I agree with You and say in a loud voice\, No. You are giving me the confidence to say there is nothing I cannot do. If I really trust You and believe You\, I can manifest Your greatness in all that I do. I want to live my life like I believe. Thank You for showing me the path. Please help me walk on it… \nAsk the lord what he wants to say to you about today’s devotional and journal it here:   
URL:https://yourvisionwriters.com/devotional/philippians-413/
CATEGORIES:May
END:VEVENT
END:VCALENDAR