BEGIN:VCALENDAR
VERSION:2.0
PRODID:-//At God&#039;s Door Ministries - ECPv6.15.13//NONSGML v1.0//EN
CALSCALE:GREGORIAN
METHOD:PUBLISH
X-WR-CALNAME:At God&#039;s Door Ministries
X-ORIGINAL-URL:https://yourvisionwriters.com
X-WR-CALDESC:Events for At God&#039;s Door Ministries
REFRESH-INTERVAL;VALUE=DURATION:PT1H
X-Robots-Tag:noindex
X-PUBLISHED-TTL:PT1H
BEGIN:VTIMEZONE
TZID:America/Chicago
BEGIN:DAYLIGHT
TZOFFSETFROM:-0600
TZOFFSETTO:-0500
TZNAME:CDT
DTSTART:20250309T080000
END:DAYLIGHT
BEGIN:STANDARD
TZOFFSETFROM:-0500
TZOFFSETTO:-0600
TZNAME:CST
DTSTART:20251102T070000
END:STANDARD
BEGIN:DAYLIGHT
TZOFFSETFROM:-0600
TZOFFSETTO:-0500
TZNAME:CDT
DTSTART:20260308T080000
END:DAYLIGHT
BEGIN:STANDARD
TZOFFSETFROM:-0500
TZOFFSETTO:-0600
TZNAME:CST
DTSTART:20261101T070000
END:STANDARD
BEGIN:DAYLIGHT
TZOFFSETFROM:-0600
TZOFFSETTO:-0500
TZNAME:CDT
DTSTART:20270314T080000
END:DAYLIGHT
BEGIN:STANDARD
TZOFFSETFROM:-0500
TZOFFSETTO:-0600
TZNAME:CST
DTSTART:20271107T070000
END:STANDARD
END:VTIMEZONE
BEGIN:VEVENT
DTSTART;VALUE=DATE:20260531
DTEND;VALUE=DATE:20260601
DTSTAMP:20260425T134933
CREATED:20251224T095149Z
LAST-MODIFIED:20260113T133759Z
UID:10000180-1780185600-1780271999@yourvisionwriters.com
SUMMARY:Galatians 6:1
DESCRIPTION:Galatians 6:1 Brethren\, if a man be overtaken in a fault\, ye which are spiritual\, restore such an one in the spirit of meekness; considering thyself\, lest thou also be tempted. (KJV) \nAre you restoring in meekness? \nHave you ever been engaged in activity you knew was not glorifying to God or edifying to the Body of Christ and a brother/sister in the Lord saw you? How did the interaction play out? Do one of these examples describe it? \nOne\, if they were truly spiritual\, they came and talked to you about it\, and you felt the love of God as they spoke. You did not feel judged or dirty. You repented to the Lord\, and He restored you. \nRomans 15:1-2 Now\, those who are mature in their faith can easily be recognized\, for they don’t live to please themselves but have learned to patiently embrace others in their immaturity. 2 Our goal must be to empower others to do what is right and good for them\, and to bring them into spiritual maturity. (TPT) \nTwo\, they were judgmental and critical. You felt even if you stopped immediately and never returned to that behavior; that person and many others would always see you the same way. In essence\, the person made you feel you would never be clean.  \nRomans 7:18-19\, 24 For I know that nothing good lives in me\, that is\, in my flesh [my human nature\, my worldliness—my sinful capacity]. For the willingness [to do good] is present in me\, but the doing of good is not. 19 For the good that I want to do\, I do not do\, but I practice the very evil that I do not want. 24 Wretched and miserable man that I am! Who will [rescue me and] set me free from this body of death [this corrupt\, mortal existence]? (AMP)  \nThree\, they said nothing to you at all. However\, you know they saw you.  \nMatthew 5:23-24 Therefore if you bring your gift to the altar\, and there remember that your brother has something against you\, 24 leave your gift there before the altar\, and go your way. First be reconciled to your brother\, and then come and offer your gift. (NKJV)  \nIt does not matter\, now\, how it played out then. Should you find yourself in any of these three scenarios\, again; follow the scripture. If you find yourself on the other side\, remember how you felt. Every believer has a target on his/her back. Though you may feel you are above temptation\, don’t allow the devil to fool you. Today it is them\, tomorrow it could be you.  \nPlease agree with me as I pray. Then ask the Lord what your prayer should be and wait for His response: \nFather\, I’ve been on both sides of the witness stand. I have been the one who saints and sinners alike have evaluated. They found me wanting and left me feeling as if there was no hope. I’ve also been the one who found someone who had erred. I want to say I always handled it right. I know I cannot. I thank You for giving me the opportunity to show Your love and mercy. I repent for those I left in a worse state. You have changed and continue to change me. Today I speak love and I speak light into the lives of those You allow to cross my path. I am grateful You find me worthy to be Your ambassador. Keep me close to You as I share the good news about You who loves no matter what. I don’t want to leave a person judged and lost because of where they are located. You are God and You can and will bring them to a new place with a new consciousness. A place where there is no condemnation\, only conviction that saves. You did it for me; I pray You can use me as a bridge to do it for others… \nAsk the lord what he wants to say to you about today’s devotional and journal it here:   
URL:https://yourvisionwriters.com/devotional/galatians-61/
CATEGORIES:May
END:VEVENT
END:VCALENDAR