BEGIN:VCALENDAR
VERSION:2.0
PRODID:-//At God&#039;s Door Ministries - ECPv6.15.13//NONSGML v1.0//EN
CALSCALE:GREGORIAN
METHOD:PUBLISH
X-WR-CALNAME:At God&#039;s Door Ministries
X-ORIGINAL-URL:https://yourvisionwriters.com
X-WR-CALDESC:Events for At God&#039;s Door Ministries
REFRESH-INTERVAL;VALUE=DURATION:PT1H
X-Robots-Tag:noindex
X-PUBLISHED-TTL:PT1H
BEGIN:VTIMEZONE
TZID:America/Chicago
BEGIN:DAYLIGHT
TZOFFSETFROM:-0600
TZOFFSETTO:-0500
TZNAME:CDT
DTSTART:20250309T080000
END:DAYLIGHT
BEGIN:STANDARD
TZOFFSETFROM:-0500
TZOFFSETTO:-0600
TZNAME:CST
DTSTART:20251102T070000
END:STANDARD
BEGIN:DAYLIGHT
TZOFFSETFROM:-0600
TZOFFSETTO:-0500
TZNAME:CDT
DTSTART:20260308T080000
END:DAYLIGHT
BEGIN:STANDARD
TZOFFSETFROM:-0500
TZOFFSETTO:-0600
TZNAME:CST
DTSTART:20261101T070000
END:STANDARD
BEGIN:DAYLIGHT
TZOFFSETFROM:-0600
TZOFFSETTO:-0500
TZNAME:CDT
DTSTART:20270314T080000
END:DAYLIGHT
BEGIN:STANDARD
TZOFFSETFROM:-0500
TZOFFSETTO:-0600
TZNAME:CST
DTSTART:20271107T070000
END:STANDARD
END:VTIMEZONE
BEGIN:VEVENT
DTSTART;VALUE=DATE:20261007
DTEND;VALUE=DATE:20261008
DTSTAMP:20260422T201854
CREATED:20251224T114058Z
LAST-MODIFIED:20260113T134731Z
UID:10000277-1791331200-1791417599@yourvisionwriters.com
SUMMARY:2 Timothy 2:3
DESCRIPTION:2 Timothy 2:3 Thou therefore endure hardness\, as a good soldier of Jesus Christ. (KJV) \nAre you a good soldier? \nHere is an excerpt from a great poem\, The Charge of the Light Brigade by Alfred Lord Tennyson. \n“Forward\, the Light Brigade!” \nWas there a man dismay’d? \nNot tho’ the soldier knew \nSomeone had blunder’d: \nTheirs not to make reply\, \nTheirs not to reason why\, \nTheirs but to do and die: \nInto the valley of Death \nRode the six hundred. \nSounds like the army Gideon gathered (Judges 7). There is an attitude you must have as a soldier in war\, no excuses\, no whining and no complaining. You have to realize you may die on the battlefield\, your leader may make a mistake that wounds you\, there may be nights when you don’t sleep\, you may see friends and love ones wounded or even die. What are attributes of godly soldiers (2 Timothy 2:3-4\, 4:7)? \nThey endure hardship and do not quit. \nThe troubles along the way do not detour them. \nThey understand pain is often part of the Christian experience (John 16:33). \nThey face life with patience (Hebrews 12:1). \nTheir trials and the things they suffer do not move them from their deliberate purpose\, loyalty\, faith\, and reverence. \nGod is not just looking for you to say yes when He calls. He’s looking for you to still say yes when the going gets tough; to still say yes as tears roll down your face; to still say yes\, even if you cannot see all the fruits of your labor. \n2 Timothy 1:12 The confidence of my calling enables me to overcome every difficulty without shame\, for I have an intimate revelation of this God. And my faith in him convinces me that he is more than able to keep all that I’ve placed in his hands safe and secure until the fullness of his appearing. (TPT) \nThis is the attitude of a good soldier of Jesus Christ. \nPlease agree with me as I pray. Then ask the Lord what your prayer should be and wait for His response: \nFather God\, I want to be a good soldier. I don’t want to always question why I have to do what You have called me to do. I repent for all the time I spent worrying\, whining\, murmuring\, and complaining about the difficulties. I will no longer come to You to tell You I feel like I am all by myself; or there is no one who understands me or all of the other things I used to come to You whining and complaining about. I wasn’t the best soldier I could be then. I am getting better every day; on the battlefield and I will fight to the death. When You call me home\, I want You to say\, “Well done!”. Whatever You need to do in me\, expose those frailties\, erase the doubts\, etc. Get rid of anything causing me to hesitate or waiver at Your commands. Make me a good soldier…\n \nAsk the lord what he wants to say to you about today’s devotional and journal it here:
URL:https://yourvisionwriters.com/devotional/2-timothy-23/
CATEGORIES:October
END:VEVENT
END:VCALENDAR