BEGIN:VCALENDAR
VERSION:2.0
PRODID:-//At God&#039;s Door Ministries - ECPv6.15.13//NONSGML v1.0//EN
CALSCALE:GREGORIAN
METHOD:PUBLISH
X-WR-CALNAME:At God&#039;s Door Ministries
X-ORIGINAL-URL:https://yourvisionwriters.com
X-WR-CALDESC:Events for At God&#039;s Door Ministries
REFRESH-INTERVAL;VALUE=DURATION:PT1H
X-Robots-Tag:noindex
X-PUBLISHED-TTL:PT1H
BEGIN:VTIMEZONE
TZID:America/Chicago
BEGIN:DAYLIGHT
TZOFFSETFROM:-0600
TZOFFSETTO:-0500
TZNAME:CDT
DTSTART:20250309T080000
END:DAYLIGHT
BEGIN:STANDARD
TZOFFSETFROM:-0500
TZOFFSETTO:-0600
TZNAME:CST
DTSTART:20251102T070000
END:STANDARD
BEGIN:DAYLIGHT
TZOFFSETFROM:-0600
TZOFFSETTO:-0500
TZNAME:CDT
DTSTART:20260308T080000
END:DAYLIGHT
BEGIN:STANDARD
TZOFFSETFROM:-0500
TZOFFSETTO:-0600
TZNAME:CST
DTSTART:20261101T070000
END:STANDARD
BEGIN:DAYLIGHT
TZOFFSETFROM:-0600
TZOFFSETTO:-0500
TZNAME:CDT
DTSTART:20270314T080000
END:DAYLIGHT
BEGIN:STANDARD
TZOFFSETFROM:-0500
TZOFFSETTO:-0600
TZNAME:CST
DTSTART:20271107T070000
END:STANDARD
END:VTIMEZONE
BEGIN:VEVENT
DTSTART;VALUE=DATE:20261014
DTEND;VALUE=DATE:20261015
DTSTAMP:20260422T202723
CREATED:20251224T120442Z
LAST-MODIFIED:20260113T134732Z
UID:10000298-1791936000-1792022399@yourvisionwriters.com
SUMMARY:Psalms 110:2
DESCRIPTION:Psalms 110:2 The LORD shall send the rod of thy strength out of Zion: rule thou in the midst of thine enemies. (KJV) \nAre you confident God will work it out? \nDo you sometimes sit and think about your life? Assessing what you are doing\, looking at your accomplishments and wondering when all the prophesies spoken over you will come to pass. You don’t cease to be who God created you to be simply because the devil seems to be winning. You continue to believe because God’s word is true. \n1 Thessalonians 2:13 And we also [especially] thank God continually for this\, that when you received the message of God [which you heard] from us\, you welcomed it not as the word of [mere] men\, but as it truly is\, the Word of God\, which is effectually at work in you who believe [exercising its superhuman power in those who adhere to and trust in and rely on it]. (AMPC) \nYou may even go to God with questions about your current situation. To add insult to injury\, it may even “seem” to you those who do not know the Lord at all are having outstanding success. \nPsalm 37:1-3 Don’t follow after the wicked ones or be jealous of their wealth. Don’t think for a moment they’re better off than you. 2 They and their short-lived success will soon shrivel up and quickly fade away\, like grass clippings in the hot sun. 3 Keep trusting in the Lord and do what is right in his eyes. Fix your heart on the promises of God\, and you will dwell in the land\, feasting on his faithfulness. (TPT) \nYou may even have a tinge of jealousy because the babes in Christ are more excited than you are. At this point\, the devil is really having a field day. He is not winning. However\, he has a smoke screen hiding your victory. What is your response? It is time to worship. \nIsaiah 6:2-3 Above Him stood the seraphim; each had six wings: with two [each] covered his [own] face\, and with two [each] covered his feet\, and with two [each] flew. 3 And one cried to another and said\, Holy\, holy\, holy is the Lord of hosts; the whole earth is full of His glory! And one cried to another and said\, Holy\, holy\, holy is the Lord of hosts; the whole earth is full of His glory! 4 And the foundations of the thresholds shook at the voice of him who cried\, and the house was filled with smoke. (AMPC) \n\nWorship clarifies your vision of who God is.\n\nIsaiah 6:1In the year that King Uzziah died\, [in a vision] I saw the Lord sitting upon a throne\, high and lifted up\, and the skirts of His train filled the [most holy part of the] temple. (AMPC) \n\nWorship shows you who you are.\n\nIsaiah 6: 5 Then said I\, Woe is me! For I am undone and ruined\, because I am a man of unclean lips\, and I dwell in the midst of a people of unclean lips; for my eyes have seen the King\, the Lord of hosts! (AMPC) \n\nWorship cleanses you and makes you bold.\n\nIsaiah 6:7-8 And with it he touched my mouth and said\, Behold\, this has touched your lips; your iniquity and guilt are taken away\, and your sin is completely atoned for and forgiven. 8 Also I heard the voice of the Lord\, saying\, Whom shall I send? And who will go for Us? Then said I\, Here am I; send me. (AMPC) \n\nWorship brings you into the presence of God.\n\nPsalm 100:2 Worship Yahweh with gladness. Sing your way into his presence with joy! (TPT) \n\nWorship reminds you of all God has done for you and strengthens you.\n\nPsalm 103:3-5 You kissed my heart with forgiveness\, in spite of all I’ve done. You’ve healed me inside and out from every disease. 4 You’ve rescued me from hell and saved my life. You’ve crowned me with love and mercy. 5 You satisfy my every desire with good things. You’ve supercharged my life so that I soar again like a flying eagle in the sky! (TPT) \n\nWorship reassures you of your place with God.\n\nPsalm 95:6-7a O come\, let us worship and bow down\, Let us kneel before the Lord our Maker [in reverent praise and prayer]. 7 For He is our God And we are the people of His pasture and the sheep of His hand. \n (AMPC) \n\nWorship produces joy.\n\nMalachi 4:2 But for you who worshipfully fear My name [with awe-filled reverence] the sun of righteousness will rise with healing in its wings. And you will go forward and leap [joyfully] like calves [released] from the stall. (AMP\, edited) \nIn the timing of the Lord\, not necessarily when you want to see it happen; God will do what He has promised. There is no door that can be closed when the Lord has opened it. You will experience a “suddenly” moment. When did the Lord plan this job? When was my promotion orchestrated? Though the enemy will try to keep you from accomplishing God’s ordained will\, he cannot; his tricks will become the steppingstones and launching pads to your success (2 Corinthians 4:16-17). As he turns up the heat\, know that your blessing is on the way. \nPsalm 84:6 Even when their paths wind through the dark valley of tears\, they dig deep to find a pleasant pool where others find only pain. He gives to them a brook of blessing filled from the rain of an outpouring. (TPT) \nPlease agree with me as I pray. Then ask the Lord what your prayer should be and wait for His response: \nFather\, Your word says the enemy is cunning\, and he is. I repent for all the times I fell victim to his words and images in my head of failure and despair. He continually tries to make me believe there is no victory for me. He’s been successful plenty of times. I am grateful You are God. So many times\, the enemy used people to speak words to stop my forward movement. I’m grateful because those same people have stood back in amazement at Your work in and through my life\, time and time again. I’m grateful You changed the picture and shut down the words. You have the last word in my life. I have to keep saying it\, not just to the devil\, I have to say it to myself. There is a saying in the world\, “It is not what you know\, it’s who you know”. The world does not really understand; Who I know and What I know is the same. You are Your word\, and Your word is You. Who I know is YOU! I don’t just know about You. I know You. What I know is You are able to do exceedingly and abundantly above anything I can ask or think. All I have to do is believe Your word\, and I do; trust You\, and I do\, and wait for the victory…\n \nAsk the lord what he wants to say to you about today’s devotional and journal it here:
URL:https://yourvisionwriters.com/devotional/psalms-1102/
CATEGORIES:October
END:VEVENT
END:VCALENDAR