BEGIN:VCALENDAR
VERSION:2.0
PRODID:-//At God&#039;s Door Ministries - ECPv6.15.13//NONSGML v1.0//EN
CALSCALE:GREGORIAN
METHOD:PUBLISH
X-ORIGINAL-URL:https://yourvisionwriters.com
X-WR-CALDESC:Events for At God&#039;s Door Ministries
REFRESH-INTERVAL;VALUE=DURATION:PT1H
X-Robots-Tag:noindex
X-PUBLISHED-TTL:PT1H
BEGIN:VTIMEZONE
TZID:America/Chicago
BEGIN:DAYLIGHT
TZOFFSETFROM:-0600
TZOFFSETTO:-0500
TZNAME:CDT
DTSTART:20250309T080000
END:DAYLIGHT
BEGIN:STANDARD
TZOFFSETFROM:-0500
TZOFFSETTO:-0600
TZNAME:CST
DTSTART:20251102T070000
END:STANDARD
BEGIN:DAYLIGHT
TZOFFSETFROM:-0600
TZOFFSETTO:-0500
TZNAME:CDT
DTSTART:20260308T080000
END:DAYLIGHT
BEGIN:STANDARD
TZOFFSETFROM:-0500
TZOFFSETTO:-0600
TZNAME:CST
DTSTART:20261101T070000
END:STANDARD
BEGIN:DAYLIGHT
TZOFFSETFROM:-0600
TZOFFSETTO:-0500
TZNAME:CDT
DTSTART:20270314T080000
END:DAYLIGHT
BEGIN:STANDARD
TZOFFSETFROM:-0500
TZOFFSETTO:-0600
TZNAME:CST
DTSTART:20271107T070000
END:STANDARD
END:VTIMEZONE
BEGIN:VEVENT
DTSTART;VALUE=DATE:20261021
DTEND;VALUE=DATE:20261022
DTSTAMP:20260422T215753
CREATED:20251224T122140Z
LAST-MODIFIED:20260113T134732Z
UID:10000311-1792540800-1792627199@yourvisionwriters.com
SUMMARY:1 Corinthians 1:18
DESCRIPTION:1 Corinthians 1:18 For the preaching of the cross is to them that perish foolishness; but unto us which are saved it is the power of God. (KJV) \nAre you testifying to the power of God? \nAgnostics claim either it is not possible to have absolute or certain knowledge of God\, or they do not know of a supreme being. Atheists don’t believe in the Lord God or any other god. Sinners\, if they don’t fall into either of those two categories\, simply have not yet come to know the Lord for themselves. What do all three have in common? They are all perishing. \n2 Corinthians 4:3-4 But even if our Gospel (the glad tidings) also be hidden (obscured and covered up with a veil that hinders the knowledge of God)\, it is hidden [only] to those who are perishing and obscured [only] to those who are spiritually dying and veiled [only] to those who are lost. 4 For the god of this world has blinded the unbelievers’ minds [that they should not discern the truth]\, preventing them from seeing the illuminating light of the Gospel of the glory of Christ (the Messiah)\, Who is the Image and Likeness of God. (AMPC) \nAs you live your life\, you may have the opportunity to witness to a person in one or all three categories. An agnostic is a person who believes that nothing is known or can be known of the existence or nature of God. An atheist is a person who disbelieves or lacks belief in the existence of God. For both of them\, if there were no God\, neither of them would have a definition for their lives. The existence of God gives their lives description and foundation. Tell her\, if there was no God\, there would be no need for her to profess what she does not believe or recognize as true. Let him know it is not a matter of what he thinks. It’s not a matter of how she feels\, nor what she can prove. It is a matter of faith. Explain to him\, he exercises faith all day\, every day. The only difference and benefit is with this leap of faith\, she gains the source of all knowledge and the love and power of God. \nJeremiah 33:3 Call to Me and I will answer you and show you great and mighty things\, fenced in and hidden\, which you do not know (do not distinguish and recognize\, have knowledge of and understand). (AMPC) \nTo the unsaved\, remind him of the love and power of God which God provides through salvation. Tell her it is available\, right now. \nJohn 3:16 For God so greatly loved and dearly prized the world that He [even] gave up His only begotten (unique) Son\, so that whoever believes in (trusts in\, clings to\, relies on) Him shall not perish (come to destruction\, be lost) but have eternal (everlasting) life. (AMPC) \nAs you are talking\, the Holy Spirit will remind you it is the same love and power that transformed Jesus from the Son of God into the son of man. The same love and power that allowed Him to be crucified in order to take the keys to hell\, death\, and the grave. The same love and power that gave Jesus victory on the third day when He rose and set the captives free. The Holy Spirit is empowering you to give them your testimony. Tell her who you were\, what God did for you\, and who you are now. Tell him that same God is waiting to transform his life as well. \nMark 5:19 Stay here; I want you to go back home to your own people and let them see what the Lord has done—how He has had mercy on you. (TVT) \nJohn 4:39 Many from the Samaritan village became believers in Jesus because of the woman’s testimony: “He told me everything I ever did!” (TPT) \nThe transformation in your life acknowledges the power of God and gives place to their transformation as well. \nPlease agree with me as I pray. Then ask the Lord what your prayer should be and wait for His response: \nFather\, when I look at me\, I know You are the only God\, You are my God\, and my God is God. Only You could save me. Only You could transform me\, mind\, body\, and spirit. Only You\, God\, could create in me a clean heart and renew a right spirit in me. I repent for passing on the opportunity to be a living testimony to the truth of Your existence and Your power. With each new chance You give me to witness\, please help me not to debate. Help me give my testimony simply\, and therefore\, powerfully. Help me tell who I once was\, how You changed me\, and who I am today. Help me talk about Your goodness\, Your mercy and Your lovingkindness. Help me speak according to Your word\, which says\, if You be lifted up\, You’ll draw all men unto You…\n \nAsk the lord what he wants to say to you about today’s devotional and journal it here:
URL:https://yourvisionwriters.com/devotional/1-corinthians-118/
CATEGORIES:October
END:VEVENT
END:VCALENDAR